From mboxrd@z Thu Jan  1 00:00:00 1970
Return-Path: <test-report-bounces@dpdk.org>
Received: from mails.dpdk.org (mails.dpdk.org [217.70.189.124])
	by inbox.dpdk.org (Postfix) with ESMTP id 698F143EC3
	for <public@inbox.dpdk.org>; Tue, 16 Jul 2024 17:16:30 +0200 (CEST)
Received: from mails.dpdk.org (localhost [127.0.0.1])
	by mails.dpdk.org (Postfix) with ESMTP id 6589640BA6;
	Tue, 16 Jul 2024 17:16:30 +0200 (CEST)
Received: from mail-pg1-f225.google.com (mail-pg1-f225.google.com
 [209.85.215.225])
 by mails.dpdk.org (Postfix) with ESMTP id E5ED8406B4
 for <test-report@dpdk.org>; Tue, 16 Jul 2024 17:16:28 +0200 (CEST)
Received: by mail-pg1-f225.google.com with SMTP id
 41be03b00d2f7-78512d44a13so3785731a12.1
 for <test-report@dpdk.org>; Tue, 16 Jul 2024 08:16:28 -0700 (PDT)
DKIM-Signature: v=1; a=rsa-sha256; c=relaxed/relaxed;
 d=iol.unh.edu; s=unh-iol; t=1721142988; x=1721747788; darn=dpdk.org;
 h=references:in-reply-to:cc:to:from:subject:message-id:date:from:to
 :cc:subject:date:message-id:reply-to;
 bh=OQ8uUxl1D1OxO9bvj3BX29j42ItVvI4ab7WV3vZeZe8=;
 b=fBl/4bfKtbX+V7lXbB442r5ExUg8BbXLdFvYQhAAXY6PrYGyu1rz4VosjqpZlxdSlq
 5hqOLnxrDXqVrxurg6CAjg5p4p0bDS1pAo8C/PT9dpDlDH5qIm+ry1ttFW7oEg3Dw+3m
 +3reLKH/50EN+te8UN4minJzFS+0kTf4CDoVw=
X-Google-DKIM-Signature: v=1; a=rsa-sha256; c=relaxed/relaxed;
 d=1e100.net; s=20230601; t=1721142988; x=1721747788;
 h=references:in-reply-to:cc:to:from:subject:message-id:date
 :x-gm-message-state:from:to:cc:subject:date:message-id:reply-to;
 bh=OQ8uUxl1D1OxO9bvj3BX29j42ItVvI4ab7WV3vZeZe8=;
 b=GuP415pkrYG7HUFge1qgq6baVlnAuflDLLDgSovcweME3hHpSepBH7LdieGePGQAp5
 jsJ9ZwLSudTCYGHJtZse/w3lG6efiQu8Ija7mvStec0BQoaWtDrEKYEfBF4EMWJYBkbg
 0CAUAyyplDnglknaFUWOofrllsOZAT/NdVYF+jnPR138n+nRzooVWMjeNJX1q2TAx5M/
 DgrUTtpbumfd+OU8cDOcYbgeH/C3THjGGFrgvfR0N5Q628OILjtmTvzQab1yQ9H4xlv/
 JkeeovJw+pv9TaDgAIi5Yw9xCbVPf8Dk2dJnliot63fMpV3569CDt+CkqVMFHZzclcdh
 Pxjw==
X-Gm-Message-State: AOJu0YyDKdrWqHIDYugJKb3qaAXFzGgFzwzpVcH6UbSCnPMNOd5yG+wE
 32b/dJhcuMLgLNsWdeyClx2TozAEP60K6bnbOHuo/nK509osi34Mz/Mg0ZH+uxxwKWrDQGg/QSv
 KOPcNcBOJLmq73uN8DyOC1TiJQptiPoOONliBLNBE
X-Google-Smtp-Source: AGHT+IG6N+TRMDT8RlUZZlMz9+EPLivDET14KuRteLCzC5gj9Jl36ueICF6eIc5adCA5ONcBuiwIv0nGjrNz
X-Received: by 2002:a17:90b:d91:b0:2c9:9c25:7581 with SMTP id
 98e67ed59e1d1-2cb37426e7fmr1860981a91.16.1721142987921; 
 Tue, 16 Jul 2024 08:16:27 -0700 (PDT)
Received: from postal.iol.unh.edu (postal.iol.unh.edu. [132.177.123.84])
 by smtp-relay.gmail.com with ESMTPS id
 98e67ed59e1d1-2caedbe60cdsm533093a91.2.2024.07.16.08.16.27
 (version=TLS1_2 cipher=ECDHE-ECDSA-AES128-GCM-SHA256 bits=128/128);
 Tue, 16 Jul 2024 08:16:27 -0700 (PDT)
X-Relaying-Domain: iol.unh.edu
Date: Tue, 16 Jul 2024 08:16:27 -0700 (PDT)
Message-ID: <66968ecb.170a0220.87484.ab12SMTPIN_ADDED_MISSING@mx.google.com>
Received: from [172.21.0.7] (unknown [172.18.0.240])
 by postal.iol.unh.edu (Postfix) with ESMTP id 563F2605C351;
 Tue, 16 Jul 2024 11:16:27 -0400 (EDT)
Subject: |PENDING| pw142428-142446 [PATCH] [v9,21/21] net/ntnic: add physical
From: dpdklab@iol.unh.edu
To: Test Report <test-report@dpdk.org>
Cc: dpdk-test-reports@iol.unh.edu
In-Reply-To: <20240716120216.3032484-21-sil-plv@napatech.com>
References: <20240716120216.3032484-21-sil-plv@napatech.com>
Content-Type: text/plain
X-BeenThere: test-report@dpdk.org
X-Mailman-Version: 2.1.29
Precedence: list
List-Id: automatic DPDK test reports <test-report.dpdk.org>
List-Unsubscribe: <https://mails.dpdk.org/options/test-report>,
 <mailto:test-report-request@dpdk.org?subject=unsubscribe>
List-Archive: <http://mails.dpdk.org/archives/test-report/>
List-Post: <mailto:test-report@dpdk.org>
List-Help: <mailto:test-report-request@dpdk.org?subject=help>
List-Subscribe: <https://mails.dpdk.org/listinfo/test-report>,
 <mailto:test-report-request@dpdk.org?subject=subscribe>
Errors-To: test-report-bounces@dpdk.org

Test-Label: iol-abi-testing
Test-Status: PENDING
http://dpdk.org/patch/142446

_Testing pending_

Submitter: Serhii Iliushyk <sil-plv@napatech.com>
Date: Tuesday, July 16 2024 12:02:10 
DPDK git baseline: Repo:dpdk
  Branch: master
  CommitID:fa8d2f7f28524a6c8defa3dcd94f5aa131aae084

142428-142446 --> testing pending

Test environment and result as below:

+-------------------+----------+
|    Environment    | abi_test |
+===================+==========+
| CentOS Stream 8   | PEND     |
+-------------------+----------+
| Debian Bullseye   | PASS     |
+-------------------+----------+
| CentOS Stream 9   | PEND     |
+-------------------+----------+
| Fedora 38 (Clang) | PASS     |
+-------------------+----------+
| Debian 12         | PEND     |
+-------------------+----------+
| Fedora 38         | PEND     |
+-------------------+----------+
| Fedora 39 (Clang) | PASS     |
+-------------------+----------+
| Fedora 39         | PEND     |
+-------------------+----------+
| Fedora 40 (Clang) | PASS     |
+-------------------+----------+
| Fedora 40         | PASS     |
+-------------------+----------+
| openSUSE Leap 15  | PEND     |
+-------------------+----------+
| RHEL8             | PEND     |
+-------------------+----------+
| Ubuntu 22.04      | PASS     |
+-------------------+----------+
| RHEL9             | PEND     |
+-------------------+----------+
| Ubuntu 24.04      | PEND     |
+-------------------+----------+


CentOS Stream 8
	Kernel: 5.4.0-167-generic
	Compiler: gcc 8.5.0 20210514

Debian Bullseye
	Kernel: 5.4.0-167-generic
	Compiler: gcc 10.2.1-6

CentOS Stream 9
	Kernel: 5.4.0-167-generic
	Compiler: gcc 11.4.1 20230605

Fedora 38 (Clang)
	Kernel: Depends on container host
	Compiler: clang 16.0.6

Debian 12
	Kernel: Container Host Kernel
	Compiler: gcc 12.2.0

Fedora 38
	Kernel: Depends on container host
	Compiler: gcc 13.2.1

Fedora 39 (Clang)
	Kernel: Depends on container host
	Compiler: clang 17.0.6

Fedora 39
	Kernel: Depends on container host
	Compiler: gcc 13.2.1

Fedora 40 (Clang)
	Kernel: Depends on container host
	Compiler: clang 18.1.6

Fedora 40
	Kernel: Depends on container host
	Compiler: gcc 14.1.1

openSUSE Leap 15
	Kernel: 5.4.0-167-generic
	Compiler: gcc 7.5.0

RHEL8
	Kernel: 5.4.0-167-generic
	Compiler: gcc 8.5.0 20210514 (Red Hat 8.5.0-20)

Ubuntu 22.04
	Kernel: 5.4.0-167-generic
	Compiler: gcc 11.4.0

RHEL9
	Kernel: Depends on container host
	Compiler: gcc 11.4.1

Ubuntu 24.04
	Kernel: 5.4.0-167-generic
	Compiler: gcc 13.2.0

To view detailed results, visit:
https://lab.dpdk.org/results/dashboard/patchsets/30529/

UNH-IOL DPDK Community Lab

To manage your email subscriptions, visit: 
https://lab.dpdk.org/results/dashboard/preferences/subscriptions/