From mboxrd@z Thu Jan  1 00:00:00 1970
Return-Path: <test-report-bounces@dpdk.org>
Received: from mails.dpdk.org (mails.dpdk.org [217.70.189.124])
	by inbox.dpdk.org (Postfix) with ESMTP id 8A71843EC3
	for <public@inbox.dpdk.org>; Tue, 16 Jul 2024 17:22:12 +0200 (CEST)
Received: from mails.dpdk.org (localhost [127.0.0.1])
	by mails.dpdk.org (Postfix) with ESMTP id 8601F40BA6;
	Tue, 16 Jul 2024 17:22:12 +0200 (CEST)
Received: from mail-vs1-f97.google.com (mail-vs1-f97.google.com
 [209.85.217.97]) by mails.dpdk.org (Postfix) with ESMTP id 8A17D406B4
 for <test-report@dpdk.org>; Tue, 16 Jul 2024 17:21:55 +0200 (CEST)
Received: by mail-vs1-f97.google.com with SMTP id
 ada2fe7eead31-48ffa17fa2fso1714215137.0
 for <test-report@dpdk.org>; Tue, 16 Jul 2024 08:21:55 -0700 (PDT)
DKIM-Signature: v=1; a=rsa-sha256; c=relaxed/relaxed;
 d=iol.unh.edu; s=unh-iol; t=1721143314; x=1721748114; darn=dpdk.org;
 h=references:in-reply-to:cc:to:from:subject:message-id:date:from:to
 :cc:subject:date:message-id:reply-to;
 bh=U8EJDraN9bwlrsuzAY5SRrzEuEXLUzWaBASwqlnew0Y=;
 b=hIpcm+wd3u11u6jTbrHeLB7cE/X+fm0noVA/HBOkA4uhcKRjm0uR5qb0R7lWlI57rO
 QZ4HSKyV8kAPBInBVMIE+xDKJRrGB8QmmSgOak/7mKerRsAboLXzEXM/IOkJ9FSE4kzC
 A7AQEmQIhj4D3gz716Qdfba87Jd/yYDq/2oj0=
X-Google-DKIM-Signature: v=1; a=rsa-sha256; c=relaxed/relaxed;
 d=1e100.net; s=20230601; t=1721143314; x=1721748114;
 h=references:in-reply-to:cc:to:from:subject:message-id:date
 :x-gm-message-state:from:to:cc:subject:date:message-id:reply-to;
 bh=U8EJDraN9bwlrsuzAY5SRrzEuEXLUzWaBASwqlnew0Y=;
 b=aSaF0Ag5OvA7vgjAkQSFj5lq7WyLX6NVchyEnLI86nEhXqrDo031O9oGENhDE7Nl1Q
 CNlsivL2yDskQWkeZ+Ank3jfwq37eXj/wDN12TkjCo2tZmzE7sS/f2z2VfevTtDc/JEg
 80TIGz0TpkgbL3X6Kw0t7RBP/9KR1G+ZAOdsgpX+3NTJruj7AEhAaUP5+REmD8Vilxbr
 AlKBybwZS8DEF+ze8+tOhIJ/V/DB5RjO1CC4lfSanq7cNQlTtT3fGepCNXdPrL7KisI9
 yB8QrYmg7cbo4NF/iQlgmxT/qbJzdj4uy5naI8Xts3kIE0uInEH+qWzDcuoUjntPX6Ya
 Wjfg==
X-Gm-Message-State: AOJu0YwINF5b15ZKDvwGfvQ657cIfnq5RqteTmZoq0pKnFE6Hm3Jj38d
 1iNiNOZELXXOMozHaCMmraRvByd4+lFCq+6utxHM/bUoGS0a3WTEdQK29fqqCoH8zZGZsNTZjyV
 /pPnNXZs+8N6cEOU+5XngBcfrMU5sDQyvg2LYqI4u
X-Google-Smtp-Source: AGHT+IF1/vsMJV13eV7/A5LIVfjN9wlNwWKrZvD90o79ihqOAOHzY/CUZ1GEiSMnKgFN9r/WGlGRX0OJqKnb
X-Received: by 2002:a05:6122:4693:b0:4ed:75b:e872 with SMTP id
 71dfb90a1353d-4f4d6f3b241mr1358908e0c.5.1721143313075; 
 Tue, 16 Jul 2024 08:21:53 -0700 (PDT)
Received: from postal.iol.unh.edu (postal.iol.unh.edu. [132.177.123.84])
 by smtp-relay.gmail.com with ESMTPS id
 71dfb90a1353d-4f4d6f36db1sm76670e0c.6.2024.07.16.08.21.52
 (version=TLS1_2 cipher=ECDHE-ECDSA-AES128-GCM-SHA256 bits=128/128);
 Tue, 16 Jul 2024 08:21:53 -0700 (PDT)
X-Relaying-Domain: iol.unh.edu
Date: Tue, 16 Jul 2024 08:21:53 -0700 (PDT)
Message-ID: <66969011.1f0a0220.1f686.3f24SMTPIN_ADDED_MISSING@mx.google.com>
Received: from [172.21.0.9] (unknown [172.18.0.240])
 by postal.iol.unh.edu (Postfix) with ESMTP id B91C1605C351;
 Tue, 16 Jul 2024 11:21:51 -0400 (EDT)
Subject: |PENDING| pw142424-142423 [PATCH] [v2,2/2] net/ngbe: disable LLDP by
From: dpdklab@iol.unh.edu
To: Test Report <test-report@dpdk.org>
Cc: dpdk-test-reports@iol.unh.edu
In-Reply-To: <20240716081653.449541-2-jiawenwu@trustnetic.com>
References: <20240716081653.449541-2-jiawenwu@trustnetic.com>
Content-Type: text/plain
X-BeenThere: test-report@dpdk.org
X-Mailman-Version: 2.1.29
Precedence: list
List-Id: automatic DPDK test reports <test-report.dpdk.org>
List-Unsubscribe: <https://mails.dpdk.org/options/test-report>,
 <mailto:test-report-request@dpdk.org?subject=unsubscribe>
List-Archive: <http://mails.dpdk.org/archives/test-report/>
List-Post: <mailto:test-report@dpdk.org>
List-Help: <mailto:test-report-request@dpdk.org?subject=help>
List-Subscribe: <https://mails.dpdk.org/listinfo/test-report>,
 <mailto:test-report-request@dpdk.org?subject=subscribe>
Errors-To: test-report-bounces@dpdk.org

Test-Label: iol-unit-amd64-testing
Test-Status: PENDING
http://dpdk.org/patch/142423

_Testing pending_

Submitter: Jiawen Wu <jiawenwu@trustnetic.com>
Date: Tuesday, July 16 2024 08:16:53 
DPDK git baseline: Repo:dpdk
  Branch: master
  CommitID:fa8d2f7f28524a6c8defa3dcd94f5aa131aae084

142424-142423 --> testing pending

Test environment and result as below:

+---------------------+----------------+
|     Environment     | dpdk_unit_test |
+=====================+================+
| Windows Server 2022 | PASS           |
+---------------------+----------------+
| Windows Server 2019 | PASS           |
+---------------------+----------------+
| CentOS Stream 8     | PASS           |
+---------------------+----------------+
| CentOS Stream 9     | PASS           |
+---------------------+----------------+
| Debian Bullseye     | PASS           |
+---------------------+----------------+
| Debian 12           | PEND           |
+---------------------+----------------+
| Fedora 37           | PEND           |
+---------------------+----------------+


Windows Server 2022
	Kernel: 10.0.20348.2031
	Compiler: clang 15.0.7, gcc 8.1.0 (MinGW), and MSVC VS 17.9

Windows Server 2019
	Kernel: 10.0.17763
	Compiler: clang 14.0 and gcc 8.1.0 (MinGW)

CentOS Stream 8
	Kernel: 5.4.0-167-generic
	Compiler: gcc 8.5.0 20210514

CentOS Stream 9
	Kernel: 5.4.0-167-generic
	Compiler: gcc 11.4.1 20230605

Debian Bullseye
	Kernel: 5.4.0-167-generic
	Compiler: gcc 10.2.1-6

Debian 12
	Kernel: Container Host Kernel
	Compiler: gcc 12.2.0

Fedora 37
	Kernel: Depends on container host system
	Compiler: gcc 12.3.1

To view detailed results, visit:
https://lab.dpdk.org/results/dashboard/patchsets/30527/

UNH-IOL DPDK Community Lab

To manage your email subscriptions, visit: 
https://lab.dpdk.org/results/dashboard/preferences/subscriptions/