From mboxrd@z Thu Jan  1 00:00:00 1970
Return-Path: <test-report-bounces@dpdk.org>
Received: from mails.dpdk.org (mails.dpdk.org [217.70.189.124])
	by inbox.dpdk.org (Postfix) with ESMTP id ABA7F43EC3
	for <public@inbox.dpdk.org>; Tue, 16 Jul 2024 17:33:24 +0200 (CEST)
Received: from mails.dpdk.org (localhost [127.0.0.1])
	by mails.dpdk.org (Postfix) with ESMTP id 8C4AC40F1A;
	Tue, 16 Jul 2024 17:33:24 +0200 (CEST)
Received: from mail-il1-f228.google.com (mail-il1-f228.google.com
 [209.85.166.228])
 by mails.dpdk.org (Postfix) with ESMTP id 939F4406B4
 for <test-report@dpdk.org>; Tue, 16 Jul 2024 17:33:22 +0200 (CEST)
Received: by mail-il1-f228.google.com with SMTP id
 e9e14a558f8ab-38abd30a1c9so22285425ab.3
 for <test-report@dpdk.org>; Tue, 16 Jul 2024 08:33:22 -0700 (PDT)
DKIM-Signature: v=1; a=rsa-sha256; c=relaxed/relaxed;
 d=iol.unh.edu; s=unh-iol; t=1721144002; x=1721748802; darn=dpdk.org;
 h=references:in-reply-to:cc:to:from:subject:message-id:date:from:to
 :cc:subject:date:message-id:reply-to;
 bh=EIN9SaugtoqJJLNOyuuIYJsNj5OP15wgKD8GbGwC9Tw=;
 b=dVe+Mw31rECeH2Vsd316hYQCJZ3ARxcIDr59BNqhaZP//OcL+qXVBaNCKO5s/yxKXS
 dWuKsM1oKRolRQ6CZjnViLGlbl123ls5MVUBUqm+SThLICkNWfgxO3TIqn4Y4/tWmH+R
 E0naB5SRvFt2dad7MszBbwqK1BVzaM1mXSfhw=
X-Google-DKIM-Signature: v=1; a=rsa-sha256; c=relaxed/relaxed;
 d=1e100.net; s=20230601; t=1721144002; x=1721748802;
 h=references:in-reply-to:cc:to:from:subject:message-id:date
 :x-gm-message-state:from:to:cc:subject:date:message-id:reply-to;
 bh=EIN9SaugtoqJJLNOyuuIYJsNj5OP15wgKD8GbGwC9Tw=;
 b=w58dDAbOqqisOeKnEwvaYCzS87Fzi8iNAQ2MgvunTw4KJOO1hSYUCSP9V80V4Rodb4
 tb2GqAUTexKxc0VOXw9crzXO0d4A5a2Qf3zkvi2Zv9Pwob8EDfVws/4XPud5bwfymVZF
 ibTYlUaeeYeqMTtuhyog96+O5kLpJgL0yC2Rs4i2O0FTDQqaLyHoPo/3FYJ4t+XFF2UP
 KVbaiX1xJG3AzIuz1yVopnnLg3dfSlyrpMO7kDIwlTk7Lm3HdgNTd/DU07WhJZMRIwNc
 TOGhuEqKKhi1w1FBLoLytIN+oU05PhKnn1uihzODTFn8hR5AMufCupuJdpvhkAlfDnvW
 Vi1Q==
X-Gm-Message-State: AOJu0Yw2iScCxTdYTn6j72OVX2D1DyS3r7+kZYwvI6ZQ5YX5peaY7t4o
 2kYpXjjAiQT9TNb/BLuddXaiknUInoZpvigZwbHdmsFlBonk94AmoGxWOPmUty/49kDVKERFyf+
 aPtI0DcP1loiRxML8H6lHoNQAe4MIjEd/tuhCZ+X7aMSIXghK1seJL/mv
X-Google-Smtp-Source: AGHT+IGYajzg2G+AZHdxfXCzru8UboMG1UuYuqG5L+brHhiad2IuHdwy8GBkvNIwDe6EzbrOV408er+9nm3S
X-Received: by 2002:a05:6e02:214c:b0:380:fd76:3d9e with SMTP id
 e9e14a558f8ab-393d27ad9e4mr37131685ab.22.1721144001873; 
 Tue, 16 Jul 2024 08:33:21 -0700 (PDT)
Received: from postal.iol.unh.edu (postal.iol.unh.edu.
 [2606:4100:3880:1234::84]) by smtp-relay.gmail.com with ESMTPS id
 e9e14a558f8ab-3901178a799sm5308125ab.51.2024.07.16.08.33.21
 (version=TLS1_2 cipher=ECDHE-ECDSA-AES128-GCM-SHA256 bits=128/128);
 Tue, 16 Jul 2024 08:33:21 -0700 (PDT)
X-Relaying-Domain: iol.unh.edu
Date: Tue, 16 Jul 2024 08:33:21 -0700 (PDT)
Message-ID: <669692c1.050a0220.94a7f.ae0eSMTPIN_ADDED_MISSING@mx.google.com>
Received: from [172.21.0.6] (unknown [172.18.0.240])
 by postal.iol.unh.edu (Postfix) with ESMTP id 69085605C351;
 Tue, 16 Jul 2024 11:33:21 -0400 (EDT)
Subject: |PENDING| pw142424-142423 [PATCH] [v2,2/2] net/ngbe: disable LLDP by
From: dpdklab@iol.unh.edu
To: Test Report <test-report@dpdk.org>
Cc: dpdk-test-reports@iol.unh.edu
In-Reply-To: <20240716081653.449541-2-jiawenwu@trustnetic.com>
References: <20240716081653.449541-2-jiawenwu@trustnetic.com>
Content-Type: text/plain
X-BeenThere: test-report@dpdk.org
X-Mailman-Version: 2.1.29
Precedence: list
List-Id: automatic DPDK test reports <test-report.dpdk.org>
List-Unsubscribe: <https://mails.dpdk.org/options/test-report>,
 <mailto:test-report-request@dpdk.org?subject=unsubscribe>
List-Archive: <http://mails.dpdk.org/archives/test-report/>
List-Post: <mailto:test-report@dpdk.org>
List-Help: <mailto:test-report-request@dpdk.org?subject=help>
List-Subscribe: <https://mails.dpdk.org/listinfo/test-report>,
 <mailto:test-report-request@dpdk.org?subject=subscribe>
Errors-To: test-report-bounces@dpdk.org

Test-Label: iol-unit-arm64-testing
Test-Status: PENDING
http://dpdk.org/patch/142423

_Testing pending_

Submitter: Jiawen Wu <jiawenwu@trustnetic.com>
Date: Tuesday, July 16 2024 08:16:53 
DPDK git baseline: Repo:dpdk
  Branch: master
  CommitID:fa8d2f7f28524a6c8defa3dcd94f5aa131aae084

142424-142423 --> testing pending

Test environment and result as below:

+-----------------------------+----------------+---------------------------+------------------------------+
|         Environment         | dpdk_unit_test | cryptodev_sw_zuc_autotest | cryptodev_sw_snow3g_autotest |
+=============================+================+===========================+==============================+
| 32-bit Ubuntu 20.04.4 (ARM) | PASS           | SKIPPED                   | SKIPPED                      |
+-----------------------------+----------------+---------------------------+------------------------------+
| CentOS Stream 9 (ARM)       | PASS           | SKIPPED                   | SKIPPED                      |
+-----------------------------+----------------+---------------------------+------------------------------+
| Debian 12 (arm)             | PASS           | PASS                      | PASS                         |
+-----------------------------+----------------+---------------------------+------------------------------+
| Debian 11 (Buster) (ARM)    | PASS           | SKIPPED                   | SKIPPED                      |
+-----------------------------+----------------+---------------------------+------------------------------+
| Fedora 37 (ARM)             | PASS           | SKIPPED                   | SKIPPED                      |
+-----------------------------+----------------+---------------------------+------------------------------+
| Fedora 38 (ARM)             | PASS           | SKIPPED                   | SKIPPED                      |
+-----------------------------+----------------+---------------------------+------------------------------+
| Fedora 38 (ARM Clang)       | PEND           | SKIPPED                   | SKIPPED                      |
+-----------------------------+----------------+---------------------------+------------------------------+
| Fedora 39 (ARM)             | PEND           | SKIPPED                   | SKIPPED                      |
+-----------------------------+----------------+---------------------------+------------------------------+
| Fedora 39 (ARM Clang)       | PEND           | SKIPPED                   | SKIPPED                      |
+-----------------------------+----------------+---------------------------+------------------------------+
| Fedora 40 (ARM)             | PEND           | SKIPPED                   | SKIPPED                      |
+-----------------------------+----------------+---------------------------+------------------------------+
| Fedora 40 (ARM Clang)       | PEND           | SKIPPED                   | SKIPPED                      |
+-----------------------------+----------------+---------------------------+------------------------------+
| RHEL9 (ARM)                 | PEND           | SKIPPED                   | SKIPPED                      |
+-----------------------------+----------------+---------------------------+------------------------------+
| Ubuntu 20.04 (ARM)          | PEND           | SKIPPED                   | SKIPPED                      |
+-----------------------------+----------------+---------------------------+------------------------------+
| Ubuntu 22.04 (ARM)          | PEND           | SKIPPED                   | SKIPPED                      |
+-----------------------------+----------------+---------------------------+------------------------------+
| Ubuntu 24.04 (ARM)          | PEND           | SKIPPED                   | SKIPPED                      |
+-----------------------------+----------------+---------------------------+------------------------------+


32-bit Ubuntu 20.04.4 (ARM)
	Kernel: 5.4.0-155-generic aarch64
	Compiler: gcc 9.4

CentOS Stream 9 (ARM)
	Kernel: Container Host Kernel
	Compiler: gcc 11.4.1

Debian 12 (arm)
	Kernel: Container Host Kernel
	Compiler: gcc 12.2.0

Debian 11 (Buster) (ARM)
	Kernel: Container Host Kernel
	Compiler: gcc 10.2.1

Fedora 37 (ARM)
	Kernel: Depends on container host
	Compiler: gcc 12.3.1

Fedora 38 (ARM)
	Kernel: Depends on container host
	Compiler: gcc 13.2.1

Fedora 38 (ARM Clang)
	Kernel: Depends on container host
	Compiler: clang 16.0.6

Fedora 39 (ARM)
	Kernel: Depends on container host
	Compiler: gcc 13.2.1

Fedora 39 (ARM Clang)
	Kernel: Depends on container host
	Compiler: clang 17.0.6

Fedora 40 (ARM)
	Kernel: Depends on container host
	Compiler: gcc 14.1.1

Fedora 40 (ARM Clang)
	Kernel: Depends on container host
	Compiler: clang 18.1.6

RHEL9 (ARM)
	Kernel: Depends on container host
	Compiler: gcc 11.4.1

Ubuntu 20.04 (ARM)
	Kernel: Container Host Kernel
	Compiler: gcc 9.4.0

Ubuntu 22.04 (ARM)
	Kernel: Container Host Kernel
	Compiler: gcc 11.4.0

Ubuntu 24.04 (ARM)
	Kernel: 5.4.0-167-generic
	Compiler: gcc 13.2.0

To view detailed results, visit:
https://lab.dpdk.org/results/dashboard/patchsets/30527/

UNH-IOL DPDK Community Lab

To manage your email subscriptions, visit: 
https://lab.dpdk.org/results/dashboard/preferences/subscriptions/