From mboxrd@z Thu Jan  1 00:00:00 1970
Return-Path: <test-report-bounces@dpdk.org>
Received: from mails.dpdk.org (mails.dpdk.org [217.70.189.124])
	by inbox.dpdk.org (Postfix) with ESMTP id 565EF43EC3
	for <public@inbox.dpdk.org>; Tue, 16 Jul 2024 17:38:31 +0200 (CEST)
Received: from mails.dpdk.org (localhost [127.0.0.1])
	by mails.dpdk.org (Postfix) with ESMTP id 4A8C140F1A;
	Tue, 16 Jul 2024 17:38:31 +0200 (CEST)
Received: from mail-oo1-f97.google.com (mail-oo1-f97.google.com
 [209.85.161.97]) by mails.dpdk.org (Postfix) with ESMTP id 4AFD3406B4
 for <test-report@dpdk.org>; Tue, 16 Jul 2024 17:38:25 +0200 (CEST)
Received: by mail-oo1-f97.google.com with SMTP id
 006d021491bc7-5c791729c36so3117138eaf.3
 for <test-report@dpdk.org>; Tue, 16 Jul 2024 08:38:25 -0700 (PDT)
DKIM-Signature: v=1; a=rsa-sha256; c=relaxed/relaxed;
 d=iol.unh.edu; s=unh-iol; t=1721144304; x=1721749104; darn=dpdk.org;
 h=references:in-reply-to:cc:to:from:subject:message-id:date:from:to
 :cc:subject:date:message-id:reply-to;
 bh=07L6CX5uQkV47aokz+o0gOMfupT0St458tkcLBBaFKA=;
 b=QYa0W/Ql4DAxC20rwFFHUmNZ6aXwYezZs6eLY5h4SEM1OX22GU9tJV49cZbkxXh9tj
 D47JpJRTDzCLgkneErgXjbHtQGtNx0oFso5wggNjt1ZLQrToV1YQgmKec4e/ZpQSAORr
 wPy8LV+LzF44uqQuJHCrRJyx+JyYfwPJtHQLI=
X-Google-DKIM-Signature: v=1; a=rsa-sha256; c=relaxed/relaxed;
 d=1e100.net; s=20230601; t=1721144304; x=1721749104;
 h=references:in-reply-to:cc:to:from:subject:message-id:date
 :x-gm-message-state:from:to:cc:subject:date:message-id:reply-to;
 bh=07L6CX5uQkV47aokz+o0gOMfupT0St458tkcLBBaFKA=;
 b=IZ8MzIx2WI5kJ50qC/tQ/2UL6wHa5gr/y7ytcm7HI/7Z/Bw2FBU2kmSkCN2LJfhP/X
 sQ2S2CTu3+9FF/ipetLeidA407ibAU+eVXRoDD5buvVRkwfyJi85aUyfwonwrDHa2++4
 0uI5eyrH/z+rsiuG8DBoVAOEx2nx2HjrmamsKPDEoDhEwarPcBI5y1WmDwTNledtDHV7
 R+JFiaQcXGyQYnv1I9Iylwwso+g0W4GyvkNb2eLOQm8SUPtx5noPL5hVIeGACvTIKMhV
 kt3uA7y4rOccwPaKIDt4BIRGf4HUSEK3Pu2AmQc3Y0uNGZFpA1fOqaXmafN9weNeHvre
 tXfA==
X-Gm-Message-State: AOJu0Yw0GtoU/yqQD1S2OXXzvfDgXGJsZQ+cMXhOcQZRbRjQC/10daPB
 +7rusil7zGhL3rxNM5j5LJo+ADgKS0RRpkze8bLUwWbbkn19lZWGG/Fo/j9H1jk1/0Up/yP6eIc
 AnH6uOEcF++WIByLSZlGOTK3zlsfL3gdUhPN+7KcVUc9IVICw1tH9g7+1
X-Google-Smtp-Source: AGHT+IEBXhoqvoXUUzjtUbnwAhBtjSxtJDByP0Hrm60RJwBxUMoLSMELw2U66s4vvxfH4BqGrpbR0ThuIJwE
X-Received: by 2002:a05:6871:7425:b0:254:aff3:134a with SMTP id
 586e51a60fabf-260bdf9bd33mr1817199fac.39.1721144304390; 
 Tue, 16 Jul 2024 08:38:24 -0700 (PDT)
Received: from postal.iol.unh.edu (postal.iol.unh.edu.
 [2606:4100:3880:1234::84]) by smtp-relay.gmail.com with ESMTPS id
 586e51a60fabf-26074e0bf9csm124393fac.0.2024.07.16.08.38.24
 (version=TLS1_2 cipher=ECDHE-ECDSA-AES128-GCM-SHA256 bits=128/128);
 Tue, 16 Jul 2024 08:38:24 -0700 (PDT)
X-Relaying-Domain: iol.unh.edu
Date: Tue, 16 Jul 2024 08:38:24 -0700 (PDT)
Message-ID: <669693f0.050a0220.a7e54.74ceSMTPIN_ADDED_MISSING@mx.google.com>
Received: from [172.21.0.7] (unknown [172.18.0.240])
 by postal.iol.unh.edu (Postfix) with ESMTP id DA0F7605C351;
 Tue, 16 Jul 2024 11:38:23 -0400 (EDT)
Subject: |PENDING| pw142424-142423 [PATCH] [v2,2/2] net/ngbe: disable LLDP by
From: dpdklab@iol.unh.edu
To: Test Report <test-report@dpdk.org>
Cc: dpdk-test-reports@iol.unh.edu
In-Reply-To: <20240716081653.449541-2-jiawenwu@trustnetic.com>
References: <20240716081653.449541-2-jiawenwu@trustnetic.com>
Content-Type: text/plain
X-BeenThere: test-report@dpdk.org
X-Mailman-Version: 2.1.29
Precedence: list
List-Id: automatic DPDK test reports <test-report.dpdk.org>
List-Unsubscribe: <https://mails.dpdk.org/options/test-report>,
 <mailto:test-report-request@dpdk.org?subject=unsubscribe>
List-Archive: <http://mails.dpdk.org/archives/test-report/>
List-Post: <mailto:test-report@dpdk.org>
List-Help: <mailto:test-report-request@dpdk.org?subject=help>
List-Subscribe: <https://mails.dpdk.org/listinfo/test-report>,
 <mailto:test-report-request@dpdk.org?subject=subscribe>
Errors-To: test-report-bounces@dpdk.org

Test-Label: iol-unit-arm64-testing
Test-Status: PENDING
http://dpdk.org/patch/142423

_Testing pending_

Submitter: Jiawen Wu <jiawenwu@trustnetic.com>
Date: Tuesday, July 16 2024 08:16:53 
DPDK git baseline: Repo:dpdk
  Branch: master
  CommitID:fa8d2f7f28524a6c8defa3dcd94f5aa131aae084

142424-142423 --> testing pending

Test environment and result as below:

+-----------------------------+----------------+---------------------------+------------------------------+
|         Environment         | dpdk_unit_test | cryptodev_sw_zuc_autotest | cryptodev_sw_snow3g_autotest |
+=============================+================+===========================+==============================+
| 32-bit Ubuntu 20.04.4 (ARM) | PASS           | SKIPPED                   | SKIPPED                      |
+-----------------------------+----------------+---------------------------+------------------------------+
| CentOS Stream 9 (ARM)       | PASS           | SKIPPED                   | SKIPPED                      |
+-----------------------------+----------------+---------------------------+------------------------------+
| Debian 12 (arm)             | PASS           | PASS                      | PASS                         |
+-----------------------------+----------------+---------------------------+------------------------------+
| Debian 11 (Buster) (ARM)    | PASS           | SKIPPED                   | SKIPPED                      |
+-----------------------------+----------------+---------------------------+------------------------------+
| Fedora 37 (ARM)             | PASS           | SKIPPED                   | SKIPPED                      |
+-----------------------------+----------------+---------------------------+------------------------------+
| Fedora 38 (ARM)             | PASS           | SKIPPED                   | SKIPPED                      |
+-----------------------------+----------------+---------------------------+------------------------------+
| Fedora 38 (ARM Clang)       | PEND           | SKIPPED                   | SKIPPED                      |
+-----------------------------+----------------+---------------------------+------------------------------+
| Fedora 39 (ARM)             | PASS           | SKIPPED                   | SKIPPED                      |
+-----------------------------+----------------+---------------------------+------------------------------+
| Fedora 39 (ARM Clang)       | PEND           | SKIPPED                   | SKIPPED                      |
+-----------------------------+----------------+---------------------------+------------------------------+
| Fedora 40 (ARM)             | PASS           | SKIPPED                   | SKIPPED                      |
+-----------------------------+----------------+---------------------------+------------------------------+
| Fedora 40 (ARM Clang)       | PEND           | SKIPPED                   | SKIPPED                      |
+-----------------------------+----------------+---------------------------+------------------------------+
| RHEL9 (ARM)                 | PEND           | SKIPPED                   | SKIPPED                      |
+-----------------------------+----------------+---------------------------+------------------------------+
| Ubuntu 20.04 (ARM)          | PEND           | SKIPPED                   | SKIPPED                      |
+-----------------------------+----------------+---------------------------+------------------------------+
| Ubuntu 22.04 (ARM)          | PEND           | SKIPPED                   | SKIPPED                      |
+-----------------------------+----------------+---------------------------+------------------------------+
| Ubuntu 24.04 (ARM)          | PEND           | SKIPPED                   | SKIPPED                      |
+-----------------------------+----------------+---------------------------+------------------------------+


32-bit Ubuntu 20.04.4 (ARM)
	Kernel: 5.4.0-155-generic aarch64
	Compiler: gcc 9.4

CentOS Stream 9 (ARM)
	Kernel: Container Host Kernel
	Compiler: gcc 11.4.1

Debian 12 (arm)
	Kernel: Container Host Kernel
	Compiler: gcc 12.2.0

Debian 11 (Buster) (ARM)
	Kernel: Container Host Kernel
	Compiler: gcc 10.2.1

Fedora 37 (ARM)
	Kernel: Depends on container host
	Compiler: gcc 12.3.1

Fedora 38 (ARM)
	Kernel: Depends on container host
	Compiler: gcc 13.2.1

Fedora 38 (ARM Clang)
	Kernel: Depends on container host
	Compiler: clang 16.0.6

Fedora 39 (ARM)
	Kernel: Depends on container host
	Compiler: gcc 13.2.1

Fedora 39 (ARM Clang)
	Kernel: Depends on container host
	Compiler: clang 17.0.6

Fedora 40 (ARM)
	Kernel: Depends on container host
	Compiler: gcc 14.1.1

Fedora 40 (ARM Clang)
	Kernel: Depends on container host
	Compiler: clang 18.1.6

RHEL9 (ARM)
	Kernel: Depends on container host
	Compiler: gcc 11.4.1

Ubuntu 20.04 (ARM)
	Kernel: Container Host Kernel
	Compiler: gcc 9.4.0

Ubuntu 22.04 (ARM)
	Kernel: Container Host Kernel
	Compiler: gcc 11.4.0

Ubuntu 24.04 (ARM)
	Kernel: 5.4.0-167-generic
	Compiler: gcc 13.2.0

To view detailed results, visit:
https://lab.dpdk.org/results/dashboard/patchsets/30527/

UNH-IOL DPDK Community Lab

To manage your email subscriptions, visit: 
https://lab.dpdk.org/results/dashboard/preferences/subscriptions/