From mboxrd@z Thu Jan  1 00:00:00 1970
Return-Path: <test-report-bounces@dpdk.org>
Received: from mails.dpdk.org (mails.dpdk.org [217.70.189.124])
	by inbox.dpdk.org (Postfix) with ESMTP id 9209A43EC3
	for <public@inbox.dpdk.org>; Tue, 16 Jul 2024 17:39:43 +0200 (CEST)
Received: from mails.dpdk.org (localhost [127.0.0.1])
	by mails.dpdk.org (Postfix) with ESMTP id 8DB0640F1A;
	Tue, 16 Jul 2024 17:39:43 +0200 (CEST)
Received: from mail-qv1-f97.google.com (mail-qv1-f97.google.com
 [209.85.219.97]) by mails.dpdk.org (Postfix) with ESMTP id 61BB1406B4
 for <test-report@dpdk.org>; Tue, 16 Jul 2024 17:39:41 +0200 (CEST)
Received: by mail-qv1-f97.google.com with SMTP id
 6a1803df08f44-6b5ecafbf88so28829316d6.3
 for <test-report@dpdk.org>; Tue, 16 Jul 2024 08:39:41 -0700 (PDT)
DKIM-Signature: v=1; a=rsa-sha256; c=relaxed/relaxed;
 d=iol.unh.edu; s=unh-iol; t=1721144380; x=1721749180; darn=dpdk.org;
 h=references:in-reply-to:cc:to:from:subject:message-id:date:from:to
 :cc:subject:date:message-id:reply-to;
 bh=x/8Lm2rQJkKlI1NV2pHTYkIfsEW/KbKe/CUU0U7D9/U=;
 b=eQ8di7xvSNfVzq108338+oNB0E6ZvuOSwDbdlX82f7ZJM1FzOi+lnQrVjGpkwavT8Q
 v/4iiQ1aQmisWQGbJOGRKztULC2fWvBH+u2AORynsOg17kcbYj615MeFkIPIzH25Zs85
 JmeStkjcM0NEpx1YvEVXoAzFLrt8MqX7ZRB14=
X-Google-DKIM-Signature: v=1; a=rsa-sha256; c=relaxed/relaxed;
 d=1e100.net; s=20230601; t=1721144380; x=1721749180;
 h=references:in-reply-to:cc:to:from:subject:message-id:date
 :x-gm-message-state:from:to:cc:subject:date:message-id:reply-to;
 bh=x/8Lm2rQJkKlI1NV2pHTYkIfsEW/KbKe/CUU0U7D9/U=;
 b=FnpCFUfzSOcPz1yILd49nQsQ5tpUQxI3Cas8Zt9vbZS2MZ6usDMPGC9k70ZZigpsuj
 QjgAAn6BEkaSGhXsamOELbRQ77MrtqUFpZ+aJHq4EbnxfI4lZQFn2CZ9raWP8rHMEPvf
 qTAwgw0EtFxiuBBpN9vJ9+/w9YMmqxKe+715SU003hF4k3lVNtvMycpAWVPL2WAl3F+Q
 OQfHfnLE8I1YR0c9xWbKx/Dq22r3Ffj10OJHNP+cZq3bDeSg5e8YIqy/4nYXoByFkJY4
 1Gd+MTTKrZh2qPNW0iO71TqwVK34QhEJe8T5xk2obRMOLaVvrktXExD5WQ+VIEoMxAgc
 usvg==
X-Gm-Message-State: AOJu0Yw+rWW6WG/WeCPY/u2cseUKg7Qf29jbq1OA9Cy5e9rZit6uLZZe
 MVeqey5TS6KB2J5JSuOfEGnomid3AOgbG8UO7VYlCt4szjDx+4jQCHNvGV/jDDrKiH4w62OTaIj
 LZPMESSqwCpERZMyIT03yRcb/jPz+IVhCtowZF9/b
X-Google-Smtp-Source: AGHT+IGbydG+jBFJz6O1ZW/i42JeMaZh9eD7FuUj9PzkjBPgAu96HQcEpzjRAQNvo1/VTOhNZdsXOlzjdjHh
X-Received: by 2002:ad4:5bc4:0:b0:6b5:16b:6998 with SMTP id
 6a1803df08f44-6b77f530498mr34267196d6.42.1721144380343; 
 Tue, 16 Jul 2024 08:39:40 -0700 (PDT)
Received: from postal.iol.unh.edu (postal.iol.unh.edu. [132.177.123.84])
 by smtp-relay.gmail.com with ESMTPS id
 6a1803df08f44-6b761a5d119sm3943256d6.67.2024.07.16.08.39.40
 (version=TLS1_2 cipher=ECDHE-ECDSA-AES128-GCM-SHA256 bits=128/128);
 Tue, 16 Jul 2024 08:39:40 -0700 (PDT)
X-Relaying-Domain: iol.unh.edu
Date: Tue, 16 Jul 2024 08:39:40 -0700 (PDT)
Message-ID: <6696943c.050a0220.80ecf.3711SMTPIN_ADDED_MISSING@mx.google.com>
Received: from [172.21.0.6] (unknown [172.18.0.240])
 by postal.iol.unh.edu (Postfix) with ESMTP id 1394C605C351;
 Tue, 16 Jul 2024 11:39:40 -0400 (EDT)
Subject: |PENDING| pw142424-142423 [PATCH] [v2,2/2] net/ngbe: disable LLDP by
From: dpdklab@iol.unh.edu
To: Test Report <test-report@dpdk.org>
Cc: dpdk-test-reports@iol.unh.edu
In-Reply-To: <20240716081653.449541-2-jiawenwu@trustnetic.com>
References: <20240716081653.449541-2-jiawenwu@trustnetic.com>
Content-Type: text/plain
X-BeenThere: test-report@dpdk.org
X-Mailman-Version: 2.1.29
Precedence: list
List-Id: automatic DPDK test reports <test-report.dpdk.org>
List-Unsubscribe: <https://mails.dpdk.org/options/test-report>,
 <mailto:test-report-request@dpdk.org?subject=unsubscribe>
List-Archive: <http://mails.dpdk.org/archives/test-report/>
List-Post: <mailto:test-report@dpdk.org>
List-Help: <mailto:test-report-request@dpdk.org?subject=help>
List-Subscribe: <https://mails.dpdk.org/listinfo/test-report>,
 <mailto:test-report-request@dpdk.org?subject=subscribe>
Errors-To: test-report-bounces@dpdk.org

Test-Label: iol-unit-amd64-testing
Test-Status: PENDING
http://dpdk.org/patch/142423

_Testing pending_

Submitter: Jiawen Wu <jiawenwu@trustnetic.com>
Date: Tuesday, July 16 2024 08:16:53 
DPDK git baseline: Repo:dpdk
  Branch: master
  CommitID:fa8d2f7f28524a6c8defa3dcd94f5aa131aae084

142424-142423 --> testing pending

Test environment and result as below:

+---------------------+----------------+
|     Environment     | dpdk_unit_test |
+=====================+================+
| Windows Server 2022 | PASS           |
+---------------------+----------------+
| Windows Server 2019 | PASS           |
+---------------------+----------------+
| CentOS Stream 8     | PASS           |
+---------------------+----------------+
| CentOS Stream 9     | PASS           |
+---------------------+----------------+
| Debian Bullseye     | PASS           |
+---------------------+----------------+
| Debian 12           | PASS           |
+---------------------+----------------+
| Fedora 37           | PASS           |
+---------------------+----------------+
| Fedora 39           | PASS           |
+---------------------+----------------+
| Fedora 40           | PASS           |
+---------------------+----------------+
| Fedora 40 (Clang)   | PASS           |
+---------------------+----------------+
| openSUSE Leap 15    | PASS           |
+---------------------+----------------+
| RHEL8               | PASS           |
+---------------------+----------------+
| RHEL9               | PEND           |
+---------------------+----------------+
| Ubuntu 20.04        | PASS           |
+---------------------+----------------+
| Ubuntu 22.04        | PEND           |
+---------------------+----------------+
| Ubuntu 24.04        | PEND           |
+---------------------+----------------+


Windows Server 2022
	Kernel: 10.0.20348.2031
	Compiler: clang 15.0.7, gcc 8.1.0 (MinGW), and MSVC VS 17.9

Windows Server 2019
	Kernel: 10.0.17763
	Compiler: clang 14.0 and gcc 8.1.0 (MinGW)

CentOS Stream 8
	Kernel: 5.4.0-167-generic
	Compiler: gcc 8.5.0 20210514

CentOS Stream 9
	Kernel: 5.4.0-167-generic
	Compiler: gcc 11.4.1 20230605

Debian Bullseye
	Kernel: 5.4.0-167-generic
	Compiler: gcc 10.2.1-6

Debian 12
	Kernel: Container Host Kernel
	Compiler: gcc 12.2.0

Fedora 37
	Kernel: Depends on container host system
	Compiler: gcc 12.3.1

Fedora 39
	Kernel: Depends on container host
	Compiler: gcc 13.2.1

Fedora 40
	Kernel: Depends on container host
	Compiler: gcc 14.1.1

Fedora 40 (Clang)
	Kernel: Depends on container host
	Compiler: clang 18.1.6

openSUSE Leap 15
	Kernel: 5.4.0-167-generic
	Compiler: gcc 7.5.0

RHEL8
	Kernel: 5.4.0-167-generic
	Compiler: gcc 8.5.0 20210514 (Red Hat 8.5.0-20)

RHEL9
	Kernel: Depends on container host
	Compiler: gcc 11.4.1

Ubuntu 20.04
	Kernel: 5.4.0-167-generic
	Compiler: gcc 9.4.0-1ubuntu1~20.04.1

Ubuntu 22.04
	Kernel: 5.4.0-167-generic
	Compiler: gcc 11.4.0

Ubuntu 24.04
	Kernel: 5.4.0-167-generic
	Compiler: gcc 13.2.0

To view detailed results, visit:
https://lab.dpdk.org/results/dashboard/patchsets/30527/

UNH-IOL DPDK Community Lab

To manage your email subscriptions, visit: 
https://lab.dpdk.org/results/dashboard/preferences/subscriptions/