From mboxrd@z Thu Jan  1 00:00:00 1970
Return-Path: <test-report-bounces@dpdk.org>
Received: from mails.dpdk.org (mails.dpdk.org [217.70.189.124])
	by inbox.dpdk.org (Postfix) with ESMTP id 1C06743EC3
	for <public@inbox.dpdk.org>; Tue, 16 Jul 2024 17:56:45 +0200 (CEST)
Received: from mails.dpdk.org (localhost [127.0.0.1])
	by mails.dpdk.org (Postfix) with ESMTP id 15F7D43396;
	Tue, 16 Jul 2024 17:56:45 +0200 (CEST)
Received: from mail-il1-f226.google.com (mail-il1-f226.google.com
 [209.85.166.226])
 by mails.dpdk.org (Postfix) with ESMTP id B6FB6402D1
 for <test-report@dpdk.org>; Tue, 16 Jul 2024 17:56:43 +0200 (CEST)
Received: by mail-il1-f226.google.com with SMTP id
 e9e14a558f8ab-382458be739so24077365ab.1
 for <test-report@dpdk.org>; Tue, 16 Jul 2024 08:56:43 -0700 (PDT)
DKIM-Signature: v=1; a=rsa-sha256; c=relaxed/relaxed;
 d=iol.unh.edu; s=unh-iol; t=1721145403; x=1721750203; darn=dpdk.org;
 h=references:in-reply-to:cc:to:from:subject:message-id:date:from:to
 :cc:subject:date:message-id:reply-to;
 bh=tdf8Kq0aHUOy220tx7FPZUHdBcSdTTiHVzru9XSGJfk=;
 b=Ci80nUl8KmHZGkW0jb0lhWgmJgKs/KDV72dRvCs9Kedma/AecotO9trRGcj44ETKIG
 Ju7/8DfYnkvsxsCFGemFYeaxQ5RhfgSj7V6FtGjBSPalquItWYCaq6PWXiw2bDH7SWim
 uGbDj4QhnvH0t9BC6AnDhFCfzarzUQsvYggAY=
X-Google-DKIM-Signature: v=1; a=rsa-sha256; c=relaxed/relaxed;
 d=1e100.net; s=20230601; t=1721145403; x=1721750203;
 h=references:in-reply-to:cc:to:from:subject:message-id:date
 :x-gm-message-state:from:to:cc:subject:date:message-id:reply-to;
 bh=tdf8Kq0aHUOy220tx7FPZUHdBcSdTTiHVzru9XSGJfk=;
 b=ih3hJ4LusfUG5f6I69l/nj4vvJhbNHGd3qSKT2xIzQetNGbP65u823d87/LmQK0naa
 NvdrlySSQXlhzKmom6i/V6qq2bFQStX3JfuZ/JXkrn8ssMGlkBbHo+zZrlWjaGj0bzf7
 CD8u2cejMez6Ggam91ixS5FFESV4vNQdalyS3f1E+afoJlDnQp2jW96/6zR+BO6ayr7n
 2LhACQSIJNLv0d6rMR2jegS2AHkwGvmnnHchu0ePCKu2vZ0Tcom1L3XGWK69oMcer1Bz
 pxryl9gF4xucCdykHd/9NtkIn7G5YKG3KGrZ8wbvQazk5E8pF40cXkPrAZ7ti76FjoP1
 RNTQ==
X-Gm-Message-State: AOJu0YxXyPBoKTFjxuVbfZcmxA01oVKz/8a849VNkTnf9Ueadk3irDwk
 rjl9zmuDIEe6ciG5WuUO47rK22UHh6RWrWI+PxusoDcrzgzmRIC0qVMrqfOFz625JZu7cQiOm/f
 HTSrQfTbaW5RKV3sFjgS5Tfg+SOoA439lz+YHqAHBpzmuZ86UjQ9ROS13
X-Google-Smtp-Source: AGHT+IHrwaBCC//hxr4btQdHnIOu/rJlk03ly8m5bu4ERXMWU7Yixo1sbWA0b1J1I50tUUj1Nz/sKdXjdmO1
X-Received: by 2002:a05:6e02:218c:b0:38b:727e:d1d with SMTP id
 e9e14a558f8ab-393d3176067mr28514675ab.27.1721145403098; 
 Tue, 16 Jul 2024 08:56:43 -0700 (PDT)
Received: from postal.iol.unh.edu (postal.iol.unh.edu.
 [2606:4100:3880:1234::84]) by smtp-relay.gmail.com with ESMTPS id
 e9e14a558f8ab-3900ff041c5sm5332615ab.22.2024.07.16.08.56.43
 (version=TLS1_2 cipher=ECDHE-ECDSA-AES128-GCM-SHA256 bits=128/128);
 Tue, 16 Jul 2024 08:56:43 -0700 (PDT)
X-Relaying-Domain: iol.unh.edu
Date: Tue, 16 Jul 2024 08:56:43 -0700 (PDT)
Message-ID: <6696983b.920a0220.f36bc.c382SMTPIN_ADDED_MISSING@mx.google.com>
Received: from [172.21.0.6] (unknown [172.18.0.240])
 by postal.iol.unh.edu (Postfix) with ESMTP id A2567605C351;
 Tue, 16 Jul 2024 11:56:42 -0400 (EDT)
Subject: |PENDING| pw142424-142423 [PATCH] [v2,2/2] net/ngbe: disable LLDP by
From: dpdklab@iol.unh.edu
To: Test Report <test-report@dpdk.org>
Cc: dpdk-test-reports@iol.unh.edu
In-Reply-To: <20240716081653.449541-2-jiawenwu@trustnetic.com>
References: <20240716081653.449541-2-jiawenwu@trustnetic.com>
Content-Type: text/plain
X-BeenThere: test-report@dpdk.org
X-Mailman-Version: 2.1.29
Precedence: list
List-Id: automatic DPDK test reports <test-report.dpdk.org>
List-Unsubscribe: <https://mails.dpdk.org/options/test-report>,
 <mailto:test-report-request@dpdk.org?subject=unsubscribe>
List-Archive: <http://mails.dpdk.org/archives/test-report/>
List-Post: <mailto:test-report@dpdk.org>
List-Help: <mailto:test-report-request@dpdk.org?subject=help>
List-Subscribe: <https://mails.dpdk.org/listinfo/test-report>,
 <mailto:test-report-request@dpdk.org?subject=subscribe>
Errors-To: test-report-bounces@dpdk.org

Test-Label: iol-unit-arm64-testing
Test-Status: PENDING
http://dpdk.org/patch/142423

_Testing pending_

Submitter: Jiawen Wu <jiawenwu@trustnetic.com>
Date: Tuesday, July 16 2024 08:16:53 
DPDK git baseline: Repo:dpdk
  Branch: master
  CommitID:fa8d2f7f28524a6c8defa3dcd94f5aa131aae084

142424-142423 --> testing pending

Test environment and result as below:

+-----------------------------+----------------+---------------------------+------------------------------+
|         Environment         | dpdk_unit_test | cryptodev_sw_zuc_autotest | cryptodev_sw_snow3g_autotest |
+=============================+================+===========================+==============================+
| 32-bit Ubuntu 20.04.4 (ARM) | PASS           | SKIPPED                   | SKIPPED                      |
+-----------------------------+----------------+---------------------------+------------------------------+
| CentOS Stream 9 (ARM)       | PASS           | SKIPPED                   | SKIPPED                      |
+-----------------------------+----------------+---------------------------+------------------------------+
| Debian 12 (arm)             | PASS           | PASS                      | PASS                         |
+-----------------------------+----------------+---------------------------+------------------------------+
| Debian 11 (Buster) (ARM)    | PASS           | SKIPPED                   | SKIPPED                      |
+-----------------------------+----------------+---------------------------+------------------------------+
| Fedora 37 (ARM)             | PASS           | SKIPPED                   | SKIPPED                      |
+-----------------------------+----------------+---------------------------+------------------------------+
| Fedora 38 (ARM)             | PASS           | SKIPPED                   | SKIPPED                      |
+-----------------------------+----------------+---------------------------+------------------------------+
| Fedora 38 (ARM Clang)       | PASS           | SKIPPED                   | SKIPPED                      |
+-----------------------------+----------------+---------------------------+------------------------------+
| Fedora 39 (ARM)             | PASS           | SKIPPED                   | SKIPPED                      |
+-----------------------------+----------------+---------------------------+------------------------------+
| Fedora 39 (ARM Clang)       | PEND           | SKIPPED                   | SKIPPED                      |
+-----------------------------+----------------+---------------------------+------------------------------+
| Fedora 40 (ARM)             | PASS           | SKIPPED                   | SKIPPED                      |
+-----------------------------+----------------+---------------------------+------------------------------+
| Fedora 40 (ARM Clang)       | PEND           | SKIPPED                   | SKIPPED                      |
+-----------------------------+----------------+---------------------------+------------------------------+
| RHEL9 (ARM)                 | PASS           | SKIPPED                   | SKIPPED                      |
+-----------------------------+----------------+---------------------------+------------------------------+
| Ubuntu 20.04 (ARM)          | PASS           | SKIPPED                   | SKIPPED                      |
+-----------------------------+----------------+---------------------------+------------------------------+
| Ubuntu 22.04 (ARM)          | PEND           | SKIPPED                   | SKIPPED                      |
+-----------------------------+----------------+---------------------------+------------------------------+
| Ubuntu 24.04 (ARM)          | PEND           | SKIPPED                   | SKIPPED                      |
+-----------------------------+----------------+---------------------------+------------------------------+


32-bit Ubuntu 20.04.4 (ARM)
	Kernel: 5.4.0-155-generic aarch64
	Compiler: gcc 9.4

CentOS Stream 9 (ARM)
	Kernel: Container Host Kernel
	Compiler: gcc 11.4.1

Debian 12 (arm)
	Kernel: Container Host Kernel
	Compiler: gcc 12.2.0

Debian 11 (Buster) (ARM)
	Kernel: Container Host Kernel
	Compiler: gcc 10.2.1

Fedora 37 (ARM)
	Kernel: Depends on container host
	Compiler: gcc 12.3.1

Fedora 38 (ARM)
	Kernel: Depends on container host
	Compiler: gcc 13.2.1

Fedora 38 (ARM Clang)
	Kernel: Depends on container host
	Compiler: clang 16.0.6

Fedora 39 (ARM)
	Kernel: Depends on container host
	Compiler: gcc 13.2.1

Fedora 39 (ARM Clang)
	Kernel: Depends on container host
	Compiler: clang 17.0.6

Fedora 40 (ARM)
	Kernel: Depends on container host
	Compiler: gcc 14.1.1

Fedora 40 (ARM Clang)
	Kernel: Depends on container host
	Compiler: clang 18.1.6

RHEL9 (ARM)
	Kernel: Depends on container host
	Compiler: gcc 11.4.1

Ubuntu 20.04 (ARM)
	Kernel: Container Host Kernel
	Compiler: gcc 9.4.0

Ubuntu 22.04 (ARM)
	Kernel: Container Host Kernel
	Compiler: gcc 11.4.0

Ubuntu 24.04 (ARM)
	Kernel: 5.4.0-167-generic
	Compiler: gcc 13.2.0

To view detailed results, visit:
https://lab.dpdk.org/results/dashboard/patchsets/30527/

UNH-IOL DPDK Community Lab

To manage your email subscriptions, visit: 
https://lab.dpdk.org/results/dashboard/preferences/subscriptions/