From mboxrd@z Thu Jan  1 00:00:00 1970
Return-Path: <test-report-bounces@dpdk.org>
Received: from mails.dpdk.org (mails.dpdk.org [217.70.189.124])
	by inbox.dpdk.org (Postfix) with ESMTP id EF7B0455F8
	for <public@inbox.dpdk.org>; Tue, 16 Jul 2024 19:28:27 +0200 (CEST)
Received: from mails.dpdk.org (localhost [127.0.0.1])
	by mails.dpdk.org (Postfix) with ESMTP id ED78C40A82;
	Tue, 16 Jul 2024 19:28:27 +0200 (CEST)
Received: from mail-pl1-f226.google.com (mail-pl1-f226.google.com
 [209.85.214.226])
 by mails.dpdk.org (Postfix) with ESMTP id 2BC52402D1
 for <test-report@dpdk.org>; Tue, 16 Jul 2024 19:28:26 +0200 (CEST)
Received: by mail-pl1-f226.google.com with SMTP id
 d9443c01a7336-1fb64d627b0so31010515ad.0
 for <test-report@dpdk.org>; Tue, 16 Jul 2024 10:28:26 -0700 (PDT)
DKIM-Signature: v=1; a=rsa-sha256; c=relaxed/relaxed;
 d=iol.unh.edu; s=unh-iol; t=1721150905; x=1721755705; darn=dpdk.org;
 h=references:in-reply-to:cc:to:from:subject:message-id:date:from:to
 :cc:subject:date:message-id:reply-to;
 bh=DVs8nSP10EHJIk+rWMLiM8R5LoMyTKSedo5szyXkb28=;
 b=guhdC6Metnu2mfF0iscWs/F2LPfy1iOwevdaExW/d30YTwm8cMvxTCCSTaVGln9ie0
 0aa2RyWqX3hIcQ7Qdf3VIZyTQT/lREmS7MIUBDewBbLpRi0TPz463rmxi/PdFFSmFwMu
 y5WpYTOKLy6Q+xSI1sdr/tSLKgT5EPOLtkvNw=
X-Google-DKIM-Signature: v=1; a=rsa-sha256; c=relaxed/relaxed;
 d=1e100.net; s=20230601; t=1721150905; x=1721755705;
 h=references:in-reply-to:cc:to:from:subject:message-id:date
 :x-gm-message-state:from:to:cc:subject:date:message-id:reply-to;
 bh=DVs8nSP10EHJIk+rWMLiM8R5LoMyTKSedo5szyXkb28=;
 b=SyY3rgSc2ZjHBrLqbJl/Cf4qxl5Qb1ld+L+Yr4YDLb5oauHfXvIW/kiuCtOCQGjr1r
 15AgAAlc7q1ZGTE4Gm90Cx9THPWaAsEmjNYKRCUqHTwXDi7Ed4dgvCg1h+nWCxHa/j2y
 p4YvckZFMkGLbCTj7lGvJ4n1a5pQ8JpMadMTHZvsRW2osOCuV22/ts4mSH1eyKb/RDKP
 DGilN+gnV4IZxNFmEHJs4HzvIp6e3w4tVbqCh+S4BFHUmCpUy3QukOdl4Zn6/dBchk72
 kJxgU+QrZcDiSvXusZG2alsfv4FO/KuS9k5Y39UhQqPfNKAzgqgzpJE7Bp05oavQXqtI
 wZHg==
X-Gm-Message-State: AOJu0Yy8TCDQcOWtpZUIA19vJulMVwozjz08+k+LNaT8JT1RsDb8QQXx
 5zostK0GqdRdbQ5gyBolX7pGG2BlYCQeUQz02wrKUjkCD+NY0wVzVE8ngtMNopO8LRRWW6p9XP+
 omKa8qEZX2Aq82rlXUY3QZ+4zhY6ifuBmnIVrcv1c
X-Google-Smtp-Source: AGHT+IF+MUGsMDSd9anaXnWNYwYAUz6oX9KfTmn6tS7lClyLhN85yMxMtpim+7ubHeN/Q6ZTcmveUypUmIZD
X-Received: by 2002:a17:902:da8a:b0:1fb:a077:a843 with SMTP id
 d9443c01a7336-1fc3da0a5d7mr20394485ad.60.1721150905285; 
 Tue, 16 Jul 2024 10:28:25 -0700 (PDT)
Received: from postal.iol.unh.edu (postal.iol.unh.edu. [132.177.123.84])
 by smtp-relay.gmail.com with ESMTPS id
 d9443c01a7336-1fc0bbc26absm1772595ad.68.2024.07.16.10.28.25
 (version=TLS1_2 cipher=ECDHE-ECDSA-AES128-GCM-SHA256 bits=128/128);
 Tue, 16 Jul 2024 10:28:25 -0700 (PDT)
X-Relaying-Domain: iol.unh.edu
Date: Tue, 16 Jul 2024 10:28:25 -0700 (PDT)
Message-ID: <6696adb9.170a0220.e4296.a1aaSMTPIN_ADDED_MISSING@mx.google.com>
Received: from [172.17.0.2] (unknown [172.18.0.217])
 by postal.iol.unh.edu (Postfix) with ESMTP id 74BF6605C351;
 Tue, 16 Jul 2024 13:28:24 -0400 (EDT)
Subject: |PENDING| pw142428-142446 [PATCH] [v9,21/21] net/ntnic: add physical
From: dpdklab@iol.unh.edu
To: Test Report <test-report@dpdk.org>
Cc: dpdk-test-reports@iol.unh.edu
In-Reply-To: <20240716120216.3032484-21-sil-plv@napatech.com>
References: <20240716120216.3032484-21-sil-plv@napatech.com>
Content-Type: text/plain
X-BeenThere: test-report@dpdk.org
X-Mailman-Version: 2.1.29
Precedence: list
List-Id: automatic DPDK test reports <test-report.dpdk.org>
List-Unsubscribe: <https://mails.dpdk.org/options/test-report>,
 <mailto:test-report-request@dpdk.org?subject=unsubscribe>
List-Archive: <http://mails.dpdk.org/archives/test-report/>
List-Post: <mailto:test-report@dpdk.org>
List-Help: <mailto:test-report-request@dpdk.org?subject=help>
List-Subscribe: <https://mails.dpdk.org/listinfo/test-report>,
 <mailto:test-report-request@dpdk.org?subject=subscribe>
Errors-To: test-report-bounces@dpdk.org

Test-Label: iol-unit-amd64-testing
Test-Status: PENDING
http://dpdk.org/patch/142446

_Testing pending_

Submitter: Serhii Iliushyk <sil-plv@napatech.com>
Date: Tuesday, July 16 2024 12:02:10 
DPDK git baseline: Repo:dpdk
  Branch: master
  CommitID:fa8d2f7f28524a6c8defa3dcd94f5aa131aae084

142428-142446 --> testing pending

Test environment and result as below:

+---------------------+----------------+
|     Environment     | dpdk_unit_test |
+=====================+================+
| Windows Server 2019 | PASS           |
+---------------------+----------------+
| Windows Server 2022 | PASS           |
+---------------------+----------------+
| CentOS Stream 8     | PASS           |
+---------------------+----------------+
| Debian Bullseye     | PASS           |
+---------------------+----------------+
| CentOS Stream 9     | PASS           |
+---------------------+----------------+
| Debian 12           | PASS           |
+---------------------+----------------+
| Fedora 37           | PASS           |
+---------------------+----------------+
| Fedora 38           | PASS           |
+---------------------+----------------+
| Fedora 38 (Clang)   | PASS           |
+---------------------+----------------+
| Fedora 39           | PASS           |
+---------------------+----------------+
| Fedora 39 (Clang)   | PASS           |
+---------------------+----------------+
| Fedora 40           | PASS           |
+---------------------+----------------+
| Fedora 40 (Clang)   | PEND           |
+---------------------+----------------+
| openSUSE Leap 15    | PEND           |
+---------------------+----------------+
| RHEL8               | PEND           |
+---------------------+----------------+
| Ubuntu 20.04        | PEND           |
+---------------------+----------------+
| RHEL9               | PEND           |
+---------------------+----------------+
| Ubuntu 22.04        | PEND           |
+---------------------+----------------+
| Ubuntu 24.04        | PEND           |
+---------------------+----------------+


Windows Server 2019
	Kernel: 10.0.17763
	Compiler: clang 14.0 and gcc 8.1.0 (MinGW)

Windows Server 2022
	Kernel: 10.0.20348.2031
	Compiler: clang 15.0.7, gcc 8.1.0 (MinGW), and MSVC VS 17.9

CentOS Stream 8
	Kernel: 5.4.0-167-generic
	Compiler: gcc 8.5.0 20210514

Debian Bullseye
	Kernel: 5.4.0-167-generic
	Compiler: gcc 10.2.1-6

CentOS Stream 9
	Kernel: 5.4.0-167-generic
	Compiler: gcc 11.4.1 20230605

Debian 12
	Kernel: Container Host Kernel
	Compiler: gcc 12.2.0

Fedora 37
	Kernel: Depends on container host system
	Compiler: gcc 12.3.1

Fedora 38
	Kernel: Depends on container host
	Compiler: gcc 13.2.1

Fedora 38 (Clang)
	Kernel: Depends on container host
	Compiler: clang 16.0.6

Fedora 39
	Kernel: Depends on container host
	Compiler: gcc 13.2.1

Fedora 39 (Clang)
	Kernel: Depends on container host
	Compiler: clang 17.0.6

Fedora 40
	Kernel: Depends on container host
	Compiler: gcc 14.1.1

Fedora 40 (Clang)
	Kernel: Depends on container host
	Compiler: clang 18.1.6

openSUSE Leap 15
	Kernel: 5.4.0-167-generic
	Compiler: gcc 7.5.0

RHEL8
	Kernel: 5.4.0-167-generic
	Compiler: gcc 8.5.0 20210514 (Red Hat 8.5.0-20)

Ubuntu 20.04
	Kernel: 5.4.0-167-generic
	Compiler: gcc 9.4.0-1ubuntu1~20.04.1

RHEL9
	Kernel: Depends on container host
	Compiler: gcc 11.4.1

Ubuntu 22.04
	Kernel: 5.4.0-167-generic
	Compiler: gcc 11.4.0

Ubuntu 24.04
	Kernel: 5.4.0-167-generic
	Compiler: gcc 13.2.0

To view detailed results, visit:
https://lab.dpdk.org/results/dashboard/patchsets/30529/

UNH-IOL DPDK Community Lab

To manage your email subscriptions, visit: 
https://lab.dpdk.org/results/dashboard/preferences/subscriptions/