From mboxrd@z Thu Jan  1 00:00:00 1970
Return-Path: <test-report-bounces@dpdk.org>
Received: from mails.dpdk.org (mails.dpdk.org [217.70.189.124])
	by inbox.dpdk.org (Postfix) with ESMTP id DD21645628
	for <public@inbox.dpdk.org>; Tue, 16 Jul 2024 20:15:26 +0200 (CEST)
Received: from mails.dpdk.org (localhost [127.0.0.1])
	by mails.dpdk.org (Postfix) with ESMTP id 1216C433ED;
	Tue, 16 Jul 2024 20:15:26 +0200 (CEST)
Received: from mail-yb1-f225.google.com (mail-yb1-f225.google.com
 [209.85.219.225])
 by mails.dpdk.org (Postfix) with ESMTP id 1F32D4065B
 for <test-report@dpdk.org>; Tue, 16 Jul 2024 20:14:35 +0200 (CEST)
Received: by mail-yb1-f225.google.com with SMTP id
 3f1490d57ef6-e03d49ff259so5215833276.2
 for <test-report@dpdk.org>; Tue, 16 Jul 2024 11:14:35 -0700 (PDT)
DKIM-Signature: v=1; a=rsa-sha256; c=relaxed/relaxed;
 d=iol.unh.edu; s=unh-iol; t=1721153674; x=1721758474; darn=dpdk.org;
 h=references:in-reply-to:cc:to:from:subject:message-id:date:from:to
 :cc:subject:date:message-id:reply-to;
 bh=rf3ArObrdrSkhNQOZsKQjm/2ZoSK6C/rxxvo2DjUD9U=;
 b=Tr8u5EvJ6BaBS8ZnOCrvs6TZJMp2Q33zHea/vyfALrrjZsdUqnDnpgGQl6i30AO0EI
 3nprAWnrwB0Tp4GD47+OyNstxHHOX1yONbEU/CwgWgcDxSGU5XiK/CUfqZbIM66vngTp
 DsAkoe3fEpnGt0xdnY6YsYh/NaHXBY8fdslq4=
X-Google-DKIM-Signature: v=1; a=rsa-sha256; c=relaxed/relaxed;
 d=1e100.net; s=20230601; t=1721153674; x=1721758474;
 h=references:in-reply-to:cc:to:from:subject:message-id:date
 :x-gm-message-state:from:to:cc:subject:date:message-id:reply-to;
 bh=rf3ArObrdrSkhNQOZsKQjm/2ZoSK6C/rxxvo2DjUD9U=;
 b=sMIy093Wcysi/CHL14axmMjs/OIuzpgD3hAlmhw/HjS7GvAUOmrmNZk994HSqVudgX
 CFxZ5gRnm0sTVzGUAcI8Nux/mZyuExsR8rGTDV1uLxItFZLvaZqfaiSy0gTucvfT76Cy
 P+684dYyVsWRuTlDXcS/0OtfsLfMK6gptr7R79EkUoNH6I3cLHVmkrkmjx/ZJ7fUzXSY
 NLtZT3PMmRgDSCXhzKE637ZtFrWbrM5QzVIJyscqVzjEDFtn6T/U23Cy3khaLjxEcYQK
 fU3VUmslEB6k8bP159eoLM5d1SBz4AEZm5P337CMoEXH/gOpGfHR1f79b7N/AQGAUIg6
 rO6g==
X-Gm-Message-State: AOJu0YyyJJwW3eZEFuqLpp0cPmI5pGcfnDQtlo4o3gqHGYWFsNt+9b78
 xcVSTzI5nSSXGYIsQlIS3bwbiW4cCyK+7rkvwI9a9wLJx7//mxzb/BRc+ANS1gN0G5r6PI4/gR0
 xvVDMS5Q2a7qfnM8RJ3J9CsD9eJBlUo4QF6jHnJxO
X-Google-Smtp-Source: AGHT+IHtfVQxK/uKzdc61faJzcwLWVn5iyEGJ224CaJh6w8OeQfepRlegR4YugUnpYKvAq1+IN6Jy5j+xJ3T
X-Received: by 2002:a05:6902:2612:b0:e03:aa52:d804 with SMTP id
 3f1490d57ef6-e05d5dff897mr3917019276.29.1721153674351; 
 Tue, 16 Jul 2024 11:14:34 -0700 (PDT)
Received: from postal.iol.unh.edu (postal.iol.unh.edu. [132.177.123.84])
 by smtp-relay.gmail.com with ESMTPS id
 3f1490d57ef6-e05a46959cesm385642276.30.2024.07.16.11.14.34
 (version=TLS1_2 cipher=ECDHE-ECDSA-AES128-GCM-SHA256 bits=128/128);
 Tue, 16 Jul 2024 11:14:34 -0700 (PDT)
X-Relaying-Domain: iol.unh.edu
Date: Tue, 16 Jul 2024 11:14:34 -0700 (PDT)
Message-ID: <6696b88a.050a0220.66801.326fSMTPIN_ADDED_MISSING@mx.google.com>
Received: from [172.21.0.8] (unknown [172.18.0.240])
 by postal.iol.unh.edu (Postfix) with ESMTP id 02703605C351;
 Tue, 16 Jul 2024 14:14:34 -0400 (EDT)
Subject: |PENDING| pw138647-138648 [PATCH] [2/2] mempool: use rte constant ma
From: dpdklab@iol.unh.edu
To: Test Report <test-report@dpdk.org>
Cc: dpdk-test-reports@iol.unh.edu
In-Reply-To: <1710970416-27841-3-git-send-email-roretzla@linux.microsoft.com>
References: <1710970416-27841-3-git-send-email-roretzla@linux.microsoft.com>
Content-Type: text/plain
X-BeenThere: test-report@dpdk.org
X-Mailman-Version: 2.1.29
Precedence: list
List-Id: automatic DPDK test reports <test-report.dpdk.org>
List-Unsubscribe: <https://mails.dpdk.org/options/test-report>,
 <mailto:test-report-request@dpdk.org?subject=unsubscribe>
List-Archive: <http://mails.dpdk.org/archives/test-report/>
List-Post: <mailto:test-report@dpdk.org>
List-Help: <mailto:test-report-request@dpdk.org?subject=help>
List-Subscribe: <https://mails.dpdk.org/listinfo/test-report>,
 <mailto:test-report-request@dpdk.org?subject=subscribe>
Errors-To: test-report-bounces@dpdk.org

Test-Label: iol-abi-testing
Test-Status: PENDING
http://dpdk.org/patch/138648

_Testing pending RETEST #3_

Submitter: Tyler Retzlaff <roretzla@linux.microsoft.com>
Date: Wednesday, March 20 2024 21:33:36 
DPDK git baseline: Repo:dpdk
  Branch: master
  CommitID:fa8d2f7f28524a6c8defa3dcd94f5aa131aae084

138647-138648 --> testing pending

Test environment and result as below:

+-------------------+----------+
|    Environment    | abi_test |
+===================+==========+
| CentOS Stream 8   | PASS     |
+-------------------+----------+
| CentOS Stream 9   | PASS     |
+-------------------+----------+
| Debian 12         | PEND     |
+-------------------+----------+
| Debian Bullseye   | PASS     |
+-------------------+----------+
| Fedora 39 (Clang) | PASS     |
+-------------------+----------+
| Fedora 38         | PEND     |
+-------------------+----------+
| Fedora 37         | PASS     |
+-------------------+----------+
| Fedora 40         | PEND     |
+-------------------+----------+
| Fedora 39         | PASS     |
+-------------------+----------+
| Fedora 40 (Clang) | PASS     |
+-------------------+----------+
| openSUSE Leap 15  | PASS     |
+-------------------+----------+
| Fedora 38 (Clang) | PASS     |
+-------------------+----------+
| RHEL8             | PASS     |
+-------------------+----------+
| Ubuntu 22.04      | PASS     |
+-------------------+----------+
| RHEL9             | PASS     |
+-------------------+----------+
| Ubuntu 24.04      | PEND     |
+-------------------+----------+


CentOS Stream 8
	Kernel: 5.4.0-167-generic
	Compiler: gcc 8.5.0 20210514

CentOS Stream 9
	Kernel: 5.4.0-167-generic
	Compiler: gcc 11.4.1 20230605

Debian 12
	Kernel: Container Host Kernel
	Compiler: gcc 12.2.0

Debian Bullseye
	Kernel: 5.4.0-167-generic
	Compiler: gcc 10.2.1-6

Fedora 39 (Clang)
	Kernel: Depends on container host
	Compiler: clang 17.0.6

Fedora 38
	Kernel: Depends on container host
	Compiler: gcc 13.2.1

Fedora 37
	Kernel: Depends on container host system
	Compiler: gcc 12.3.1

Fedora 40
	Kernel: Depends on container host
	Compiler: gcc 14.1.1

Fedora 39
	Kernel: Depends on container host
	Compiler: gcc 13.2.1

Fedora 40 (Clang)
	Kernel: Depends on container host
	Compiler: clang 18.1.6

openSUSE Leap 15
	Kernel: 5.4.0-167-generic
	Compiler: gcc 7.5.0

Fedora 38 (Clang)
	Kernel: Depends on container host
	Compiler: clang 16.0.6

RHEL8
	Kernel: 5.4.0-167-generic
	Compiler: gcc 8.5.0 20210514 (Red Hat 8.5.0-20)

Ubuntu 22.04
	Kernel: 5.4.0-167-generic
	Compiler: gcc 11.4.0

RHEL9
	Kernel: Depends on container host
	Compiler: gcc 11.4.1

Ubuntu 24.04
	Kernel: 5.4.0-167-generic
	Compiler: gcc 13.2.0

To view detailed results, visit:
https://lab.dpdk.org/results/dashboard/patchsets/29615/

UNH-IOL DPDK Community Lab

To manage your email subscriptions, visit: 
https://lab.dpdk.org/results/dashboard/preferences/subscriptions/