From mboxrd@z Thu Jan  1 00:00:00 1970
Return-Path: <test-report-bounces@dpdk.org>
Received: from mails.dpdk.org (mails.dpdk.org [217.70.189.124])
	by inbox.dpdk.org (Postfix) with ESMTP id DDE1F45628
	for <public@inbox.dpdk.org>; Tue, 16 Jul 2024 20:22:00 +0200 (CEST)
Received: from mails.dpdk.org (localhost [127.0.0.1])
	by mails.dpdk.org (Postfix) with ESMTP id 1A166433F7;
	Tue, 16 Jul 2024 20:22:00 +0200 (CEST)
Received: from mail-pl1-f226.google.com (mail-pl1-f226.google.com
 [209.85.214.226])
 by mails.dpdk.org (Postfix) with ESMTP id 481ED40A82
 for <test-report@dpdk.org>; Tue, 16 Jul 2024 20:18:54 +0200 (CEST)
Received: by mail-pl1-f226.google.com with SMTP id
 d9443c01a7336-1fb4a807708so52291455ad.2
 for <test-report@dpdk.org>; Tue, 16 Jul 2024 11:18:54 -0700 (PDT)
DKIM-Signature: v=1; a=rsa-sha256; c=relaxed/relaxed;
 d=iol.unh.edu; s=unh-iol; t=1721153933; x=1721758733; darn=dpdk.org;
 h=references:in-reply-to:cc:to:from:subject:message-id:date:from:to
 :cc:subject:date:message-id:reply-to;
 bh=MbZE1nc6qJf+Injz1xQtaRNxZfFUxxmQFxS47bPhw/k=;
 b=R1J70rbeI0jhavIVJCQQZbROnAzrsQUE34tMj1zUj0IsSU187CXx2RtmN5E2IMqxr7
 IDCaaCD0ByhyLLY+3voI4ExiorjWI+KDVFSQEyzJl5ktmTmAhZ8jKmbOtHyKEkc1bacv
 WqHhQ7gng5rGcdhUbteTwj0t16Dn3mBmnGV40=
X-Google-DKIM-Signature: v=1; a=rsa-sha256; c=relaxed/relaxed;
 d=1e100.net; s=20230601; t=1721153933; x=1721758733;
 h=references:in-reply-to:cc:to:from:subject:message-id:date
 :x-gm-message-state:from:to:cc:subject:date:message-id:reply-to;
 bh=MbZE1nc6qJf+Injz1xQtaRNxZfFUxxmQFxS47bPhw/k=;
 b=wNcpLbzkqJdmo+d2kcZFvjNG1dDO31oe3I5CIJIkrNNffDdwyzsI1SoU9fpv5wYlA7
 Az7hi92/n1fJK2Hiwp3TmmS6bg8U2sVVqCnu9HdwV8B+Z44e5ywRVv5+xRYicTiEJtTy
 fBo+z05Bo4Mamo28Uw0qlB5kQ6/nZufWmD7FvzJONfpsQJRDkXaR7gy2s5OTCdo3zEpq
 a3Uo0AxJcbuyrXgiPi3kuiwwF8Unz55xT660yuyhxQzmRHjrx1tYQWEs3iF3PoUNbjc9
 wl7+9jc6AI6b2PAp4Q4dzV2+ALuImN6/kbikHoY9iHliPKtgYDRU5c48gfb+BclFvFMY
 m4ow==
X-Gm-Message-State: AOJu0Yyz6u01CWm4zPkW5ZpYzx9v5kSzsB9w+I49lwKRo9j181I92Z2H
 fAnGIssNmcRrRAtEKfIZunGuk26sozEAv6yYeeCOsZUETS9h4cnO0rJfchL+/iyilbe1ZXqGRqP
 7eROgqvAyJ3qg7pBPe1ETrfIz79L8Y6oCYNCq1zqr75MQA+I0PYd+HJAB
X-Google-Smtp-Source: AGHT+IGk5QHQMJhZovuxdT+yE48FSnapwIq1a+Ss3MVv1arM0+spB3t9kKLcQQauqJqH2TzfwzqsMuWv1rZX
X-Received: by 2002:a17:902:f68b:b0:1fb:4194:5b7a with SMTP id
 d9443c01a7336-1fc3d93a17cmr28890785ad.8.1721153933461; 
 Tue, 16 Jul 2024 11:18:53 -0700 (PDT)
Received: from postal.iol.unh.edu (postal.iol.unh.edu.
 [2606:4100:3880:1234::84]) by smtp-relay.gmail.com with ESMTPS id
 d9443c01a7336-1fc0bb703ccsm1663625ad.3.2024.07.16.11.18.53
 (version=TLS1_2 cipher=ECDHE-ECDSA-AES128-GCM-SHA256 bits=128/128);
 Tue, 16 Jul 2024 11:18:53 -0700 (PDT)
X-Relaying-Domain: iol.unh.edu
Date: Tue, 16 Jul 2024 11:18:53 -0700 (PDT)
Message-ID: <6696b98d.170a0220.3d9ee.9315SMTPIN_ADDED_MISSING@mx.google.com>
Received: from [172.21.0.7] (unknown [172.18.0.240])
 by postal.iol.unh.edu (Postfix) with ESMTP id A2023605C351;
 Tue, 16 Jul 2024 14:18:52 -0400 (EDT)
Subject: |PENDING| pw138647-138648 [PATCH] [2/2] mempool: use rte constant ma
From: dpdklab@iol.unh.edu
To: Test Report <test-report@dpdk.org>
Cc: dpdk-test-reports@iol.unh.edu
In-Reply-To: <1710970416-27841-3-git-send-email-roretzla@linux.microsoft.com>
References: <1710970416-27841-3-git-send-email-roretzla@linux.microsoft.com>
Content-Type: text/plain
X-BeenThere: test-report@dpdk.org
X-Mailman-Version: 2.1.29
Precedence: list
List-Id: automatic DPDK test reports <test-report.dpdk.org>
List-Unsubscribe: <https://mails.dpdk.org/options/test-report>,
 <mailto:test-report-request@dpdk.org?subject=unsubscribe>
List-Archive: <http://mails.dpdk.org/archives/test-report/>
List-Post: <mailto:test-report@dpdk.org>
List-Help: <mailto:test-report-request@dpdk.org?subject=help>
List-Subscribe: <https://mails.dpdk.org/listinfo/test-report>,
 <mailto:test-report-request@dpdk.org?subject=subscribe>
Errors-To: test-report-bounces@dpdk.org

Test-Label: iol-abi-testing
Test-Status: PENDING
http://dpdk.org/patch/138648

_Testing pending RETEST #3_

Submitter: Tyler Retzlaff <roretzla@linux.microsoft.com>
Date: Wednesday, March 20 2024 21:33:36 
DPDK git baseline: Repo:dpdk
  Branch: master
  CommitID:fa8d2f7f28524a6c8defa3dcd94f5aa131aae084

138647-138648 --> testing pending

Test environment and result as below:

+-------------------+----------+
|    Environment    | abi_test |
+===================+==========+
| CentOS Stream 8   | PASS     |
+-------------------+----------+
| CentOS Stream 9   | PASS     |
+-------------------+----------+
| Debian 12         | PASS     |
+-------------------+----------+
| Debian Bullseye   | PASS     |
+-------------------+----------+
| Fedora 39 (Clang) | PASS     |
+-------------------+----------+
| Fedora 38         | PEND     |
+-------------------+----------+
| Fedora 37         | PASS     |
+-------------------+----------+
| Fedora 40         | PEND     |
+-------------------+----------+
| Fedora 39         | PASS     |
+-------------------+----------+
| Fedora 40 (Clang) | PASS     |
+-------------------+----------+
| openSUSE Leap 15  | PASS     |
+-------------------+----------+
| Fedora 38 (Clang) | PASS     |
+-------------------+----------+
| RHEL8             | PASS     |
+-------------------+----------+
| Ubuntu 22.04      | PASS     |
+-------------------+----------+
| RHEL9             | PASS     |
+-------------------+----------+
| Ubuntu 24.04      | PASS     |
+-------------------+----------+


CentOS Stream 8
	Kernel: 5.4.0-167-generic
	Compiler: gcc 8.5.0 20210514

CentOS Stream 9
	Kernel: 5.4.0-167-generic
	Compiler: gcc 11.4.1 20230605

Debian 12
	Kernel: Container Host Kernel
	Compiler: gcc 12.2.0

Debian Bullseye
	Kernel: 5.4.0-167-generic
	Compiler: gcc 10.2.1-6

Fedora 39 (Clang)
	Kernel: Depends on container host
	Compiler: clang 17.0.6

Fedora 38
	Kernel: Depends on container host
	Compiler: gcc 13.2.1

Fedora 37
	Kernel: Depends on container host system
	Compiler: gcc 12.3.1

Fedora 40
	Kernel: Depends on container host
	Compiler: gcc 14.1.1

Fedora 39
	Kernel: Depends on container host
	Compiler: gcc 13.2.1

Fedora 40 (Clang)
	Kernel: Depends on container host
	Compiler: clang 18.1.6

openSUSE Leap 15
	Kernel: 5.4.0-167-generic
	Compiler: gcc 7.5.0

Fedora 38 (Clang)
	Kernel: Depends on container host
	Compiler: clang 16.0.6

RHEL8
	Kernel: 5.4.0-167-generic
	Compiler: gcc 8.5.0 20210514 (Red Hat 8.5.0-20)

Ubuntu 22.04
	Kernel: 5.4.0-167-generic
	Compiler: gcc 11.4.0

RHEL9
	Kernel: Depends on container host
	Compiler: gcc 11.4.1

Ubuntu 24.04
	Kernel: 5.4.0-167-generic
	Compiler: gcc 13.2.0

To view detailed results, visit:
https://lab.dpdk.org/results/dashboard/patchsets/29615/

UNH-IOL DPDK Community Lab

To manage your email subscriptions, visit: 
https://lab.dpdk.org/results/dashboard/preferences/subscriptions/