From mboxrd@z Thu Jan  1 00:00:00 1970
Return-Path: <test-report-bounces@dpdk.org>
Received: from mails.dpdk.org (mails.dpdk.org [217.70.189.124])
	by inbox.dpdk.org (Postfix) with ESMTP id E1E6B4562C
	for <public@inbox.dpdk.org>; Wed, 17 Jul 2024 08:07:42 +0200 (CEST)
Received: from mails.dpdk.org (localhost [127.0.0.1])
	by mails.dpdk.org (Postfix) with ESMTP id DD27840DD7;
	Wed, 17 Jul 2024 08:07:42 +0200 (CEST)
Received: from mail-yb1-f226.google.com (mail-yb1-f226.google.com
 [209.85.219.226])
 by mails.dpdk.org (Postfix) with ESMTP id F1E544025F
 for <test-report@dpdk.org>; Wed, 17 Jul 2024 08:06:53 +0200 (CEST)
Received: by mail-yb1-f226.google.com with SMTP id
 3f1490d57ef6-e057c4885b3so5843509276.3
 for <test-report@dpdk.org>; Tue, 16 Jul 2024 23:06:53 -0700 (PDT)
DKIM-Signature: v=1; a=rsa-sha256; c=relaxed/relaxed;
 d=iol.unh.edu; s=unh-iol; t=1721196413; x=1721801213; darn=dpdk.org;
 h=references:in-reply-to:cc:to:from:subject:message-id:date:from:to
 :cc:subject:date:message-id:reply-to;
 bh=KT2JG93p91xPW3tIFjOGIvT/9xt/nvupLraTn1ZmYKI=;
 b=J6jhl7rCT++EpM8g5iE5MitcC1wZn/QThwWr041Nnxfq5Ciz7v7EEzhqwjIZeLOiow
 gyY9fL0vGgx5ikI+p5A0XKRaJzW52Xnh+PU26O8IYMsEPGSI1OnLmnK9Ec+Lkf9TMuX2
 XsUVITgCpnLN8IBIzd8iSqECZUnT0fYRgnTuw=
X-Google-DKIM-Signature: v=1; a=rsa-sha256; c=relaxed/relaxed;
 d=1e100.net; s=20230601; t=1721196413; x=1721801213;
 h=references:in-reply-to:cc:to:from:subject:message-id:date
 :x-gm-message-state:from:to:cc:subject:date:message-id:reply-to;
 bh=KT2JG93p91xPW3tIFjOGIvT/9xt/nvupLraTn1ZmYKI=;
 b=K+T6N6p1ZvMmZa/gmKmQkPG2J9uLziqBXKAD3CQq4yJgtJZxm2EE8HMOI4ULBQZdEo
 Rs6tIHZgDg8t6rXTWT6E2pCGdFSYoaBnc7z+4qiiezipuTrKa4qQ16U3QXb6Rqz0mjqM
 jG7i3zJpsdzsr0UNXchkB+qLQOYjZj0gMc8naJfv4h9GztcQUpLXgxlYhwCt2JwUb1lI
 DiMwtk89GVCvTjTbhedTP9ezCXzrof8+LQe20wxacT0c969ToiJBa1gnRanh2ryKBuFO
 h6zE7qGg/8XFfrd/t/WPfWN2/LKCxGLosZpk+U12B3mIczbfd9l7CWexlzlWyPVnr4K7
 rWQg==
X-Gm-Message-State: AOJu0YzY+M8SPmNx80DyI++NE+ne9lIXBnqsnYravLxcNthNUOyseMDL
 ZUR7LPvH7omfl/fNPIjhd6D7JOQeib/MF2/+BwrdIAG4LxB4skFYIYMnNCejmZu+tOexsskxX5j
 Nwi8+iDb0GrciSguiDwvq2WkhIA5Wm8KJcqbDlW+/
X-Google-Smtp-Source: AGHT+IHDVAUgRS+p3CBsMIQSH4VXxgjxbR1sL7ugxRw5hp5T/wtm6FPBWN32T+K58DljmxnlOh9ujCmw4A27
X-Received: by 2002:a05:6902:702:b0:e03:5fee:66a with SMTP id
 3f1490d57ef6-e05ed7fb1bamr865018276.42.1721196413390; 
 Tue, 16 Jul 2024 23:06:53 -0700 (PDT)
Received: from postal.iol.unh.edu (postal.iol.unh.edu. [132.177.123.84])
 by smtp-relay.gmail.com with ESMTPS id
 3f1490d57ef6-e05f2701018sm22840276.27.2024.07.16.23.06.53
 (version=TLS1_2 cipher=ECDHE-ECDSA-AES128-GCM-SHA256 bits=128/128);
 Tue, 16 Jul 2024 23:06:53 -0700 (PDT)
X-Relaying-Domain: iol.unh.edu
Date: Tue, 16 Jul 2024 23:06:53 -0700 (PDT)
Message-ID: <66975f7d.050a0220.3caa0f.0d63SMTPIN_ADDED_MISSING@mx.google.com>
Received: from [172.21.0.10] (unknown [172.18.0.240])
 by postal.iol.unh.edu (Postfix) with ESMTP id 0417E605C351;
 Wed, 17 Jul 2024 02:06:53 -0400 (EDT)
Subject: |PENDING| pw142452-142453 [PATCH] [2/2] net/nfp: fix AVX2 vector Rx 
From: dpdklab@iol.unh.edu
To: Test Report <test-report@dpdk.org>
Cc: dpdk-test-reports@iol.unh.edu
In-Reply-To: <20240717032445.442348-3-chaoyong.he@corigine.com>
References: <20240717032445.442348-3-chaoyong.he@corigine.com>
Content-Type: text/plain
X-BeenThere: test-report@dpdk.org
X-Mailman-Version: 2.1.29
Precedence: list
List-Id: automatic DPDK test reports <test-report.dpdk.org>
List-Unsubscribe: <https://mails.dpdk.org/options/test-report>,
 <mailto:test-report-request@dpdk.org?subject=unsubscribe>
List-Archive: <http://mails.dpdk.org/archives/test-report/>
List-Post: <mailto:test-report@dpdk.org>
List-Help: <mailto:test-report-request@dpdk.org?subject=help>
List-Subscribe: <https://mails.dpdk.org/listinfo/test-report>,
 <mailto:test-report-request@dpdk.org?subject=subscribe>
Errors-To: test-report-bounces@dpdk.org

Test-Label: iol-compile-arm64-testing
Test-Status: PENDING
http://dpdk.org/patch/142453

_Testing pending_

Submitter: Chaoyong He <chaoyong.he@corigine.com>
Date: Wednesday, July 17 2024 03:24:45 
DPDK git baseline: Repo:dpdk
  Branch: master
  CommitID:fa8d2f7f28524a6c8defa3dcd94f5aa131aae084

142452-142453 --> testing pending

Test environment and result as below:

+----------------------------------------+--------------------+
|              Environment               | dpdk_meson_compile |
+========================================+====================+
| Fedora 38 (ARM Clang)                  | PEND               |
+----------------------------------------+--------------------+
| RHEL9 (ARM)                            | PASS               |
+----------------------------------------+--------------------+
| Fedora 38 (ARM)                        | PASS               |
+----------------------------------------+--------------------+
| Ubuntu 20.04 ARM GCC Cross Compile     | PEND               |
+----------------------------------------+--------------------+
| Fedora 40 (ARM)                        | PASS               |
+----------------------------------------+--------------------+
| Debian 12 with MUSDK                   | PASS               |
+----------------------------------------+--------------------+
| Fedora 37 (ARM)                        | PASS               |
+----------------------------------------+--------------------+
| Ubuntu 20.04 ARM SVE                   | PASS               |
+----------------------------------------+--------------------+
| Fedora 39 (ARM)                        | PEND               |
+----------------------------------------+--------------------+
| Fedora 39 (ARM Clang)                  | PEND               |
+----------------------------------------+--------------------+
| Debian 11 (Buster) (ARM)               | PEND               |
+----------------------------------------+--------------------+
| Ubuntu 22.04 (ARM)                     | PEND               |
+----------------------------------------+--------------------+
| Ubuntu 20.04 aarch32 GCC Cross Compile | PEND               |
+----------------------------------------+--------------------+
| Ubuntu 20.04 ARM Clang Cross Compile   | PEND               |
+----------------------------------------+--------------------+
| Ubuntu 20.04 (ARM)                     | PEND               |
+----------------------------------------+--------------------+
| Ubuntu 24.04 (ARM)                     | PEND               |
+----------------------------------------+--------------------+
| CentOS Stream 9 (ARM)                  | PEND               |
+----------------------------------------+--------------------+
| Fedora 40 (ARM Clang)                  | PEND               |
+----------------------------------------+--------------------+
| Debian 12 (arm)                        | PEND               |
+----------------------------------------+--------------------+


Fedora 38 (ARM Clang)
	Kernel: Depends on container host
	Compiler: clang 16.0.6

RHEL9 (ARM)
	Kernel: Depends on container host
	Compiler: gcc 11.4.1

Fedora 38 (ARM)
	Kernel: Depends on container host
	Compiler: gcc 13.2.1

Ubuntu 20.04 ARM GCC Cross Compile
	Kernel: 5.4.0-167-generic
	Compiler: aarch64-linux-gnu-gcc (Ubuntu 9.4.0-1ubuntu1~20.04.2) 9.4.0

Fedora 40 (ARM)
	Kernel: Depends on container host
	Compiler: gcc 14.1.1

Debian 12 with MUSDK
	Kernel: Container Host Kernel
	Compiler: gcc 12.2.0

Fedora 37 (ARM)
	Kernel: Depends on container host
	Compiler: gcc 12.3.1

Ubuntu 20.04 ARM SVE
	Kernel: 5.4.0-167-generic
	Compiler: gcc (Ubuntu 10.5.0-1ubuntu1~20.04) 10.5.0

Fedora 39 (ARM)
	Kernel: Depends on container host
	Compiler: gcc 13.2.1

Fedora 39 (ARM Clang)
	Kernel: Depends on container host
	Compiler: clang 17.0.6

Debian 11 (Buster) (ARM)
	Kernel: Container Host Kernel
	Compiler: gcc 10.2.1

Ubuntu 22.04 (ARM)
	Kernel: Container Host Kernel
	Compiler: gcc 11.4.0

Ubuntu 20.04 aarch32 GCC Cross Compile
	Kernel: 5.4.0-167-generic
	Compiler: gcc 9.4.0

Ubuntu 20.04 ARM Clang Cross Compile
	Kernel: 5.4.0-72-generic
	Compiler: clang 10.0.0-4ubuntu1

Ubuntu 20.04 (ARM)
	Kernel: Container Host Kernel
	Compiler: gcc 9.4.0

Ubuntu 24.04 (ARM)
	Kernel: 5.4.0-167-generic
	Compiler: gcc 13.2.0

CentOS Stream 9 (ARM)
	Kernel: Container Host Kernel
	Compiler: gcc 11.4.1

Fedora 40 (ARM Clang)
	Kernel: Depends on container host
	Compiler: clang 18.1.6

Debian 12 (arm)
	Kernel: Container Host Kernel
	Compiler: gcc 12.2.0

To view detailed results, visit:
https://lab.dpdk.org/results/dashboard/patchsets/30534/

UNH-IOL DPDK Community Lab

To manage your email subscriptions, visit: 
https://lab.dpdk.org/results/dashboard/preferences/subscriptions/