From mboxrd@z Thu Jan  1 00:00:00 1970
Return-Path: <test-report-bounces@dpdk.org>
Received: from mails.dpdk.org (mails.dpdk.org [217.70.189.124])
	by inbox.dpdk.org (Postfix) with ESMTP id 16CF24562E
	for <public@inbox.dpdk.org>; Wed, 17 Jul 2024 08:12:41 +0200 (CEST)
Received: from mails.dpdk.org (localhost [127.0.0.1])
	by mails.dpdk.org (Postfix) with ESMTP id 1126140289;
	Wed, 17 Jul 2024 08:12:41 +0200 (CEST)
Received: from mail-ua1-f100.google.com (mail-ua1-f100.google.com
 [209.85.222.100])
 by mails.dpdk.org (Postfix) with ESMTP id 8E6DF4025F
 for <test-report@dpdk.org>; Wed, 17 Jul 2024 08:12:40 +0200 (CEST)
Received: by mail-ua1-f100.google.com with SMTP id
 a1e0cc1a2514c-8100f08b5a8so358808241.0
 for <test-report@dpdk.org>; Tue, 16 Jul 2024 23:12:40 -0700 (PDT)
DKIM-Signature: v=1; a=rsa-sha256; c=relaxed/relaxed;
 d=iol.unh.edu; s=unh-iol; t=1721196760; x=1721801560; darn=dpdk.org;
 h=references:in-reply-to:cc:to:from:subject:message-id:date:from:to
 :cc:subject:date:message-id:reply-to;
 bh=vnosRwubqrVsfhbnaUaq3WVMym4+CtQZUr8vX6IKhvQ=;
 b=XAmrxX1OOMMay7RaXs6sZH7EdbaRld0wX4qfOnet7EYx6OWnMg3DBd7vetTkjNhC66
 5A2HCMzY+loz1+1H3E9eL0OW91cneoLymUuxl1vxZ6eljJZLSjxQvxmbK5X12tOn/OFx
 113OLFvSg+Cd5/uwdqos0qvmcOG/LGHvj4eAQ=
X-Google-DKIM-Signature: v=1; a=rsa-sha256; c=relaxed/relaxed;
 d=1e100.net; s=20230601; t=1721196760; x=1721801560;
 h=references:in-reply-to:cc:to:from:subject:message-id:date
 :x-gm-message-state:from:to:cc:subject:date:message-id:reply-to;
 bh=vnosRwubqrVsfhbnaUaq3WVMym4+CtQZUr8vX6IKhvQ=;
 b=sTp4f08ntE0Wufwxb/ccZgqeOQiZMpqmxKQqhNa335bL9g9xVsSfD+SPIhfynuGcb1
 iUPlbj0WdS4j5bUYo0fEwuMfzeSh8Cyu5xrDcshib1Djm/IG6ev6KuCQ24zd3VaPXCDE
 1rhquwCaZLagAWi3uFyrqrsq/kZ5Wx6+N4wjSUWUurs/+ubR6T+EOdXNmrYjvGI3v/yS
 OxoLm8HpIVlBCiGgW6azlQBKhRHSTuwXRgQC8GcL9RmTMmKUldoekMCGmSTelX6PgMtM
 6UFHK6AlbhUtUll2w59ZBskpVaAJY8M3UQNHCbqzXmKl/m9+YHncnrCz/k47UYudpMmX
 KUaw==
X-Gm-Message-State: AOJu0YyJAGpk8eY8VITwASiPTW/tyRIgKKU5YRl4rFyqnr3CCpppxbE+
 l26RvyCE7zG/fqJGEGV8dlRJu9zWQ67extpTExdc6IzqcP2QtylpUE1d7GtwfE5vBqqUFONwFZf
 Am1v+nLF4SbcH1aEU4ZonHYMXIZRWLr/g6Nhkpys9
X-Google-Smtp-Source: AGHT+IGB2wrba8DE3EUo7fJwYPjt4pl4m4Lgx13+qfh54NP95OFBeo5051j5uli4tSV1VeI3brM8/sX7zgOf
X-Received: by 2002:a05:6102:809e:b0:48f:ba1e:8ce3 with SMTP id
 ada2fe7eead31-4915976d110mr977754137.4.1721196759916; 
 Tue, 16 Jul 2024 23:12:39 -0700 (PDT)
Received: from postal.iol.unh.edu (postal.iol.unh.edu. [132.177.123.84])
 by smtp-relay.gmail.com with ESMTPS id
 a1e0cc1a2514c-81e63d955desm109460241.4.2024.07.16.23.12.39
 (version=TLS1_2 cipher=ECDHE-ECDSA-AES128-GCM-SHA256 bits=128/128);
 Tue, 16 Jul 2024 23:12:39 -0700 (PDT)
X-Relaying-Domain: iol.unh.edu
Date: Tue, 16 Jul 2024 23:12:39 -0700 (PDT)
Message-ID: <669760d7.050a0220.3229b.4798SMTPIN_ADDED_MISSING@mx.google.com>
Received: from [172.21.0.6] (unknown [172.18.0.240])
 by postal.iol.unh.edu (Postfix) with ESMTP id 8D441605C351;
 Wed, 17 Jul 2024 02:12:39 -0400 (EDT)
Subject: |PENDING| pw142452-142453 [PATCH] [2/2] net/nfp: fix AVX2 vector Rx 
From: dpdklab@iol.unh.edu
To: Test Report <test-report@dpdk.org>
Cc: dpdk-test-reports@iol.unh.edu
In-Reply-To: <20240717032445.442348-3-chaoyong.he@corigine.com>
References: <20240717032445.442348-3-chaoyong.he@corigine.com>
Content-Type: text/plain
X-BeenThere: test-report@dpdk.org
X-Mailman-Version: 2.1.29
Precedence: list
List-Id: automatic DPDK test reports <test-report.dpdk.org>
List-Unsubscribe: <https://mails.dpdk.org/options/test-report>,
 <mailto:test-report-request@dpdk.org?subject=unsubscribe>
List-Archive: <http://mails.dpdk.org/archives/test-report/>
List-Post: <mailto:test-report@dpdk.org>
List-Help: <mailto:test-report-request@dpdk.org?subject=help>
List-Subscribe: <https://mails.dpdk.org/listinfo/test-report>,
 <mailto:test-report-request@dpdk.org?subject=subscribe>
Errors-To: test-report-bounces@dpdk.org

Test-Label: iol-compile-arm64-testing
Test-Status: PENDING
http://dpdk.org/patch/142453

_Testing pending_

Submitter: Chaoyong He <chaoyong.he@corigine.com>
Date: Wednesday, July 17 2024 03:24:45 
DPDK git baseline: Repo:dpdk
  Branch: master
  CommitID:fa8d2f7f28524a6c8defa3dcd94f5aa131aae084

142452-142453 --> testing pending

Test environment and result as below:

+----------------------------------------+--------------------+
|              Environment               | dpdk_meson_compile |
+========================================+====================+
| Fedora 38 (ARM Clang)                  | PEND               |
+----------------------------------------+--------------------+
| RHEL9 (ARM)                            | PASS               |
+----------------------------------------+--------------------+
| Fedora 38 (ARM)                        | PASS               |
+----------------------------------------+--------------------+
| Ubuntu 20.04 ARM GCC Cross Compile     | PEND               |
+----------------------------------------+--------------------+
| Fedora 40 (ARM)                        | PASS               |
+----------------------------------------+--------------------+
| Debian 12 with MUSDK                   | PASS               |
+----------------------------------------+--------------------+
| Fedora 37 (ARM)                        | PASS               |
+----------------------------------------+--------------------+
| Ubuntu 20.04 ARM SVE                   | PASS               |
+----------------------------------------+--------------------+
| Fedora 39 (ARM)                        | PASS               |
+----------------------------------------+--------------------+
| Fedora 39 (ARM Clang)                  | PEND               |
+----------------------------------------+--------------------+
| Debian 11 (Buster) (ARM)               | PASS               |
+----------------------------------------+--------------------+
| Ubuntu 22.04 (ARM)                     | PASS               |
+----------------------------------------+--------------------+
| Ubuntu 20.04 aarch32 GCC Cross Compile | PEND               |
+----------------------------------------+--------------------+
| Ubuntu 20.04 ARM Clang Cross Compile   | PEND               |
+----------------------------------------+--------------------+
| Ubuntu 20.04 (ARM)                     | PASS               |
+----------------------------------------+--------------------+
| Ubuntu 24.04 (ARM)                     | PASS               |
+----------------------------------------+--------------------+
| CentOS Stream 9 (ARM)                  | PASS               |
+----------------------------------------+--------------------+
| Fedora 40 (ARM Clang)                  | PEND               |
+----------------------------------------+--------------------+
| Debian 12 (arm)                        | PASS               |
+----------------------------------------+--------------------+


Fedora 38 (ARM Clang)
	Kernel: Depends on container host
	Compiler: clang 16.0.6

RHEL9 (ARM)
	Kernel: Depends on container host
	Compiler: gcc 11.4.1

Fedora 38 (ARM)
	Kernel: Depends on container host
	Compiler: gcc 13.2.1

Ubuntu 20.04 ARM GCC Cross Compile
	Kernel: 5.4.0-167-generic
	Compiler: aarch64-linux-gnu-gcc (Ubuntu 9.4.0-1ubuntu1~20.04.2) 9.4.0

Fedora 40 (ARM)
	Kernel: Depends on container host
	Compiler: gcc 14.1.1

Debian 12 with MUSDK
	Kernel: Container Host Kernel
	Compiler: gcc 12.2.0

Fedora 37 (ARM)
	Kernel: Depends on container host
	Compiler: gcc 12.3.1

Ubuntu 20.04 ARM SVE
	Kernel: 5.4.0-167-generic
	Compiler: gcc (Ubuntu 10.5.0-1ubuntu1~20.04) 10.5.0

Fedora 39 (ARM)
	Kernel: Depends on container host
	Compiler: gcc 13.2.1

Fedora 39 (ARM Clang)
	Kernel: Depends on container host
	Compiler: clang 17.0.6

Debian 11 (Buster) (ARM)
	Kernel: Container Host Kernel
	Compiler: gcc 10.2.1

Ubuntu 22.04 (ARM)
	Kernel: Container Host Kernel
	Compiler: gcc 11.4.0

Ubuntu 20.04 aarch32 GCC Cross Compile
	Kernel: 5.4.0-167-generic
	Compiler: gcc 9.4.0

Ubuntu 20.04 ARM Clang Cross Compile
	Kernel: 5.4.0-72-generic
	Compiler: clang 10.0.0-4ubuntu1

Ubuntu 20.04 (ARM)
	Kernel: Container Host Kernel
	Compiler: gcc 9.4.0

Ubuntu 24.04 (ARM)
	Kernel: 5.4.0-167-generic
	Compiler: gcc 13.2.0

CentOS Stream 9 (ARM)
	Kernel: Container Host Kernel
	Compiler: gcc 11.4.1

Fedora 40 (ARM Clang)
	Kernel: Depends on container host
	Compiler: clang 18.1.6

Debian 12 (arm)
	Kernel: Container Host Kernel
	Compiler: gcc 12.2.0

To view detailed results, visit:
https://lab.dpdk.org/results/dashboard/patchsets/30534/

UNH-IOL DPDK Community Lab

To manage your email subscriptions, visit: 
https://lab.dpdk.org/results/dashboard/preferences/subscriptions/