From mboxrd@z Thu Jan  1 00:00:00 1970
Return-Path: <test-report-bounces@dpdk.org>
Received: from mails.dpdk.org (mails.dpdk.org [217.70.189.124])
	by inbox.dpdk.org (Postfix) with ESMTP id 3FEF44562E
	for <public@inbox.dpdk.org>; Wed, 17 Jul 2024 09:00:29 +0200 (CEST)
Received: from mails.dpdk.org (localhost [127.0.0.1])
	by mails.dpdk.org (Postfix) with ESMTP id 3B60D40289;
	Wed, 17 Jul 2024 09:00:29 +0200 (CEST)
Received: from mail-pl1-f225.google.com (mail-pl1-f225.google.com
 [209.85.214.225])
 by mails.dpdk.org (Postfix) with ESMTP id 0D21B4025F
 for <test-report@dpdk.org>; Wed, 17 Jul 2024 09:00:20 +0200 (CEST)
Received: by mail-pl1-f225.google.com with SMTP id
 d9443c01a7336-1fb05b0be01so44575435ad.2
 for <test-report@dpdk.org>; Wed, 17 Jul 2024 00:00:19 -0700 (PDT)
DKIM-Signature: v=1; a=rsa-sha256; c=relaxed/relaxed;
 d=iol.unh.edu; s=unh-iol; t=1721199619; x=1721804419; darn=dpdk.org;
 h=references:in-reply-to:cc:to:from:subject:message-id:date:from:to
 :cc:subject:date:message-id:reply-to;
 bh=eN8ORBY4n+GpISHjJDwqpwz0VQ41CLZoryfzCTyuw3Y=;
 b=YnKcOSe6Rhz3HGF89wXaTGI2iINfBfU8L3LZ9Nqqe4YoUWRGb0HwOWmKLVe+OBCdZy
 IPHmMA7ACWTIadq4/Ksq+x4zXAe9GIgD1pvyVqzm9eV2GWnRNuWwCc5nD6bgqnwbyz1I
 oHV5Cry5vT2x+Cu7Kye5sFQtTxNyBGt5CsSM8=
X-Google-DKIM-Signature: v=1; a=rsa-sha256; c=relaxed/relaxed;
 d=1e100.net; s=20230601; t=1721199619; x=1721804419;
 h=references:in-reply-to:cc:to:from:subject:message-id:date
 :x-gm-message-state:from:to:cc:subject:date:message-id:reply-to;
 bh=eN8ORBY4n+GpISHjJDwqpwz0VQ41CLZoryfzCTyuw3Y=;
 b=WKk7RfPbRPIA1m75KcaaWpoi7fHipAlj53wPtjr64e8COz9LoxCpLSGV4vr+ot8lWV
 JNVneAAn2ALJN/U/FizR8tfXryP6FzTXKi2c3BFxshGlK/Vwi7cfA7KUbDbj78EMMzrP
 oMTga1cDdpzaSGqxtsMC+daycpX7Y7y35u50ybmUnGF8qMOCuk+lzrGNCuePPyKH73+c
 plBZrWt917u0SkR3cOBEL44i5XyGVSvyrx5o3Of3rJS384Q3NxoWQ0MUFrtFQkSGiEgg
 wDYgcr94NQT8VdrmhqvClHsVAdOyh15GhYGyjnH7ylypVKFMu4b+JOq6PovdwgdoWaLh
 Z1MQ==
X-Gm-Message-State: AOJu0YwNCHnADvqfazWoSPXb2OL4RX1oWTYgvfIap8IK2sF/xn/bkIno
 z4J9fSnnrZcL4y3iJj1mD9fwGqKk7Qwu/L13VUSbw/lZmaC/0pcRjmKMajg6BZxrk2yKvA11xB7
 jx353ZI7129s8aQzqrPKMMFnpgSnlISTZ6lQPhOlf
X-Google-Smtp-Source: AGHT+IGVRWz5AjUnekrcZ7FKf367v8Ffz904tX8yO+c3/QpNiet4rJzuBmFPDsvdbZ/ciYS+vLtS8bL4JJ6U
X-Received: by 2002:a17:902:e5cd:b0:1f7:37f:728d with SMTP id
 d9443c01a7336-1fc4e163be1mr5953405ad.10.1721199619008; 
 Wed, 17 Jul 2024 00:00:19 -0700 (PDT)
Received: from postal.iol.unh.edu (postal.iol.unh.edu. [132.177.123.84])
 by smtp-relay.gmail.com with ESMTPS id
 d9443c01a7336-1fc0bc19071sm2472585ad.96.2024.07.17.00.00.18
 (version=TLS1_2 cipher=ECDHE-ECDSA-AES128-GCM-SHA256 bits=128/128);
 Wed, 17 Jul 2024 00:00:18 -0700 (PDT)
X-Relaying-Domain: iol.unh.edu
Date: Wed, 17 Jul 2024 00:00:18 -0700 (PDT)
Message-ID: <66976c02.170a0220.f5873.ce45SMTPIN_ADDED_MISSING@mx.google.com>
Received: from [172.21.0.7] (unknown [172.18.0.240])
 by postal.iol.unh.edu (Postfix) with ESMTP id 78556605C351;
 Wed, 17 Jul 2024 03:00:17 -0400 (EDT)
Subject: |PENDING| pw142452-142453 [PATCH] [2/2] net/nfp: fix AVX2 vector Rx 
From: dpdklab@iol.unh.edu
To: Test Report <test-report@dpdk.org>
Cc: dpdk-test-reports@iol.unh.edu
In-Reply-To: <20240717032445.442348-3-chaoyong.he@corigine.com>
References: <20240717032445.442348-3-chaoyong.he@corigine.com>
Content-Type: text/plain
X-BeenThere: test-report@dpdk.org
X-Mailman-Version: 2.1.29
Precedence: list
List-Id: automatic DPDK test reports <test-report.dpdk.org>
List-Unsubscribe: <https://mails.dpdk.org/options/test-report>,
 <mailto:test-report-request@dpdk.org?subject=unsubscribe>
List-Archive: <http://mails.dpdk.org/archives/test-report/>
List-Post: <mailto:test-report@dpdk.org>
List-Help: <mailto:test-report-request@dpdk.org?subject=help>
List-Subscribe: <https://mails.dpdk.org/listinfo/test-report>,
 <mailto:test-report-request@dpdk.org?subject=subscribe>
Errors-To: test-report-bounces@dpdk.org

Test-Label: iol-compile-amd64-testing
Test-Status: PENDING
http://dpdk.org/patch/142453

_Testing pending_

Submitter: Chaoyong He <chaoyong.he@corigine.com>
Date: Wednesday, July 17 2024 03:24:45 
DPDK git baseline: Repo:dpdk
  Branch: master
  CommitID:fa8d2f7f28524a6c8defa3dcd94f5aa131aae084

142452-142453 --> testing pending

Test environment and result as below:

+---------------------+--------------------+------------------+-------------------+----------------------+-------------------+
|     Environment     | dpdk_meson_compile | dpdk_compile_ovs | dpdk_compile_spdk | dpdk_mingw64_compile | dpdk_msvc_compile |
+=====================+====================+==================+===================+======================+===================+
| CentOS Stream 8     | PASS               | PASS             | PASS              | SKIPPED              | SKIPPED           |
+---------------------+--------------------+------------------+-------------------+----------------------+-------------------+
| Debian Bullseye     | PASS               | PASS             | PASS              | SKIPPED              | SKIPPED           |
+---------------------+--------------------+------------------+-------------------+----------------------+-------------------+
| CentOS Stream 9     | PEND               | PEND             | PEND              | SKIPPED              | SKIPPED           |
+---------------------+--------------------+------------------+-------------------+----------------------+-------------------+
| Fedora 37           | PASS               | PASS             | PASS              | SKIPPED              | SKIPPED           |
+---------------------+--------------------+------------------+-------------------+----------------------+-------------------+
| Debian 12           | PASS               | PASS             | PASS              | SKIPPED              | SKIPPED           |
+---------------------+--------------------+------------------+-------------------+----------------------+-------------------+
| Fedora 38 (Clang)   | PASS               | PASS             | PEND              | SKIPPED              | SKIPPED           |
+---------------------+--------------------+------------------+-------------------+----------------------+-------------------+
| Fedora 39 (Clang)   | PEND               | PEND             | PEND              | SKIPPED              | SKIPPED           |
+---------------------+--------------------+------------------+-------------------+----------------------+-------------------+
| Fedora 39           | PASS               | PASS             | PASS              | SKIPPED              | SKIPPED           |
+---------------------+--------------------+------------------+-------------------+----------------------+-------------------+
| Fedora 40 (Clang)   | PEND               | PEND             | PEND              | SKIPPED              | SKIPPED           |
+---------------------+--------------------+------------------+-------------------+----------------------+-------------------+
| Fedora 40           | PASS               | PASS             | PASS              | SKIPPED              | SKIPPED           |
+---------------------+--------------------+------------------+-------------------+----------------------+-------------------+
| openSUSE Leap 15    | PEND               | PEND             | SKIPPED           | SKIPPED              | SKIPPED           |
+---------------------+--------------------+------------------+-------------------+----------------------+-------------------+
| RHEL8               | PASS               | PASS             | SKIPPED           | SKIPPED              | SKIPPED           |
+---------------------+--------------------+------------------+-------------------+----------------------+-------------------+
| RHEL9               | PASS               | PASS             | SKIPPED           | SKIPPED              | SKIPPED           |
+---------------------+--------------------+------------------+-------------------+----------------------+-------------------+
| Ubuntu 20.04        | PASS               | PASS             | SKIPPED           | SKIPPED              | SKIPPED           |
+---------------------+--------------------+------------------+-------------------+----------------------+-------------------+
| Ubuntu 22.04        | PASS               | PASS             | PASS              | SKIPPED              | SKIPPED           |
+---------------------+--------------------+------------------+-------------------+----------------------+-------------------+
| Ubuntu 24.04        | PASS               | PASS             | PASS              | SKIPPED              | SKIPPED           |
+---------------------+--------------------+------------------+-------------------+----------------------+-------------------+
| Windows Server 2022 | PASS               | SKIPPED          | SKIPPED           | PASS                 | PASS              |
+---------------------+--------------------+------------------+-------------------+----------------------+-------------------+
| Alpine              | PEND               | PEND             | SKIPPED           | SKIPPED              | SKIPPED           |
+---------------------+--------------------+------------------+-------------------+----------------------+-------------------+
| FreeBSD 13.3        | PASS               | SKIPPED          | SKIPPED           | SKIPPED              | SKIPPED           |
+---------------------+--------------------+------------------+-------------------+----------------------+-------------------+
| FreeBSD 14.1        | PASS               | SKIPPED          | SKIPPED           | SKIPPED              | SKIPPED           |
+---------------------+--------------------+------------------+-------------------+----------------------+-------------------+
| Windows Server 2019 | PASS               | SKIPPED          | SKIPPED           | PASS                 | SKIPPED           |
+---------------------+--------------------+------------------+-------------------+----------------------+-------------------+
| Fedora 38           | PEND               | PEND             | PEND              | SKIPPED              | SKIPPED           |
+---------------------+--------------------+------------------+-------------------+----------------------+-------------------+


CentOS Stream 8
	Kernel: 5.4.0-167-generic
	Compiler: gcc 8.5.0 20210514

Debian Bullseye
	Kernel: 5.4.0-167-generic
	Compiler: gcc 10.2.1-6

CentOS Stream 9
	Kernel: 5.4.0-167-generic
	Compiler: gcc 11.4.1 20230605

Fedora 37
	Kernel: Depends on container host system
	Compiler: gcc 12.3.1

Debian 12
	Kernel: Container Host Kernel
	Compiler: gcc 12.2.0

Fedora 38 (Clang)
	Kernel: Depends on container host
	Compiler: clang 16.0.6

Fedora 39 (Clang)
	Kernel: Depends on container host
	Compiler: clang 17.0.6

Fedora 39
	Kernel: Depends on container host
	Compiler: gcc 13.2.1

Fedora 40 (Clang)
	Kernel: Depends on container host
	Compiler: clang 18.1.6

Fedora 40
	Kernel: Depends on container host
	Compiler: gcc 14.1.1

openSUSE Leap 15
	Kernel: 5.4.0-167-generic
	Compiler: gcc 7.5.0

RHEL8
	Kernel: 5.4.0-167-generic
	Compiler: gcc 8.5.0 20210514 (Red Hat 8.5.0-20)

RHEL9
	Kernel: Depends on container host
	Compiler: gcc 11.4.1

Ubuntu 20.04
	Kernel: 5.4.0-167-generic
	Compiler: gcc 9.4.0-1ubuntu1~20.04.1

Ubuntu 22.04
	Kernel: 5.4.0-167-generic
	Compiler: gcc 11.4.0

Ubuntu 24.04
	Kernel: 5.4.0-167-generic
	Compiler: gcc 13.2.0

Windows Server 2022
	Kernel: 10.0.20348.2031
	Compiler: clang 15.0.7, gcc 8.1.0 (MinGW), and MSVC VS 17.9

Alpine
	Kernel: 5.4.0-167-generic
	Compiler: gcc (Alpine 13.2.1_git20231014) 13.2.1 20231014

FreeBSD 13.3
	Kernel: 13.3-RELEASE-p1
	Compiler: clang 17.0.6

FreeBSD 14.1
	Kernel: 14.1
	Compiler: clang 18.1.5

Windows Server 2019
	Kernel: 10.0.17763
	Compiler: clang 14.0 and gcc 8.1.0 (MinGW)

Fedora 38
	Kernel: Depends on container host
	Compiler: gcc 13.2.1

To view detailed results, visit:
https://lab.dpdk.org/results/dashboard/patchsets/30534/

UNH-IOL DPDK Community Lab

To manage your email subscriptions, visit: 
https://lab.dpdk.org/results/dashboard/preferences/subscriptions/