From mboxrd@z Thu Jan  1 00:00:00 1970
Return-Path: <test-report-bounces@dpdk.org>
Received: from mails.dpdk.org (mails.dpdk.org [217.70.189.124])
	by inbox.dpdk.org (Postfix) with ESMTP id B010F4562E
	for <public@inbox.dpdk.org>; Wed, 17 Jul 2024 09:26:41 +0200 (CEST)
Received: from mails.dpdk.org (localhost [127.0.0.1])
	by mails.dpdk.org (Postfix) with ESMTP id AF49240EDD;
	Wed, 17 Jul 2024 09:26:41 +0200 (CEST)
Received: from mail-yw1-f228.google.com (mail-yw1-f228.google.com
 [209.85.128.228])
 by mails.dpdk.org (Postfix) with ESMTP id F094840289
 for <test-report@dpdk.org>; Wed, 17 Jul 2024 09:26:34 +0200 (CEST)
Received: by mail-yw1-f228.google.com with SMTP id
 00721157ae682-6510c0c8e29so60121617b3.0
 for <test-report@dpdk.org>; Wed, 17 Jul 2024 00:26:34 -0700 (PDT)
DKIM-Signature: v=1; a=rsa-sha256; c=relaxed/relaxed;
 d=iol.unh.edu; s=unh-iol; t=1721201194; x=1721805994; darn=dpdk.org;
 h=references:in-reply-to:cc:to:from:subject:message-id:date:from:to
 :cc:subject:date:message-id:reply-to;
 bh=yeSChbu/KZsmcjCfYxh2EZJAy/oaZ3A/Ij088nSE4oE=;
 b=jKLx7xDGl4K+/lU8UYZPSAhpk+LAW6rgVFzBMZEXfk8PDg7GPRTX3Zsf6MrG4fXbbk
 uuGBUlYzU3QUcMQKIjAWAe7sB7BUGxUDoVCQ+6MWuGsll+IRL1iTs5/alAFEM6l1Gfqs
 Gmv+rQR/UGTb9/9iLvhuDRX4zc/FZBOpeLAZQ=
X-Google-DKIM-Signature: v=1; a=rsa-sha256; c=relaxed/relaxed;
 d=1e100.net; s=20230601; t=1721201194; x=1721805994;
 h=references:in-reply-to:cc:to:from:subject:message-id:date
 :x-gm-message-state:from:to:cc:subject:date:message-id:reply-to;
 bh=yeSChbu/KZsmcjCfYxh2EZJAy/oaZ3A/Ij088nSE4oE=;
 b=SppsXnbm7v+sl6kym8un8bVC2U8WoaOSlSXKBIg/nZ7By11n67DyxBh0A7J5nEkffI
 kCLOOB3DHEWYxL/SG/Oy+phB+ypX1PPTHtfjIsKaQxgO6sAOXTz9xEyQKq6+xfAHbxAB
 tEij8RAkngx9tsxOIUklkwHcYBKPMHiWWVygpUkwyEFnKnrjWVNOnape7LJhyoaiQ9WF
 ENR6Mq/rAW99guyNLgTfXlsGOCFIB/YEEpOVPzRxRgcF2Ly9OoQhJQhCKNYB9Vmaiktb
 U7vHXO8BMxeIZfHu74EXN+CH5yuMSRQeZlTDy7BeMJjdYwa5flExlFusxVhpFZ/XWUU+
 B56w==
X-Gm-Message-State: AOJu0YxgClNJdU3SGui7IUccJv4Qs9evrOqfLMj9IFdER0LndRhfWpgt
 gXV5rxNX5+hzvWAbyNHPjqsYUHuBpPJHBfKmO9BswXXYFgSctmCKT4me59NnMPIVk4svK2o3lOs
 oDnhIW7gFAng7dTMnApigG/B2gBKl6NU9qYiHAt+O
X-Google-Smtp-Source: AGHT+IF5ZV/KQ5enI4o+VxO+M0QhEiKMBHrQGXdktJur9gFm0Bw4TBNPVWk918YWR+Q6Of87KwgILmQS2Zwz
X-Received: by 2002:a81:8986:0:b0:646:fe8e:f03b with SMTP id
 00721157ae682-664fe35cb83mr10405207b3.2.1721201193431; 
 Wed, 17 Jul 2024 00:26:33 -0700 (PDT)
Received: from postal.iol.unh.edu (postal.iol.unh.edu. [132.177.123.84])
 by smtp-relay.gmail.com with ESMTPS id
 00721157ae682-65fc4c1687esm3820347b3.58.2024.07.17.00.26.33
 (version=TLS1_2 cipher=ECDHE-ECDSA-AES128-GCM-SHA256 bits=128/128);
 Wed, 17 Jul 2024 00:26:33 -0700 (PDT)
X-Relaying-Domain: iol.unh.edu
Date: Wed, 17 Jul 2024 00:26:33 -0700 (PDT)
Message-ID: <66977229.050a0220.9224d.1884SMTPIN_ADDED_MISSING@mx.google.com>
Received: from [172.21.0.9] (unknown [172.18.0.240])
 by postal.iol.unh.edu (Postfix) with ESMTP id 0EA8F605C351;
 Wed, 17 Jul 2024 03:26:33 -0400 (EDT)
Subject: |PENDING| pw142449-142450 [PATCH] [v2,2/2] dts: add dual_vlan test s
From: dpdklab@iol.unh.edu
To: Test Report <test-report@dpdk.org>
Cc: dpdk-test-reports@iol.unh.edu
In-Reply-To: <20240716212416.444577-3-jspewock@iol.unh.edu>
References: <20240716212416.444577-3-jspewock@iol.unh.edu>
Content-Type: text/plain
X-BeenThere: test-report@dpdk.org
X-Mailman-Version: 2.1.29
Precedence: list
List-Id: automatic DPDK test reports <test-report.dpdk.org>
List-Unsubscribe: <https://mails.dpdk.org/options/test-report>,
 <mailto:test-report-request@dpdk.org?subject=unsubscribe>
List-Archive: <http://mails.dpdk.org/archives/test-report/>
List-Post: <mailto:test-report@dpdk.org>
List-Help: <mailto:test-report-request@dpdk.org?subject=help>
List-Subscribe: <https://mails.dpdk.org/listinfo/test-report>,
 <mailto:test-report-request@dpdk.org?subject=subscribe>
Errors-To: test-report-bounces@dpdk.org

Test-Label: iol-abi-testing
Test-Status: PENDING
http://dpdk.org/patch/142450

_Testing pending_

Submitter: Jeremy Spewock <jspewock@iol.unh.edu>
Date: Tuesday, July 16 2024 21:24:16 
DPDK git baseline: Repo:dpdk
  Branch: master
  CommitID:fa8d2f7f28524a6c8defa3dcd94f5aa131aae084

142449-142450 --> testing pending

Test environment and result as below:

+-------------------+----------+
|    Environment    | abi_test |
+===================+==========+
| CentOS Stream 9   | PASS     |
+-------------------+----------+
| CentOS Stream 8   | PASS     |
+-------------------+----------+
| Debian Bullseye   | PASS     |
+-------------------+----------+
| Fedora 38         | PASS     |
+-------------------+----------+
| Debian 12         | PEND     |
+-------------------+----------+
| Fedora 38 (Clang) | PASS     |
+-------------------+----------+
| Fedora 37         | PEND     |
+-------------------+----------+
| Fedora 39 (Clang) | PASS     |
+-------------------+----------+
| Fedora 39         | PEND     |
+-------------------+----------+
| Ubuntu 24.04      | PEND     |
+-------------------+----------+
| Fedora 40 (Clang) | PEND     |
+-------------------+----------+
| Ubuntu 22.04      | PASS     |
+-------------------+----------+
| Fedora 40         | PEND     |
+-------------------+----------+
| RHEL8             | PEND     |
+-------------------+----------+
| openSUSE Leap 15  | PASS     |
+-------------------+----------+
| RHEL9             | PEND     |
+-------------------+----------+


CentOS Stream 9
	Kernel: 5.4.0-167-generic
	Compiler: gcc 11.4.1 20230605

CentOS Stream 8
	Kernel: 5.4.0-167-generic
	Compiler: gcc 8.5.0 20210514

Debian Bullseye
	Kernel: 5.4.0-167-generic
	Compiler: gcc 10.2.1-6

Fedora 38
	Kernel: Depends on container host
	Compiler: gcc 13.2.1

Debian 12
	Kernel: Container Host Kernel
	Compiler: gcc 12.2.0

Fedora 38 (Clang)
	Kernel: Depends on container host
	Compiler: clang 16.0.6

Fedora 37
	Kernel: Depends on container host system
	Compiler: gcc 12.3.1

Fedora 39 (Clang)
	Kernel: Depends on container host
	Compiler: clang 17.0.6

Fedora 39
	Kernel: Depends on container host
	Compiler: gcc 13.2.1

Ubuntu 24.04
	Kernel: 5.4.0-167-generic
	Compiler: gcc 13.2.0

Fedora 40 (Clang)
	Kernel: Depends on container host
	Compiler: clang 18.1.6

Ubuntu 22.04
	Kernel: 5.4.0-167-generic
	Compiler: gcc 11.4.0

Fedora 40
	Kernel: Depends on container host
	Compiler: gcc 14.1.1

RHEL8
	Kernel: 5.4.0-167-generic
	Compiler: gcc 8.5.0 20210514 (Red Hat 8.5.0-20)

openSUSE Leap 15
	Kernel: 5.4.0-167-generic
	Compiler: gcc 7.5.0

RHEL9
	Kernel: Depends on container host
	Compiler: gcc 11.4.1

To view detailed results, visit:
https://lab.dpdk.org/results/dashboard/patchsets/30532/

UNH-IOL DPDK Community Lab

To manage your email subscriptions, visit: 
https://lab.dpdk.org/results/dashboard/preferences/subscriptions/