From mboxrd@z Thu Jan  1 00:00:00 1970
Return-Path: <test-report-bounces@dpdk.org>
Received: from mails.dpdk.org (mails.dpdk.org [217.70.189.124])
	by inbox.dpdk.org (Postfix) with ESMTP id EFA9845632
	for <public@inbox.dpdk.org>; Wed, 17 Jul 2024 10:00:40 +0200 (CEST)
Received: from mails.dpdk.org (localhost [127.0.0.1])
	by mails.dpdk.org (Postfix) with ESMTP id E67E040A71;
	Wed, 17 Jul 2024 10:00:40 +0200 (CEST)
Received: from mail-oa1-f99.google.com (mail-oa1-f99.google.com
 [209.85.160.99]) by mails.dpdk.org (Postfix) with ESMTP id D495D40289
 for <test-report@dpdk.org>; Wed, 17 Jul 2024 09:59:50 +0200 (CEST)
Received: by mail-oa1-f99.google.com with SMTP id
 586e51a60fabf-25e24900a82so2896069fac.3
 for <test-report@dpdk.org>; Wed, 17 Jul 2024 00:59:50 -0700 (PDT)
DKIM-Signature: v=1; a=rsa-sha256; c=relaxed/relaxed;
 d=iol.unh.edu; s=unh-iol; t=1721203190; x=1721807990; darn=dpdk.org;
 h=references:in-reply-to:cc:to:from:subject:message-id:date:from:to
 :cc:subject:date:message-id:reply-to;
 bh=RlP6wc2+4dwuXgu0pvsewDMxidpqArgcRdmuhpCHucA=;
 b=AYKuU3A3TPJf735tqkP1QyfhYozeogs8roDffeMpedvEy+r/JVai8DhBSVMOKwu+vz
 KesJwzl+zoge9I4OJua80fa1Z3eFjwIYWePw8Dvq4BYk7I5VM+p50h+ZkTZchNyduPz+
 BEgYkmfaeZmup0OxVFfrIzc8aVO2ZIRjJoQAE=
X-Google-DKIM-Signature: v=1; a=rsa-sha256; c=relaxed/relaxed;
 d=1e100.net; s=20230601; t=1721203190; x=1721807990;
 h=references:in-reply-to:cc:to:from:subject:message-id:date
 :x-gm-message-state:from:to:cc:subject:date:message-id:reply-to;
 bh=RlP6wc2+4dwuXgu0pvsewDMxidpqArgcRdmuhpCHucA=;
 b=ku/6jdf9yNYp8MidLaNW/6jztRwPpsRkf1wbCZQW1rqc1kRycrWxOPHMg5+2D6b0b4
 EZwIQiFfkjCpo2Jb9QV1jMGanPY2SAVeyo7BjvbIKoMZlplOvg6RboKmjc4a2pve2ICX
 BVq6t/gW6HjXqkRz8ZVPeTYfxCzzAJEGEVLEInMbKPfSPAczXP0TX2ncuMBT8ZobAmJE
 feniapZfd8sgZWm1dVKs9vlWVY5IlOxKBWn8rJvNjyufyu5rVm2A6eXzO4glg7WiKmCz
 +xfDNLh2NCMPjctMv+ZyuiFJLotWDzouvhMRcZWOdo4WKkVJElkAJXLMpMiJbDQUICIw
 hNQQ==
X-Gm-Message-State: AOJu0Yy1PTZ3nAFGmzE9uOKR30Q9UzjJOTTmAZF78iZfTW0DvWIC1aK6
 4BMK6Pzopb92nXq/s23ACJISMaEj1uwE1aotQKHE74WSLe5jYO2Gq/gAKk3J67Igft9D+wCR9up
 7j5ZZW6hHAfMyBSmwg7mUC4l/3IPlHgADSEdGt77h
X-Google-Smtp-Source: AGHT+IEdfnPECfhKwaJO1vDy3Og9q9318UJK7uMUwkoNajtqvquSSoWcfATTevvOFCQ7pMvF/IcyqG+FG392
X-Received: by 2002:a05:6870:171e:b0:24f:de6e:3048 with SMTP id
 586e51a60fabf-260d91a5142mr789477fac.16.1721203190111; 
 Wed, 17 Jul 2024 00:59:50 -0700 (PDT)
Received: from postal.iol.unh.edu (postal.iol.unh.edu. [132.177.123.84])
 by smtp-relay.gmail.com with ESMTPS id
 d2e1a72fcca58-70b7eb9c8d7sm801559b3a.5.2024.07.17.00.59.49
 (version=TLS1_2 cipher=ECDHE-ECDSA-AES128-GCM-SHA256 bits=128/128);
 Wed, 17 Jul 2024 00:59:50 -0700 (PDT)
X-Relaying-Domain: iol.unh.edu
Date: Wed, 17 Jul 2024 00:59:50 -0700 (PDT)
Message-ID: <669779f6.050a0220.e988d.6d56SMTPIN_ADDED_MISSING@mx.google.com>
Received: from [172.21.0.7] (unknown [172.18.0.240])
 by postal.iol.unh.edu (Postfix) with ESMTP id 411F16052500;
 Wed, 17 Jul 2024 03:59:49 -0400 (EDT)
Subject: |PENDING| pw142452-142453 [PATCH] [2/2] net/nfp: fix AVX2 vector Rx 
From: dpdklab@iol.unh.edu
To: Test Report <test-report@dpdk.org>
Cc: dpdk-test-reports@iol.unh.edu
In-Reply-To: <20240717032445.442348-3-chaoyong.he@corigine.com>
References: <20240717032445.442348-3-chaoyong.he@corigine.com>
Content-Type: text/plain
X-BeenThere: test-report@dpdk.org
X-Mailman-Version: 2.1.29
Precedence: list
List-Id: automatic DPDK test reports <test-report.dpdk.org>
List-Unsubscribe: <https://mails.dpdk.org/options/test-report>,
 <mailto:test-report-request@dpdk.org?subject=unsubscribe>
List-Archive: <http://mails.dpdk.org/archives/test-report/>
List-Post: <mailto:test-report@dpdk.org>
List-Help: <mailto:test-report-request@dpdk.org?subject=help>
List-Subscribe: <https://mails.dpdk.org/listinfo/test-report>,
 <mailto:test-report-request@dpdk.org?subject=subscribe>
Errors-To: test-report-bounces@dpdk.org

Test-Label: iol-unit-amd64-testing
Test-Status: PENDING
http://dpdk.org/patch/142453

_Testing pending_

Submitter: Chaoyong He <chaoyong.he@corigine.com>
Date: Wednesday, July 17 2024 03:24:45 
DPDK git baseline: Repo:dpdk
  Branch: master
  CommitID:fa8d2f7f28524a6c8defa3dcd94f5aa131aae084

142452-142453 --> testing pending

Test environment and result as below:

+---------------------+----------------+
|     Environment     | dpdk_unit_test |
+=====================+================+
| Windows Server 2019 | PASS           |
+---------------------+----------------+
| Windows Server 2022 | PASS           |
+---------------------+----------------+
| CentOS Stream 8     | PASS           |
+---------------------+----------------+
| CentOS Stream 9     | PASS           |
+---------------------+----------------+
| Debian Bullseye     | PASS           |
+---------------------+----------------+
| Fedora 37           | PASS           |
+---------------------+----------------+
| Debian 12           | PASS           |
+---------------------+----------------+
| Fedora 38           | PASS           |
+---------------------+----------------+
| Fedora 39           | PEND           |
+---------------------+----------------+
| Fedora 38 (Clang)   | PASS           |
+---------------------+----------------+
| Fedora 39 (Clang)   | PEND           |
+---------------------+----------------+
| openSUSE Leap 15    | PASS           |
+---------------------+----------------+
| Fedora 40 (Clang)   | PEND           |
+---------------------+----------------+
| Fedora 40           | PEND           |
+---------------------+----------------+
| RHEL8               | PEND           |
+---------------------+----------------+
| RHEL9               | PEND           |
+---------------------+----------------+
| Ubuntu 20.04        | PEND           |
+---------------------+----------------+
| Ubuntu 24.04        | PEND           |
+---------------------+----------------+
| Ubuntu 22.04        | PEND           |
+---------------------+----------------+


Windows Server 2019
	Kernel: 10.0.17763
	Compiler: clang 14.0 and gcc 8.1.0 (MinGW)

Windows Server 2022
	Kernel: 10.0.20348.2031
	Compiler: clang 15.0.7, gcc 8.1.0 (MinGW), and MSVC VS 17.9

CentOS Stream 8
	Kernel: 5.4.0-167-generic
	Compiler: gcc 8.5.0 20210514

CentOS Stream 9
	Kernel: 5.4.0-167-generic
	Compiler: gcc 11.4.1 20230605

Debian Bullseye
	Kernel: 5.4.0-167-generic
	Compiler: gcc 10.2.1-6

Fedora 37
	Kernel: Depends on container host system
	Compiler: gcc 12.3.1

Debian 12
	Kernel: Container Host Kernel
	Compiler: gcc 12.2.0

Fedora 38
	Kernel: Depends on container host
	Compiler: gcc 13.2.1

Fedora 39
	Kernel: Depends on container host
	Compiler: gcc 13.2.1

Fedora 38 (Clang)
	Kernel: Depends on container host
	Compiler: clang 16.0.6

Fedora 39 (Clang)
	Kernel: Depends on container host
	Compiler: clang 17.0.6

openSUSE Leap 15
	Kernel: 5.4.0-167-generic
	Compiler: gcc 7.5.0

Fedora 40 (Clang)
	Kernel: Depends on container host
	Compiler: clang 18.1.6

Fedora 40
	Kernel: Depends on container host
	Compiler: gcc 14.1.1

RHEL8
	Kernel: 5.4.0-167-generic
	Compiler: gcc 8.5.0 20210514 (Red Hat 8.5.0-20)

RHEL9
	Kernel: Depends on container host
	Compiler: gcc 11.4.1

Ubuntu 20.04
	Kernel: 5.4.0-167-generic
	Compiler: gcc 9.4.0-1ubuntu1~20.04.1

Ubuntu 24.04
	Kernel: 5.4.0-167-generic
	Compiler: gcc 13.2.0

Ubuntu 22.04
	Kernel: 5.4.0-167-generic
	Compiler: gcc 11.4.0

To view detailed results, visit:
https://lab.dpdk.org/results/dashboard/patchsets/30534/

UNH-IOL DPDK Community Lab

To manage your email subscriptions, visit: 
https://lab.dpdk.org/results/dashboard/preferences/subscriptions/