From mboxrd@z Thu Jan  1 00:00:00 1970
Return-Path: <test-report-bounces@dpdk.org>
Received: from mails.dpdk.org (mails.dpdk.org [217.70.189.124])
	by inbox.dpdk.org (Postfix) with ESMTP id 323E545635
	for <public@inbox.dpdk.org>; Wed, 17 Jul 2024 14:44:23 +0200 (CEST)
Received: from mails.dpdk.org (localhost [127.0.0.1])
	by mails.dpdk.org (Postfix) with ESMTP id 2C63240289;
	Wed, 17 Jul 2024 14:44:23 +0200 (CEST)
Received: from mail-yw1-f227.google.com (mail-yw1-f227.google.com
 [209.85.128.227])
 by mails.dpdk.org (Postfix) with ESMTP id 3BE3040261
 for <test-report@dpdk.org>; Wed, 17 Jul 2024 14:44:22 +0200 (CEST)
Received: by mail-yw1-f227.google.com with SMTP id
 00721157ae682-6634f0afe05so22769017b3.0
 for <test-report@dpdk.org>; Wed, 17 Jul 2024 05:44:22 -0700 (PDT)
DKIM-Signature: v=1; a=rsa-sha256; c=relaxed/relaxed;
 d=iol.unh.edu; s=unh-iol; t=1721220261; x=1721825061; darn=dpdk.org;
 h=references:in-reply-to:cc:to:from:subject:message-id:date:from:to
 :cc:subject:date:message-id:reply-to;
 bh=kUNKGkY+VjxwP4DeAxe0I1KYFJA9RBtTXsOTSQnt4DY=;
 b=IGYZzaNn+oxz6hmJ78iowSsH2WJE0QoQ+IO4ljuKqq+1Qd2p0+/U8VcKvhQc25AvCY
 tB3WeSRFWRsXmyn5S/h+Mrlt1NnqjmJhDg6ZEWShWO2InfIgN2aHuiRg5JSHf2uX9LIm
 ultUoxyRaJ2XOFBJfrM0pAQEd8cmWvmopgUmQ=
X-Google-DKIM-Signature: v=1; a=rsa-sha256; c=relaxed/relaxed;
 d=1e100.net; s=20230601; t=1721220261; x=1721825061;
 h=references:in-reply-to:cc:to:from:subject:message-id:date
 :x-gm-message-state:from:to:cc:subject:date:message-id:reply-to;
 bh=kUNKGkY+VjxwP4DeAxe0I1KYFJA9RBtTXsOTSQnt4DY=;
 b=xRYhe29LIygPc3fwYfoAZyellc++XJ38ms1MK9fWTgmZCampYokCySZfbKoNjmCCBS
 q/ezReM+bVEb99xBMARuO7QCYeat2ba9VEUhojtfdP7ngIYy6JZuziGWsJSxfwRm2D86
 J4tQBhPlSrI8++cGexAQewPEgV7Vc1UEN7lKRa5JZoZtmdI8Kn/nJzxzY+HdCPqLM78Z
 okptdTLtbi7BzCpY3MlIqUH12+5CLtcFSRR6+9W1NeTvkzdPek54Z+f6FFV45rlKkaI2
 x6t9AeOC2IOm0s0sys9oRcWTP0SxACK3I01lQ2Q85IFCCDNW/EwHRs7AYyxWGLsi7ifc
 xrgg==
X-Gm-Message-State: AOJu0YwBim19hJBnZDwJLKgwYaZbz6VRbal7b1gqRMMmgDP/Xr4YPSnD
 SUMpIA1EqTKqoVgtYyXU6OS2M09Uo+E6V0/Kwun/RYOG7SmYkB9lRYkOyFrYqC1ejyPAgUiwSDd
 uhvbEaS0Y6cLQszIhEw0keTR0mEnNQmuhu1xiy7SZ
X-Google-Smtp-Source: AGHT+IGX2kzrkBNF1V9J1vaVrevQP4jy9Sb4VIkSmhdW0LjEnoyAReRNHOuwNGfuNOtWh9dRa+prQgOqwvPY
X-Received: by 2002:a0d:e802:0:b0:651:79ee:d14b with SMTP id
 00721157ae682-66500573712mr19510057b3.29.1721220261525; 
 Wed, 17 Jul 2024 05:44:21 -0700 (PDT)
Received: from postal.iol.unh.edu (postal.iol.unh.edu. [132.177.123.84])
 by smtp-relay.gmail.com with ESMTPS id
 00721157ae682-665ae926d11sm149037b3.21.2024.07.17.05.44.21
 (version=TLS1_2 cipher=ECDHE-ECDSA-AES128-GCM-SHA256 bits=128/128);
 Wed, 17 Jul 2024 05:44:21 -0700 (PDT)
X-Relaying-Domain: iol.unh.edu
Date: Wed, 17 Jul 2024 05:44:21 -0700 (PDT)
Message-ID: <6697bca5.810a0220.177186.0caeSMTPIN_ADDED_MISSING@mx.google.com>
Received: from [172.17.0.2] (unknown [172.18.0.217])
 by postal.iol.unh.edu (Postfix) with ESMTP id 2119060526E2;
 Wed, 17 Jul 2024 08:44:21 -0400 (EDT)
Subject: |SUCCESS| pw142449-142450 [PATCH] [v2,2/2] dts: add dual_vlan test s
From: dpdklab@iol.unh.edu
To: Test Report <test-report@dpdk.org>
Cc: dpdk-test-reports@iol.unh.edu
In-Reply-To: <20240716212416.444577-3-jspewock@iol.unh.edu>
References: <20240716212416.444577-3-jspewock@iol.unh.edu>
Content-Type: text/plain
X-BeenThere: test-report@dpdk.org
X-Mailman-Version: 2.1.29
Precedence: list
List-Id: automatic DPDK test reports <test-report.dpdk.org>
List-Unsubscribe: <https://mails.dpdk.org/options/test-report>,
 <mailto:test-report-request@dpdk.org?subject=unsubscribe>
List-Archive: <http://mails.dpdk.org/archives/test-report/>
List-Post: <mailto:test-report@dpdk.org>
List-Help: <mailto:test-report-request@dpdk.org?subject=help>
List-Subscribe: <https://mails.dpdk.org/listinfo/test-report>,
 <mailto:test-report-request@dpdk.org?subject=subscribe>
Errors-To: test-report-bounces@dpdk.org

Test-Label: iol-sample-apps-testing
Test-Status: SUCCESS
http://dpdk.org/patch/142450

_Testing PASS_

Submitter: Jeremy Spewock <jspewock@iol.unh.edu>
Date: Tuesday, July 16 2024 21:24:16 
DPDK git baseline: Repo:dpdk
  Branch: master
  CommitID:fa8d2f7f28524a6c8defa3dcd94f5aa131aae084

142449-142450 --> testing pass

Test environment and result as below:

+--------------------+----------------------+----------------------+
|    Environment     | compressdev_zlib_pmd | dpdk_fips_validation |
+====================+======================+======================+
| Ubuntu 22.04 (ARM) | PASS                 | SKIPPED              |
+--------------------+----------------------+----------------------+
| Ubuntu 22.04       | PASS                 | SKIPPED              |
+--------------------+----------------------+----------------------+
| Ubuntu 20.04       | SKIPPED              | PASS                 |
+--------------------+----------------------+----------------------+


Ubuntu 22.04 (ARM)
	Kernel: 5.15.0-97-generic
	Compiler: gcc gcc (Ubuntu 11.4.0-1ubuntu1~22.04) 11.4.0

Ubuntu 22.04
	Kernel: 5.15.0-100-generic
	Compiler: gcc gcc (Ubuntu 11.4.0-1ubuntu1~22.04) 11.4.0

Ubuntu 20.04
	Kernel: 5.4.0-167-generic
	Compiler: gcc 9.4.0-1ubuntu1~20.04.1

To view detailed results, visit:
https://lab.dpdk.org/results/dashboard/patchsets/30532/

UNH-IOL DPDK Community Lab

To manage your email subscriptions, visit: 
https://lab.dpdk.org/results/dashboard/preferences/subscriptions/