From mboxrd@z Thu Jan  1 00:00:00 1970
Return-Path: <test-report-bounces@dpdk.org>
Received: from mails.dpdk.org (mails.dpdk.org [217.70.189.124])
	by inbox.dpdk.org (Postfix) with ESMTP id E386545635
	for <public@inbox.dpdk.org>; Wed, 17 Jul 2024 16:00:35 +0200 (CEST)
Received: from mails.dpdk.org (localhost [127.0.0.1])
	by mails.dpdk.org (Postfix) with ESMTP id DCDB840E0F;
	Wed, 17 Jul 2024 16:00:35 +0200 (CEST)
Received: from mail-io1-f100.google.com (mail-io1-f100.google.com
 [209.85.166.100])
 by mails.dpdk.org (Postfix) with ESMTP id 0C51C40280
 for <test-report@dpdk.org>; Wed, 17 Jul 2024 16:00:35 +0200 (CEST)
Received: by mail-io1-f100.google.com with SMTP id
 ca18e2360f4ac-80a2939265cso30458539f.3
 for <test-report@dpdk.org>; Wed, 17 Jul 2024 07:00:34 -0700 (PDT)
DKIM-Signature: v=1; a=rsa-sha256; c=relaxed/relaxed;
 d=iol.unh.edu; s=unh-iol; t=1721224834; x=1721829634; darn=dpdk.org;
 h=references:in-reply-to:cc:to:from:subject:message-id:date:from:to
 :cc:subject:date:message-id:reply-to;
 bh=BQK1ZiaqOX2VhBom0BXdQqe/vQbo711WGSYcrh2Q4as=;
 b=jWQMcg9TcZXZKaeqD+ifcSKr0qi1XuER0jVO6Gm8r59ZqFLdFHdbgjNVbqGa8Ctc5l
 9FSna2JGJlALpmE4JuyqOGRSjEwaY5iLvSNs1xmDpFMx+bqTI7yUSODrEDoFkdk3lMB3
 ph9nXueEgiGzYx0+OQ74S53keCPqX9HuP1jzY=
X-Google-DKIM-Signature: v=1; a=rsa-sha256; c=relaxed/relaxed;
 d=1e100.net; s=20230601; t=1721224834; x=1721829634;
 h=references:in-reply-to:cc:to:from:subject:message-id:date
 :x-gm-message-state:from:to:cc:subject:date:message-id:reply-to;
 bh=BQK1ZiaqOX2VhBom0BXdQqe/vQbo711WGSYcrh2Q4as=;
 b=A8j86WC0XBSI4eKtWo4BpcpV1uely5f3k+cKCMxTmjQZ1FeJQf6FFndBOT4UuBV9VL
 TuLEWjUMbhHNgP/JTTAuQwcam9hx0ZzTo85w5iRfTNUb+mn2Nre5eLKRduSaZlWKxths
 bp+isv1ZwAHYYpxUMQLKZSNtCYXza/H6y7RMN0QU9iCFsIWmJIzn6a6E4nux/PPA/cZm
 vdrgo7230R/P4JoDJLSNxfD123pwy+yguq0S+DQqS4vu3PIBS5KNYMSUPhdd4tQ1wKzz
 r7JPc6K3ELumak6mtEuYHvyU3RULtg4Cd58Fq6tPBgAzC1Y5APQ8IGrzi0pd9bj1hM1m
 SzEA==
X-Gm-Message-State: AOJu0Yyb7oSJjvdxGhcvGaa20cMWcbi2wv381ld6AOjDEHyP4wlCdsNU
 hrM4Iuke/ttbjCRVRVhyY+j9iUwEY59NXWZRvlCo40823G9G1tQ8IFN470eMFcpQFIeZRDhosuq
 Qt45aOOSVF+RDqwrxawF0n7/JPzFtq7sOGPtEc1we
X-Google-Smtp-Source: AGHT+IFNXd510YLAn8zXQpZ3DPWptyfHxZmmxnjOWhU2IPQfA5KXehpgoNYlgnE3q8BbxJ1F+GH76Mn08S1/
X-Received: by 2002:a05:6602:1481:b0:813:f74:e6df with SMTP id
 ca18e2360f4ac-81711f0e381mr220029139f.15.1721224834011; 
 Wed, 17 Jul 2024 07:00:34 -0700 (PDT)
Received: from postal.iol.unh.edu (postal.iol.unh.edu. [132.177.123.84])
 by smtp-relay.gmail.com with ESMTPS id
 ca18e2360f4ac-816be444f9asm11170339f.0.2024.07.17.07.00.33
 (version=TLS1_2 cipher=ECDHE-ECDSA-AES128-GCM-SHA256 bits=128/128);
 Wed, 17 Jul 2024 07:00:33 -0700 (PDT)
X-Relaying-Domain: iol.unh.edu
Date: Wed, 17 Jul 2024 07:00:33 -0700 (PDT)
Message-ID: <6697ce81.050a0220.b4273.4020SMTPIN_ADDED_MISSING@mx.google.com>
Received: from [172.21.0.6] (unknown [172.18.0.240])
 by postal.iol.unh.edu (Postfix) with ESMTP id 81D2660526E2;
 Wed, 17 Jul 2024 10:00:33 -0400 (EDT)
Subject: |PENDING| pw142457 [PATCH] doc: document mlx5 HWS actions order
From: dpdklab@iol.unh.edu
To: Test Report <test-report@dpdk.org>
Cc: dpdk-test-reports@iol.unh.edu
In-Reply-To: <20240717123620.245635-1-mkashani@nvidia.com>
References: <20240717123620.245635-1-mkashani@nvidia.com>
Content-Type: text/plain
X-BeenThere: test-report@dpdk.org
X-Mailman-Version: 2.1.29
Precedence: list
List-Id: automatic DPDK test reports <test-report.dpdk.org>
List-Unsubscribe: <https://mails.dpdk.org/options/test-report>,
 <mailto:test-report-request@dpdk.org?subject=unsubscribe>
List-Archive: <http://mails.dpdk.org/archives/test-report/>
List-Post: <mailto:test-report@dpdk.org>
List-Help: <mailto:test-report-request@dpdk.org?subject=help>
List-Subscribe: <https://mails.dpdk.org/listinfo/test-report>,
 <mailto:test-report-request@dpdk.org?subject=subscribe>
Errors-To: test-report-bounces@dpdk.org

Test-Label: iol-unit-amd64-testing
Test-Status: PENDING
http://dpdk.org/patch/142457

_Testing pending_

Submitter: Maayan Kashani <mkashani@nvidia.com>
Date: Wednesday, July 17 2024 12:36:09 
DPDK git baseline: Repo:dpdk
  Branch: master
  CommitID:fa8d2f7f28524a6c8defa3dcd94f5aa131aae084

142457 --> testing pending

Test environment and result as below:

+---------------------+----------------+
|     Environment     | dpdk_unit_test |
+=====================+================+
| CentOS Stream 8     | PEND           |
+---------------------+----------------+
| CentOS Stream 9     | PEND           |
+---------------------+----------------+
| Debian 12           | PASS           |
+---------------------+----------------+
| Debian Bullseye     | PASS           |
+---------------------+----------------+
| Fedora 38 (Clang)   | PEND           |
+---------------------+----------------+
| Fedora 39           | PEND           |
+---------------------+----------------+
| Fedora 37           | PEND           |
+---------------------+----------------+
| Fedora 38           | PEND           |
+---------------------+----------------+
| Fedora 39 (Clang)   | PEND           |
+---------------------+----------------+
| Fedora 40 (Clang)   | PEND           |
+---------------------+----------------+
| Fedora 40           | PEND           |
+---------------------+----------------+
| openSUSE Leap 15    | PEND           |
+---------------------+----------------+
| RHEL8               | PEND           |
+---------------------+----------------+
| RHEL9               | PEND           |
+---------------------+----------------+
| Ubuntu 20.04        | PEND           |
+---------------------+----------------+
| Ubuntu 22.04        | PEND           |
+---------------------+----------------+
| Ubuntu 24.04        | PEND           |
+---------------------+----------------+
| Windows Server 2019 | PASS           |
+---------------------+----------------+
| Windows Server 2022 | PASS           |
+---------------------+----------------+


CentOS Stream 8
	Kernel: 5.4.0-167-generic
	Compiler: gcc 8.5.0 20210514

CentOS Stream 9
	Kernel: 5.4.0-167-generic
	Compiler: gcc 11.4.1 20230605

Debian 12
	Kernel: Container Host Kernel
	Compiler: gcc 12.2.0

Debian Bullseye
	Kernel: 5.4.0-167-generic
	Compiler: gcc 10.2.1-6

Fedora 38 (Clang)
	Kernel: Depends on container host
	Compiler: clang 16.0.6

Fedora 39
	Kernel: Depends on container host
	Compiler: gcc 13.2.1

Fedora 37
	Kernel: Depends on container host system
	Compiler: gcc 12.3.1

Fedora 38
	Kernel: Depends on container host
	Compiler: gcc 13.2.1

Fedora 39 (Clang)
	Kernel: Depends on container host
	Compiler: clang 17.0.6

Fedora 40 (Clang)
	Kernel: Depends on container host
	Compiler: clang 18.1.6

Fedora 40
	Kernel: Depends on container host
	Compiler: gcc 14.1.1

openSUSE Leap 15
	Kernel: 5.4.0-167-generic
	Compiler: gcc 7.5.0

RHEL8
	Kernel: 5.4.0-167-generic
	Compiler: gcc 8.5.0 20210514 (Red Hat 8.5.0-20)

RHEL9
	Kernel: Depends on container host
	Compiler: gcc 11.4.1

Ubuntu 20.04
	Kernel: 5.4.0-167-generic
	Compiler: gcc 9.4.0-1ubuntu1~20.04.1

Ubuntu 22.04
	Kernel: 5.4.0-167-generic
	Compiler: gcc 11.4.0

Ubuntu 24.04
	Kernel: 5.4.0-167-generic
	Compiler: gcc 13.2.0

Windows Server 2019
	Kernel: 10.0.17763
	Compiler: clang 14.0 and gcc 8.1.0 (MinGW)

Windows Server 2022
	Kernel: 10.0.20348.2031
	Compiler: clang 15.0.7, gcc 8.1.0 (MinGW), and MSVC VS 17.9

To view detailed results, visit:
https://lab.dpdk.org/results/dashboard/patchsets/30537/

UNH-IOL DPDK Community Lab

To manage your email subscriptions, visit: 
https://lab.dpdk.org/results/dashboard/preferences/subscriptions/