From mboxrd@z Thu Jan  1 00:00:00 1970
Return-Path: <test-report-bounces@dpdk.org>
Received: from mails.dpdk.org (mails.dpdk.org [217.70.189.124])
	by inbox.dpdk.org (Postfix) with ESMTP id 61C1645638
	for <public@inbox.dpdk.org>; Wed, 17 Jul 2024 16:10:40 +0200 (CEST)
Received: from mails.dpdk.org (localhost [127.0.0.1])
	by mails.dpdk.org (Postfix) with ESMTP id 5B32440616;
	Wed, 17 Jul 2024 16:10:40 +0200 (CEST)
Received: from mail-yb1-f227.google.com (mail-yb1-f227.google.com
 [209.85.219.227])
 by mails.dpdk.org (Postfix) with ESMTP id 26BE840280
 for <test-report@dpdk.org>; Wed, 17 Jul 2024 16:10:39 +0200 (CEST)
Received: by mail-yb1-f227.google.com with SMTP id
 3f1490d57ef6-e0354459844so6703856276.3
 for <test-report@dpdk.org>; Wed, 17 Jul 2024 07:10:39 -0700 (PDT)
DKIM-Signature: v=1; a=rsa-sha256; c=relaxed/relaxed;
 d=iol.unh.edu; s=unh-iol; t=1721225438; x=1721830238; darn=dpdk.org;
 h=references:in-reply-to:cc:to:from:subject:message-id:date:from:to
 :cc:subject:date:message-id:reply-to;
 bh=orWmFiQAgmWDjr/sa79q5bgmadALv3LVl+mR7x9Zncw=;
 b=KEZ4qNLhX6jcahPewpwxEzfMQzo6wHfMfHf8w3cku6IioU/laAy8SZLMQmksgV47HP
 gUcv9uUDB+ybsaY9skWeLs04Ue5bCx/P3hREG5ITgNcLwdObgeFDJ2ERn8RBElqrJ7r4
 7+bP5jun9dTtu4vlcwRZFFCiCbCj9DDQdf/H4=
X-Google-DKIM-Signature: v=1; a=rsa-sha256; c=relaxed/relaxed;
 d=1e100.net; s=20230601; t=1721225438; x=1721830238;
 h=references:in-reply-to:cc:to:from:subject:message-id:date
 :x-gm-message-state:from:to:cc:subject:date:message-id:reply-to;
 bh=orWmFiQAgmWDjr/sa79q5bgmadALv3LVl+mR7x9Zncw=;
 b=by874JxNl5LaV48rqcFfm3U7onuw8gEYboB4J4R3MLwzJ59rdLEZ3FVtdnfZsaZHc7
 aJr7ZzVZgPhl+6+CVa2htCQnWCLmWIbiDGRiFwHzJSL2E40jzRT03d3jcd9OZtVYBZVC
 QbUz5eKyuMq96c1gS7a+5EreSn74mofTTI/Btkx05sbR4Sfhm2pKzZtVBBsByKYG5RYD
 S/w1n2rmdsRELYiBb5KOga3U+0p7umfPl902Mi7BJTPxwOnmUi1KHsmZOJQfGtMNG9iY
 YVaTWDZTVX6ZkmdwoGOGt0QN5HWPVgPK44itsX6Tegewxh6Lro7EW/cpSaPlpaleUcQW
 Zmqw==
X-Gm-Message-State: AOJu0YyLvIGoxTVTjHtc89y60zR4S6HTTcU1cVjxW4ESPkHK0tSmMwX8
 W2IjMbMSo7cogodWUOezfAWo338hw1JwGMiGCbu32JQDRd8MZZOcHEzqiuc9PSNuxd2Zh50Ifan
 E9aUaRdl7QqCHyyqQ5cP7twztX0S3PZlHMY6bS9Yb
X-Google-Smtp-Source: AGHT+IE5q4ktQR/P4WV53/JsqyVQyYvVuNJe5cqJ3/LfiP0cOmaQKoFLOvFtB0TYvLVv49Ul2fQ8KuxWNHqB
X-Received: by 2002:a05:6902:100f:b0:e03:c414:a8a9 with SMTP id
 3f1490d57ef6-e05ed702262mr1917203276.23.1721225438527; 
 Wed, 17 Jul 2024 07:10:38 -0700 (PDT)
Received: from postal.iol.unh.edu (postal.iol.unh.edu. [132.177.123.84])
 by smtp-relay.gmail.com with ESMTPS id
 3f1490d57ef6-e05a42fbb0fsm515431276.6.2024.07.17.07.10.38
 (version=TLS1_2 cipher=ECDHE-ECDSA-AES128-GCM-SHA256 bits=128/128);
 Wed, 17 Jul 2024 07:10:38 -0700 (PDT)
X-Relaying-Domain: iol.unh.edu
Date: Wed, 17 Jul 2024 07:10:38 -0700 (PDT)
Message-ID: <6697d0de.050a0220.5f255.7f98SMTPIN_ADDED_MISSING@mx.google.com>
Received: from [172.21.0.6] (unknown [172.18.0.240])
 by postal.iol.unh.edu (Postfix) with ESMTP id 2E75860526E2;
 Wed, 17 Jul 2024 10:10:38 -0400 (EDT)
Subject: |PENDING| pw142457 [PATCH] doc: document mlx5 HWS actions order
From: dpdklab@iol.unh.edu
To: Test Report <test-report@dpdk.org>
Cc: dpdk-test-reports@iol.unh.edu
In-Reply-To: <20240717123620.245635-1-mkashani@nvidia.com>
References: <20240717123620.245635-1-mkashani@nvidia.com>
Content-Type: text/plain
X-BeenThere: test-report@dpdk.org
X-Mailman-Version: 2.1.29
Precedence: list
List-Id: automatic DPDK test reports <test-report.dpdk.org>
List-Unsubscribe: <https://mails.dpdk.org/options/test-report>,
 <mailto:test-report-request@dpdk.org?subject=unsubscribe>
List-Archive: <http://mails.dpdk.org/archives/test-report/>
List-Post: <mailto:test-report@dpdk.org>
List-Help: <mailto:test-report-request@dpdk.org?subject=help>
List-Subscribe: <https://mails.dpdk.org/listinfo/test-report>,
 <mailto:test-report-request@dpdk.org?subject=subscribe>
Errors-To: test-report-bounces@dpdk.org

Test-Label: iol-unit-amd64-testing
Test-Status: PENDING
http://dpdk.org/patch/142457

_Testing pending_

Submitter: Maayan Kashani <mkashani@nvidia.com>
Date: Wednesday, July 17 2024 12:36:09 
DPDK git baseline: Repo:dpdk
  Branch: master
  CommitID:fa8d2f7f28524a6c8defa3dcd94f5aa131aae084

142457 --> testing pending

Test environment and result as below:

+---------------------+----------------+
|     Environment     | dpdk_unit_test |
+=====================+================+
| CentOS Stream 8     | PEND           |
+---------------------+----------------+
| CentOS Stream 9     | PASS           |
+---------------------+----------------+
| Debian 12           | PASS           |
+---------------------+----------------+
| Debian Bullseye     | PASS           |
+---------------------+----------------+
| Fedora 38 (Clang)   | PEND           |
+---------------------+----------------+
| Fedora 39           | PASS           |
+---------------------+----------------+
| Fedora 37           | PEND           |
+---------------------+----------------+
| Fedora 38           | PEND           |
+---------------------+----------------+
| Fedora 39 (Clang)   | PEND           |
+---------------------+----------------+
| Fedora 40 (Clang)   | PEND           |
+---------------------+----------------+
| Fedora 40           | PEND           |
+---------------------+----------------+
| openSUSE Leap 15    | PEND           |
+---------------------+----------------+
| RHEL8               | PEND           |
+---------------------+----------------+
| RHEL9               | PEND           |
+---------------------+----------------+
| Ubuntu 20.04        | PEND           |
+---------------------+----------------+
| Ubuntu 22.04        | PEND           |
+---------------------+----------------+
| Ubuntu 24.04        | PEND           |
+---------------------+----------------+
| Windows Server 2019 | PASS           |
+---------------------+----------------+
| Windows Server 2022 | PASS           |
+---------------------+----------------+


CentOS Stream 8
	Kernel: 5.4.0-167-generic
	Compiler: gcc 8.5.0 20210514

CentOS Stream 9
	Kernel: 5.4.0-167-generic
	Compiler: gcc 11.4.1 20230605

Debian 12
	Kernel: Container Host Kernel
	Compiler: gcc 12.2.0

Debian Bullseye
	Kernel: 5.4.0-167-generic
	Compiler: gcc 10.2.1-6

Fedora 38 (Clang)
	Kernel: Depends on container host
	Compiler: clang 16.0.6

Fedora 39
	Kernel: Depends on container host
	Compiler: gcc 13.2.1

Fedora 37
	Kernel: Depends on container host system
	Compiler: gcc 12.3.1

Fedora 38
	Kernel: Depends on container host
	Compiler: gcc 13.2.1

Fedora 39 (Clang)
	Kernel: Depends on container host
	Compiler: clang 17.0.6

Fedora 40 (Clang)
	Kernel: Depends on container host
	Compiler: clang 18.1.6

Fedora 40
	Kernel: Depends on container host
	Compiler: gcc 14.1.1

openSUSE Leap 15
	Kernel: 5.4.0-167-generic
	Compiler: gcc 7.5.0

RHEL8
	Kernel: 5.4.0-167-generic
	Compiler: gcc 8.5.0 20210514 (Red Hat 8.5.0-20)

RHEL9
	Kernel: Depends on container host
	Compiler: gcc 11.4.1

Ubuntu 20.04
	Kernel: 5.4.0-167-generic
	Compiler: gcc 9.4.0-1ubuntu1~20.04.1

Ubuntu 22.04
	Kernel: 5.4.0-167-generic
	Compiler: gcc 11.4.0

Ubuntu 24.04
	Kernel: 5.4.0-167-generic
	Compiler: gcc 13.2.0

Windows Server 2019
	Kernel: 10.0.17763
	Compiler: clang 14.0 and gcc 8.1.0 (MinGW)

Windows Server 2022
	Kernel: 10.0.20348.2031
	Compiler: clang 15.0.7, gcc 8.1.0 (MinGW), and MSVC VS 17.9

To view detailed results, visit:
https://lab.dpdk.org/results/dashboard/patchsets/30537/

UNH-IOL DPDK Community Lab

To manage your email subscriptions, visit: 
https://lab.dpdk.org/results/dashboard/preferences/subscriptions/