From mboxrd@z Thu Jan  1 00:00:00 1970
Return-Path: <test-report-bounces@dpdk.org>
Received: from mails.dpdk.org (mails.dpdk.org [217.70.189.124])
	by inbox.dpdk.org (Postfix) with ESMTP id A4CA34563A
	for <public@inbox.dpdk.org>; Wed, 17 Jul 2024 20:48:33 +0200 (CEST)
Received: from mails.dpdk.org (localhost [127.0.0.1])
	by mails.dpdk.org (Postfix) with ESMTP id 83A0B402A9;
	Wed, 17 Jul 2024 20:48:33 +0200 (CEST)
Received: from mail-il1-f228.google.com (mail-il1-f228.google.com
 [209.85.166.228])
 by mails.dpdk.org (Postfix) with ESMTP id 24E46402A2
 for <test-report@dpdk.org>; Wed, 17 Jul 2024 20:48:32 +0200 (CEST)
Received: by mail-il1-f228.google.com with SMTP id
 e9e14a558f8ab-383e7a29808so5759715ab.3
 for <test-report@dpdk.org>; Wed, 17 Jul 2024 11:48:32 -0700 (PDT)
DKIM-Signature: v=1; a=rsa-sha256; c=relaxed/relaxed;
 d=iol.unh.edu; s=unh-iol; t=1721242111; x=1721846911; darn=dpdk.org;
 h=references:in-reply-to:cc:to:from:subject:message-id:date:from:to
 :cc:subject:date:message-id:reply-to;
 bh=HG8tmESZ1NnQ60eyu44G/0LY0Ms90ZygBBOUrmCWHvM=;
 b=F4Ay5q0TP1OoASIXRDaoy4lrjM34jnbY3iz1YkV9JlK6/upnnr1Flo66LtPCGLp/ob
 bbv3N7VDeEB65Qp9KLpXeRCtiCKQV5uEPM8aBkolkiXlNxREKZ1mMFmGFCRHxO7Eb8Us
 USdACfuREkAMr+3h/WV5tR+f3eF2IJYpd43Os=
X-Google-DKIM-Signature: v=1; a=rsa-sha256; c=relaxed/relaxed;
 d=1e100.net; s=20230601; t=1721242111; x=1721846911;
 h=references:in-reply-to:cc:to:from:subject:message-id:date
 :x-gm-message-state:from:to:cc:subject:date:message-id:reply-to;
 bh=HG8tmESZ1NnQ60eyu44G/0LY0Ms90ZygBBOUrmCWHvM=;
 b=BqsI00DoakMXy4j1Z1iHuvkRih8bLOdULVtotjizn5arYKPxJJ+s6o7anAndSoBi2S
 H+T4UukhsJj7365Fax+8CoEME+LOKESU+A1hGSNl/xHmUlnh0Yq/v4k1lembQggruRvT
 gFp06AtnxvcDte3xhFMbg6HQgjeTYMtauvpszv+HgE1kiFCfLaDOIdymqbNEcq4gRfIL
 waKm97bXOIeVSYc81UOUxSEno6Fky/MckE/JHItatqW8/nZOqKwAsWm7i+C/QAjZeKA0
 Hc/ss2FbRNewuHwhM7HpHsXPzZdV+t6ytvsVRXiK5AC3fowqEzj7IMmAv6h25lzV3L7w
 ahiw==
X-Gm-Message-State: AOJu0YzPAcUskV2eh/dh37kTUcPS4fS+B/eB+kIO2o/mnJJWl3TA2VYQ
 DUYZz9a87soCZ5M6Yip7puDDjzQyy0Kwox3878kKyuQwGERYnJYx+SeEC3Dv2NHL+0DOyl7rDfg
 rxok4F9EMjL39ugqwCUG2LTwvgFdauo5qYRowpEizYhFdcRg+xx6AjsA5
X-Google-Smtp-Source: AGHT+IFCQ1ovO76fo0cBxK97yJTWRPWuJNsYo3p5Ddj6i9KCTRAzlSfdyDkyft6kT4vaAWwF84Y40CRUYXNT
X-Received: by 2002:a05:6e02:1a67:b0:376:f4be:276c with SMTP id
 e9e14a558f8ab-39555ebf9d4mr34752925ab.17.1721242111297; 
 Wed, 17 Jul 2024 11:48:31 -0700 (PDT)
Received: from postal.iol.unh.edu (postal.iol.unh.edu.
 [2606:4100:3880:1234::84]) by smtp-relay.gmail.com with ESMTPS id
 e9e14a558f8ab-3950d0b5d33sm1865765ab.69.2024.07.17.11.48.31
 (version=TLS1_2 cipher=ECDHE-ECDSA-AES128-GCM-SHA256 bits=128/128);
 Wed, 17 Jul 2024 11:48:31 -0700 (PDT)
X-Relaying-Domain: iol.unh.edu
Date: Wed, 17 Jul 2024 11:48:31 -0700 (PDT)
Message-ID: <669811ff.050a0220.87418.74f2SMTPIN_ADDED_MISSING@mx.google.com>
Received: from [172.21.0.7] (unknown [172.18.0.240])
 by postal.iol.unh.edu (Postfix) with ESMTP id D04E4605C351;
 Wed, 17 Jul 2024 14:48:30 -0400 (EDT)
Subject: |PENDING| pw142482 [PATCH] net/mlx5: fix the uplink port probing in 
From: dpdklab@iol.unh.edu
To: Test Report <test-report@dpdk.org>
Cc: dpdk-test-reports@iol.unh.edu
In-Reply-To: <20240717163541.324772-1-bingz@nvidia.com>
References: <20240717163541.324772-1-bingz@nvidia.com>
Content-Type: text/plain
X-BeenThere: test-report@dpdk.org
X-Mailman-Version: 2.1.29
Precedence: list
List-Id: automatic DPDK test reports <test-report.dpdk.org>
List-Unsubscribe: <https://mails.dpdk.org/options/test-report>,
 <mailto:test-report-request@dpdk.org?subject=unsubscribe>
List-Archive: <http://mails.dpdk.org/archives/test-report/>
List-Post: <mailto:test-report@dpdk.org>
List-Help: <mailto:test-report-request@dpdk.org?subject=help>
List-Subscribe: <https://mails.dpdk.org/listinfo/test-report>,
 <mailto:test-report-request@dpdk.org?subject=subscribe>
Errors-To: test-report-bounces@dpdk.org

Test-Label: iol-abi-testing
Test-Status: PENDING
http://dpdk.org/patch/142482

_Testing pending_

Submitter: Bing Zhao <bingz@nvidia.com>
Date: Wednesday, July 17 2024 16:35:41 
DPDK git baseline: Repo:dpdk
  Branch: master
  CommitID:fa8d2f7f28524a6c8defa3dcd94f5aa131aae084

142482 --> testing pending

Test environment and result as below:

+-------------------+----------+
|    Environment    | abi_test |
+===================+==========+
| CentOS Stream 8   | PASS     |
+-------------------+----------+
| CentOS Stream 9   | PEND     |
+-------------------+----------+
| Debian Bullseye   | PEND     |
+-------------------+----------+
| Fedora 37         | PASS     |
+-------------------+----------+
| Debian 12         | PEND     |
+-------------------+----------+
| Fedora 38         | PASS     |
+-------------------+----------+
| Fedora 38 (Clang) | PEND     |
+-------------------+----------+
| Fedora 39         | PEND     |
+-------------------+----------+
| Fedora 39 (Clang) | PASS     |
+-------------------+----------+
| Fedora 40 (Clang) | PASS     |
+-------------------+----------+
| openSUSE Leap 15  | PEND     |
+-------------------+----------+
| RHEL9             | PEND     |
+-------------------+----------+
| Ubuntu 22.04      | PEND     |
+-------------------+----------+
| Ubuntu 24.04      | PEND     |
+-------------------+----------+
| Fedora 40         | PEND     |
+-------------------+----------+
| RHEL8             | PEND     |
+-------------------+----------+


CentOS Stream 8
	Kernel: 5.4.0-167-generic
	Compiler: gcc 8.5.0 20210514

CentOS Stream 9
	Kernel: 5.4.0-167-generic
	Compiler: gcc 11.4.1 20230605

Debian Bullseye
	Kernel: 5.4.0-167-generic
	Compiler: gcc 10.2.1-6

Fedora 37
	Kernel: Depends on container host system
	Compiler: gcc 12.3.1

Debian 12
	Kernel: Container Host Kernel
	Compiler: gcc 12.2.0

Fedora 38
	Kernel: Depends on container host
	Compiler: gcc 13.2.1

Fedora 38 (Clang)
	Kernel: Depends on container host
	Compiler: clang 16.0.6

Fedora 39
	Kernel: Depends on container host
	Compiler: gcc 13.2.1

Fedora 39 (Clang)
	Kernel: Depends on container host
	Compiler: clang 17.0.6

Fedora 40 (Clang)
	Kernel: Depends on container host
	Compiler: clang 18.1.6

openSUSE Leap 15
	Kernel: 5.4.0-167-generic
	Compiler: gcc 7.5.0

RHEL9
	Kernel: Depends on container host
	Compiler: gcc 11.4.1

Ubuntu 22.04
	Kernel: 5.4.0-167-generic
	Compiler: gcc 11.4.0

Ubuntu 24.04
	Kernel: 5.4.0-167-generic
	Compiler: gcc 13.2.0

Fedora 40
	Kernel: Depends on container host
	Compiler: gcc 14.1.1

RHEL8
	Kernel: 5.4.0-167-generic
	Compiler: gcc 8.5.0 20210514 (Red Hat 8.5.0-20)

To view detailed results, visit:
https://lab.dpdk.org/results/dashboard/patchsets/30542/

UNH-IOL DPDK Community Lab

To manage your email subscriptions, visit: 
https://lab.dpdk.org/results/dashboard/preferences/subscriptions/