From mboxrd@z Thu Jan  1 00:00:00 1970
Return-Path: <test-report-bounces@dpdk.org>
Received: from mails.dpdk.org (mails.dpdk.org [217.70.189.124])
	by inbox.dpdk.org (Postfix) with ESMTP id DD8534563A
	for <public@inbox.dpdk.org>; Wed, 17 Jul 2024 21:05:19 +0200 (CEST)
Received: from mails.dpdk.org (localhost [127.0.0.1])
	by mails.dpdk.org (Postfix) with ESMTP id DACA6402A9;
	Wed, 17 Jul 2024 21:05:19 +0200 (CEST)
Received: from mail-pl1-f228.google.com (mail-pl1-f228.google.com
 [209.85.214.228])
 by mails.dpdk.org (Postfix) with ESMTP id CC469402A9
 for <test-report@dpdk.org>; Wed, 17 Jul 2024 21:05:18 +0200 (CEST)
Received: by mail-pl1-f228.google.com with SMTP id
 d9443c01a7336-1fc569440e1so539545ad.3
 for <test-report@dpdk.org>; Wed, 17 Jul 2024 12:05:18 -0700 (PDT)
DKIM-Signature: v=1; a=rsa-sha256; c=relaxed/relaxed;
 d=iol.unh.edu; s=unh-iol; t=1721243118; x=1721847918; darn=dpdk.org;
 h=references:in-reply-to:cc:to:from:subject:message-id:date:from:to
 :cc:subject:date:message-id:reply-to;
 bh=Kg8O4avwSoIXnj5Q87ONdS1/+cT7VPObhSbSVGf1JMA=;
 b=QJ9cuS0lmw68QTl6luendCgrjnjytX+z1E2PKke5cyaurf6wthejP+jkt3zzuJO/7F
 CR4+NJ/8M21Yk7c9sb1+8Gh6QIsCjACeAsqO6XBzKDTvjqKF39kZbpvyMGoAKW/0Q37U
 Qop6P7LojkCjSgmm1IIb94uQOULyjpPMnzFDk=
X-Google-DKIM-Signature: v=1; a=rsa-sha256; c=relaxed/relaxed;
 d=1e100.net; s=20230601; t=1721243118; x=1721847918;
 h=references:in-reply-to:cc:to:from:subject:message-id:date
 :x-gm-message-state:from:to:cc:subject:date:message-id:reply-to;
 bh=Kg8O4avwSoIXnj5Q87ONdS1/+cT7VPObhSbSVGf1JMA=;
 b=SMGbWYcdDtHLfTCFU11Wuom6GiFtIjtaIxAp9zmd8ajMY1vdObirM7g6JEPJcdpvPT
 4x3Z8mq8TsaTkQVlX15MCt5lC5x7a90eSsMveWn+Iz4i0DPJ/YAY6FJjKUNrD7XqMCDY
 5cWXcMzeTR806JAggs00iJhd1RLIU9C+d5B5iiOYyN+QFxq1K6bPk5neMJ3VTxJFYKke
 WKy3uIHwGEJqkUYQLl1oiqcxXSZGlyMdSZ+gENNdvAP4we0TxycDbSNC28BU6yhl43bh
 QJqLQpSQoFcxC7jpgb2WS50tmkcVEOygBi2/OPb6m97eBaO0qBBPLLfhNRtfQ/62gzbu
 nDMg==
X-Gm-Message-State: AOJu0YzlNyky8WGomM6g+tz7A6d+QDQz9RODAfo37T3Lf7wny4KLbiD0
 sn7QGbJ+kOxHhR8fkwaZGspUJPX/Z+dftBd4sYKvQQQvFg9jTfTV/V28gkbAqILSuIdsseDSOs6
 KCj5kR2uYAXfTaG1+hncawsVxShOWqyxA3ti3HzgViJ0vzBFiXeJ6bKjx
X-Google-Smtp-Source: AGHT+IHV7Zsgq/CTjr1CrW3Kzkm/8Ht2Rf5e7lkJcy/tdqYboJfiumweP/8yAceVy8opkKzrATZH+FeBdO8V
X-Received: by 2002:a17:902:c94d:b0:1fb:5808:73c9 with SMTP id
 d9443c01a7336-1fc4e676606mr23754445ad.33.1721243117808; 
 Wed, 17 Jul 2024 12:05:17 -0700 (PDT)
Received: from postal.iol.unh.edu (postal.iol.unh.edu.
 [2606:4100:3880:1234::84]) by smtp-relay.gmail.com with ESMTPS id
 d9443c01a7336-1fc0bbc2472sm3145135ad.65.2024.07.17.12.05.17
 (version=TLS1_2 cipher=ECDHE-ECDSA-AES128-GCM-SHA256 bits=128/128);
 Wed, 17 Jul 2024 12:05:17 -0700 (PDT)
X-Relaying-Domain: iol.unh.edu
Date: Wed, 17 Jul 2024 12:05:17 -0700 (PDT)
Message-ID: <669815ed.170a0220.e6d2e.f453SMTPIN_ADDED_MISSING@mx.google.com>
Received: from [172.21.0.7] (unknown [172.18.0.240])
 by postal.iol.unh.edu (Postfix) with ESMTP id 05E13605C351;
 Wed, 17 Jul 2024 15:05:17 -0400 (EDT)
Subject: |PENDING| pw142482 [PATCH] net/mlx5: fix the uplink port probing in 
From: dpdklab@iol.unh.edu
To: Test Report <test-report@dpdk.org>
Cc: dpdk-test-reports@iol.unh.edu
In-Reply-To: <20240717163541.324772-1-bingz@nvidia.com>
References: <20240717163541.324772-1-bingz@nvidia.com>
Content-Type: text/plain
X-BeenThere: test-report@dpdk.org
X-Mailman-Version: 2.1.29
Precedence: list
List-Id: automatic DPDK test reports <test-report.dpdk.org>
List-Unsubscribe: <https://mails.dpdk.org/options/test-report>,
 <mailto:test-report-request@dpdk.org?subject=unsubscribe>
List-Archive: <http://mails.dpdk.org/archives/test-report/>
List-Post: <mailto:test-report@dpdk.org>
List-Help: <mailto:test-report-request@dpdk.org?subject=help>
List-Subscribe: <https://mails.dpdk.org/listinfo/test-report>,
 <mailto:test-report-request@dpdk.org?subject=subscribe>
Errors-To: test-report-bounces@dpdk.org

Test-Label: iol-abi-testing
Test-Status: PENDING
http://dpdk.org/patch/142482

_Testing pending_

Submitter: Bing Zhao <bingz@nvidia.com>
Date: Wednesday, July 17 2024 16:35:41 
DPDK git baseline: Repo:dpdk
  Branch: master
  CommitID:fa8d2f7f28524a6c8defa3dcd94f5aa131aae084

142482 --> testing pending

Test environment and result as below:

+-------------------+----------+
|    Environment    | abi_test |
+===================+==========+
| CentOS Stream 8   | PASS     |
+-------------------+----------+
| CentOS Stream 9   | PASS     |
+-------------------+----------+
| Debian Bullseye   | PASS     |
+-------------------+----------+
| Fedora 37         | PASS     |
+-------------------+----------+
| Debian 12         | PASS     |
+-------------------+----------+
| Fedora 38         | PASS     |
+-------------------+----------+
| Fedora 38 (Clang) | PASS     |
+-------------------+----------+
| Fedora 39         | PASS     |
+-------------------+----------+
| Fedora 39 (Clang) | PASS     |
+-------------------+----------+
| Fedora 40 (Clang) | PASS     |
+-------------------+----------+
| openSUSE Leap 15  | PASS     |
+-------------------+----------+
| RHEL9             | PEND     |
+-------------------+----------+
| Ubuntu 22.04      | PASS     |
+-------------------+----------+
| Ubuntu 24.04      | PEND     |
+-------------------+----------+
| Fedora 40         | PEND     |
+-------------------+----------+
| RHEL8             | PEND     |
+-------------------+----------+


CentOS Stream 8
	Kernel: 5.4.0-167-generic
	Compiler: gcc 8.5.0 20210514

CentOS Stream 9
	Kernel: 5.4.0-167-generic
	Compiler: gcc 11.4.1 20230605

Debian Bullseye
	Kernel: 5.4.0-167-generic
	Compiler: gcc 10.2.1-6

Fedora 37
	Kernel: Depends on container host system
	Compiler: gcc 12.3.1

Debian 12
	Kernel: Container Host Kernel
	Compiler: gcc 12.2.0

Fedora 38
	Kernel: Depends on container host
	Compiler: gcc 13.2.1

Fedora 38 (Clang)
	Kernel: Depends on container host
	Compiler: clang 16.0.6

Fedora 39
	Kernel: Depends on container host
	Compiler: gcc 13.2.1

Fedora 39 (Clang)
	Kernel: Depends on container host
	Compiler: clang 17.0.6

Fedora 40 (Clang)
	Kernel: Depends on container host
	Compiler: clang 18.1.6

openSUSE Leap 15
	Kernel: 5.4.0-167-generic
	Compiler: gcc 7.5.0

RHEL9
	Kernel: Depends on container host
	Compiler: gcc 11.4.1

Ubuntu 22.04
	Kernel: 5.4.0-167-generic
	Compiler: gcc 11.4.0

Ubuntu 24.04
	Kernel: 5.4.0-167-generic
	Compiler: gcc 13.2.0

Fedora 40
	Kernel: Depends on container host
	Compiler: gcc 14.1.1

RHEL8
	Kernel: 5.4.0-167-generic
	Compiler: gcc 8.5.0 20210514 (Red Hat 8.5.0-20)

To view detailed results, visit:
https://lab.dpdk.org/results/dashboard/patchsets/30542/

UNH-IOL DPDK Community Lab

To manage your email subscriptions, visit: 
https://lab.dpdk.org/results/dashboard/preferences/subscriptions/