From mboxrd@z Thu Jan  1 00:00:00 1970
Return-Path: <test-report-bounces@dpdk.org>
Received: from mails.dpdk.org (mails.dpdk.org [217.70.189.124])
	by inbox.dpdk.org (Postfix) with ESMTP id 2A2E64563A
	for <public@inbox.dpdk.org>; Wed, 17 Jul 2024 21:26:44 +0200 (CEST)
Received: from mails.dpdk.org (localhost [127.0.0.1])
	by mails.dpdk.org (Postfix) with ESMTP id 26DE4402A9;
	Wed, 17 Jul 2024 21:26:44 +0200 (CEST)
Received: from mail-il1-f228.google.com (mail-il1-f228.google.com
 [209.85.166.228])
 by mails.dpdk.org (Postfix) with ESMTP id 896E3402A2
 for <test-report@dpdk.org>; Wed, 17 Jul 2024 21:26:41 +0200 (CEST)
Received: by mail-il1-f228.google.com with SMTP id
 e9e14a558f8ab-380deeb250eso5664015ab.1
 for <test-report@dpdk.org>; Wed, 17 Jul 2024 12:26:41 -0700 (PDT)
DKIM-Signature: v=1; a=rsa-sha256; c=relaxed/relaxed;
 d=iol.unh.edu; s=unh-iol; t=1721244401; x=1721849201; darn=dpdk.org;
 h=references:in-reply-to:cc:to:from:subject:message-id:date:from:to
 :cc:subject:date:message-id:reply-to;
 bh=M1CqU6JFlt2c/VBJvmBOj/FhnoyMhckGzOkrRLW2asg=;
 b=DDfj3Rfmdjiq7SNI20Clw0PpGSH6Hfp9/icf4lVmImm90g7JxQyr14wF8T+cEc4s2U
 mqz/Rl4s5l5TEGCWa06Sss2Ygnbl1pCY97W8lIK9Yy8km7a5LXHNaHkBkL3vNB+YNsLC
 Sbfh1ghMiGrNqYDY9W1CrEuKnEYtnsMCtOihY=
X-Google-DKIM-Signature: v=1; a=rsa-sha256; c=relaxed/relaxed;
 d=1e100.net; s=20230601; t=1721244401; x=1721849201;
 h=references:in-reply-to:cc:to:from:subject:message-id:date
 :x-gm-message-state:from:to:cc:subject:date:message-id:reply-to;
 bh=M1CqU6JFlt2c/VBJvmBOj/FhnoyMhckGzOkrRLW2asg=;
 b=OhQIOog2E9TGiSEFgyA40FgowzRSgsbSbAmfy913dDhVquEVvjGIymueN/b27IrLVu
 Tj53gXQOwx+Q8OxD2rBGs3yZcoZoJDeUsvCrkMnRRerXPFdxqo92/f0T2LFwDn39U8mP
 p5/L+8wCnJFAeCE4QShgCBReLAxLBbmIs8HwjupnrWWHcrlBSfCZk0SXkHEQxyTGnayM
 uw2rwoXRWqbG+ZBH9piYNIEJMqTXFLKKyjc11pJDXo63EFcxJkKAxtJjUT827f8tp/gS
 8hDawKwxAg9/vTXWequ6wXBmbeZYoQu1lp23NTIFAyGYzQPtvEn4PTb5DvJa/7y3JEKu
 c+Og==
X-Gm-Message-State: AOJu0Yzv3AGhfZPS8xEUBouBTMspmPG/oysyv47oFUiov9I/BIRVP5+y
 +Ry90LgL958XnqSGMC3JG7vd3agCxdUYomUkw2dS4UMJduS/ElBAyIfKTun6Yg2s1A1eZkZkWV+
 50P1adUF8ZV5Eup5k3xgSGoEklYBcVzU51IZmzeFbNtfUYArEQDP/paMI
X-Google-Smtp-Source: AGHT+IG2BlXCNY9xwmr5IE703sVXyNi+L4uatB0d1gu96ebn4x+jA781p0vn+x2NFMSmwssWKNy43b8S4A8B
X-Received: by 2002:a92:c561:0:b0:375:8a71:4cbe with SMTP id
 e9e14a558f8ab-39557049135mr38009205ab.21.1721244400923; 
 Wed, 17 Jul 2024 12:26:40 -0700 (PDT)
Received: from postal.iol.unh.edu (postal.iol.unh.edu.
 [2606:4100:3880:1234::84]) by smtp-relay.gmail.com with ESMTPS id
 e9e14a558f8ab-3950cbe5e3fsm1802785ab.47.2024.07.17.12.26.40
 (version=TLS1_2 cipher=ECDHE-ECDSA-AES128-GCM-SHA256 bits=128/128);
 Wed, 17 Jul 2024 12:26:40 -0700 (PDT)
X-Relaying-Domain: iol.unh.edu
Date: Wed, 17 Jul 2024 12:26:40 -0700 (PDT)
Message-ID: <66981af0.920a0220.d5d51.6774SMTPIN_ADDED_MISSING@mx.google.com>
Received: from [172.21.0.7] (unknown [172.18.0.240])
 by postal.iol.unh.edu (Postfix) with ESMTP id 77052605C351;
 Wed, 17 Jul 2024 15:26:40 -0400 (EDT)
Subject: |SUCCESS| pw142482 [PATCH] net/mlx5: fix the uplink port probing in 
From: dpdklab@iol.unh.edu
To: Test Report <test-report@dpdk.org>
Cc: dpdk-test-reports@iol.unh.edu
In-Reply-To: <20240717163541.324772-1-bingz@nvidia.com>
References: <20240717163541.324772-1-bingz@nvidia.com>
Content-Type: text/plain
X-BeenThere: test-report@dpdk.org
X-Mailman-Version: 2.1.29
Precedence: list
List-Id: automatic DPDK test reports <test-report.dpdk.org>
List-Unsubscribe: <https://mails.dpdk.org/options/test-report>,
 <mailto:test-report-request@dpdk.org?subject=unsubscribe>
List-Archive: <http://mails.dpdk.org/archives/test-report/>
List-Post: <mailto:test-report@dpdk.org>
List-Help: <mailto:test-report-request@dpdk.org?subject=help>
List-Subscribe: <https://mails.dpdk.org/listinfo/test-report>,
 <mailto:test-report-request@dpdk.org?subject=subscribe>
Errors-To: test-report-bounces@dpdk.org

Test-Label: iol-abi-testing
Test-Status: SUCCESS
http://dpdk.org/patch/142482

_Testing PASS_

Submitter: Bing Zhao <bingz@nvidia.com>
Date: Wednesday, July 17 2024 16:35:41 
DPDK git baseline: Repo:dpdk
  Branch: master
  CommitID:fa8d2f7f28524a6c8defa3dcd94f5aa131aae084

142482 --> testing pass

Test environment and result as below:

+-------------------+----------+
|    Environment    | abi_test |
+===================+==========+
| CentOS Stream 8   | PASS     |
+-------------------+----------+
| CentOS Stream 9   | PASS     |
+-------------------+----------+
| Debian Bullseye   | PASS     |
+-------------------+----------+
| Fedora 37         | PASS     |
+-------------------+----------+
| Debian 12         | PASS     |
+-------------------+----------+
| Fedora 38         | PASS     |
+-------------------+----------+
| Fedora 38 (Clang) | PASS     |
+-------------------+----------+
| Fedora 39         | PASS     |
+-------------------+----------+
| Fedora 39 (Clang) | PASS     |
+-------------------+----------+
| Fedora 40 (Clang) | PASS     |
+-------------------+----------+
| openSUSE Leap 15  | PASS     |
+-------------------+----------+
| RHEL9             | PASS     |
+-------------------+----------+
| Ubuntu 22.04      | PASS     |
+-------------------+----------+
| Ubuntu 24.04      | PASS     |
+-------------------+----------+
| Fedora 40         | PASS     |
+-------------------+----------+
| RHEL8             | PASS     |
+-------------------+----------+


CentOS Stream 8
	Kernel: 5.4.0-167-generic
	Compiler: gcc 8.5.0 20210514

CentOS Stream 9
	Kernel: 5.4.0-167-generic
	Compiler: gcc 11.4.1 20230605

Debian Bullseye
	Kernel: 5.4.0-167-generic
	Compiler: gcc 10.2.1-6

Fedora 37
	Kernel: Depends on container host system
	Compiler: gcc 12.3.1

Debian 12
	Kernel: Container Host Kernel
	Compiler: gcc 12.2.0

Fedora 38
	Kernel: Depends on container host
	Compiler: gcc 13.2.1

Fedora 38 (Clang)
	Kernel: Depends on container host
	Compiler: clang 16.0.6

Fedora 39
	Kernel: Depends on container host
	Compiler: gcc 13.2.1

Fedora 39 (Clang)
	Kernel: Depends on container host
	Compiler: clang 17.0.6

Fedora 40 (Clang)
	Kernel: Depends on container host
	Compiler: clang 18.1.6

openSUSE Leap 15
	Kernel: 5.4.0-167-generic
	Compiler: gcc 7.5.0

RHEL9
	Kernel: Depends on container host
	Compiler: gcc 11.4.1

Ubuntu 22.04
	Kernel: 5.4.0-167-generic
	Compiler: gcc 11.4.0

Ubuntu 24.04
	Kernel: 5.4.0-167-generic
	Compiler: gcc 13.2.0

Fedora 40
	Kernel: Depends on container host
	Compiler: gcc 14.1.1

RHEL8
	Kernel: 5.4.0-167-generic
	Compiler: gcc 8.5.0 20210514 (Red Hat 8.5.0-20)

To view detailed results, visit:
https://lab.dpdk.org/results/dashboard/patchsets/30542/

UNH-IOL DPDK Community Lab

To manage your email subscriptions, visit: 
https://lab.dpdk.org/results/dashboard/preferences/subscriptions/