From mboxrd@z Thu Jan  1 00:00:00 1970
Return-Path: <test-report-bounces@dpdk.org>
Received: from mails.dpdk.org (mails.dpdk.org [217.70.189.124])
	by inbox.dpdk.org (Postfix) with ESMTP id 91DE74563A
	for <public@inbox.dpdk.org>; Wed, 17 Jul 2024 21:44:10 +0200 (CEST)
Received: from mails.dpdk.org (localhost [127.0.0.1])
	by mails.dpdk.org (Postfix) with ESMTP id 89746402A9;
	Wed, 17 Jul 2024 21:44:10 +0200 (CEST)
Received: from mail-il1-f225.google.com (mail-il1-f225.google.com
 [209.85.166.225])
 by mails.dpdk.org (Postfix) with ESMTP id 4B1D3402A2
 for <test-report@dpdk.org>; Wed, 17 Jul 2024 21:44:09 +0200 (CEST)
Received: by mail-il1-f225.google.com with SMTP id
 e9e14a558f8ab-38c616bfb47so6321715ab.0
 for <test-report@dpdk.org>; Wed, 17 Jul 2024 12:44:09 -0700 (PDT)
DKIM-Signature: v=1; a=rsa-sha256; c=relaxed/relaxed;
 d=iol.unh.edu; s=unh-iol; t=1721245448; x=1721850248; darn=dpdk.org;
 h=references:in-reply-to:cc:to:from:subject:message-id:date:from:to
 :cc:subject:date:message-id:reply-to;
 bh=eGvETKWoKO1DmK/KiCNUVNPAJ/Iz9zvY5KUWL3SgC9M=;
 b=DGT2xA8tR01q4XluNaqhnZOk492YTJ0XbIdVtTKVK9W8PUj+aIxAalhGftGCnT0jJ5
 HEPlYPzFZW4C2dTpfWoGsf8V4TIpLRwLa0UwFK8O5yyqMeQuAiXkSBpu+mmc2sWLtoDJ
 iEMQ4YxfqWaBGP/m8Kk/kiOqQZ92TvFh2vFDQ=
X-Google-DKIM-Signature: v=1; a=rsa-sha256; c=relaxed/relaxed;
 d=1e100.net; s=20230601; t=1721245448; x=1721850248;
 h=references:in-reply-to:cc:to:from:subject:message-id:date
 :x-gm-message-state:from:to:cc:subject:date:message-id:reply-to;
 bh=eGvETKWoKO1DmK/KiCNUVNPAJ/Iz9zvY5KUWL3SgC9M=;
 b=jqBA42t7XM1iBhO+30mcbRxiYUEP8TehnZXqo7w6bAPQEArFi1B3++CfME4eSPufy/
 7smRPzcQ/ExrHhkKFTfI/7p6vz/6cwBYe90EWrH8uz1Ynrmds6KIymK5fuM4BVnwDT2T
 zXAdq6Ce2TpMaZpDWNGDIz+lUtaobeKiQw37WC/cffyD/gNskRhHKOHdbDSRkcFXyv4H
 plaeE1giPwJmcYqHXyVjjCUXbJE5xj0K92YCHzXcVqUsR50UNqFvIurmgABqHtt+Pynl
 R60VaDNsV/4BBd0nxGbDDARGHkA4SRxMD4++wx0p8Cw2u4x/1yz0hHA8Q0WvzFOlRW7k
 PfcQ==
X-Gm-Message-State: AOJu0YwzPp1P6CjWxHQBRPhIgM7cUlfgdAg4qaShWshc97WDlODi82rR
 5wyBCrjcgdbK26tC73BScAKg0O5HY0oKks0MxI8I5x0b53SWNKNUomFh8NQgIZABSeZb5tTC+Uy
 baGC+kE/49skK5CPpEEtsqFHJcPuaCkHbEDAQFKJhftVEzD8twQ6C6Nec
X-Google-Smtp-Source: AGHT+IEq5IBDBgpgVdai56G9LuawWtcjprH7g6k82+0nNO7zCdkl6X+u7Y/fZ7wKZ7Gdv5W0IdTOkk5lOiLo
X-Received: by 2002:a05:6e02:1a03:b0:375:b19d:deb4 with SMTP id
 e9e14a558f8ab-395557ffc88mr37798515ab.7.1721245448544; 
 Wed, 17 Jul 2024 12:44:08 -0700 (PDT)
Received: from postal.iol.unh.edu (postal.iol.unh.edu.
 [2606:4100:3880:1234::84]) by smtp-relay.gmail.com with ESMTPS id
 e9e14a558f8ab-3950d0b672esm1840405ab.75.2024.07.17.12.44.08
 (version=TLS1_2 cipher=ECDHE-ECDSA-AES128-GCM-SHA256 bits=128/128);
 Wed, 17 Jul 2024 12:44:08 -0700 (PDT)
X-Relaying-Domain: iol.unh.edu
Date: Wed, 17 Jul 2024 12:44:08 -0700 (PDT)
Message-ID: <66981f08.920a0220.d3824.6d87SMTPIN_ADDED_MISSING@mx.google.com>
Received: from [172.21.0.9] (unknown [172.18.0.240])
 by postal.iol.unh.edu (Postfix) with ESMTP id 09DC1605C351;
 Wed, 17 Jul 2024 15:44:08 -0400 (EDT)
Subject: |PENDING| pw142482 [PATCH] net/mlx5: fix the uplink port probing in 
From: dpdklab@iol.unh.edu
To: Test Report <test-report@dpdk.org>
Cc: dpdk-test-reports@iol.unh.edu
In-Reply-To: <20240717163541.324772-1-bingz@nvidia.com>
References: <20240717163541.324772-1-bingz@nvidia.com>
Content-Type: text/plain
X-BeenThere: test-report@dpdk.org
X-Mailman-Version: 2.1.29
Precedence: list
List-Id: automatic DPDK test reports <test-report.dpdk.org>
List-Unsubscribe: <https://mails.dpdk.org/options/test-report>,
 <mailto:test-report-request@dpdk.org?subject=unsubscribe>
List-Archive: <http://mails.dpdk.org/archives/test-report/>
List-Post: <mailto:test-report@dpdk.org>
List-Help: <mailto:test-report-request@dpdk.org?subject=help>
List-Subscribe: <https://mails.dpdk.org/listinfo/test-report>,
 <mailto:test-report-request@dpdk.org?subject=subscribe>
Errors-To: test-report-bounces@dpdk.org

Test-Label: iol-unit-amd64-testing
Test-Status: PENDING
http://dpdk.org/patch/142482

_Testing pending_

Submitter: Bing Zhao <bingz@nvidia.com>
Date: Wednesday, July 17 2024 16:35:41 
DPDK git baseline: Repo:dpdk
  Branch: master
  CommitID:fa8d2f7f28524a6c8defa3dcd94f5aa131aae084

142482 --> testing pending

Test environment and result as below:

+---------------------+----------------+
|     Environment     | dpdk_unit_test |
+=====================+================+
| CentOS Stream 8     | PASS           |
+---------------------+----------------+
| CentOS Stream 9     | PASS           |
+---------------------+----------------+
| Debian Bullseye     | PASS           |
+---------------------+----------------+
| Debian 12           | PASS           |
+---------------------+----------------+
| Fedora 37           | PASS           |
+---------------------+----------------+
| Fedora 38           | PASS           |
+---------------------+----------------+
| Fedora 38 (Clang)   | PASS           |
+---------------------+----------------+
| Fedora 39           | PASS           |
+---------------------+----------------+
| Windows Server 2019 | PASS           |
+---------------------+----------------+
| Fedora 39 (Clang)   | PASS           |
+---------------------+----------------+
| Windows Server 2022 | PASS           |
+---------------------+----------------+
| Fedora 40           | PASS           |
+---------------------+----------------+
| Fedora 40 (Clang)   | PASS           |
+---------------------+----------------+
| openSUSE Leap 15    | PASS           |
+---------------------+----------------+
| RHEL9               | PASS           |
+---------------------+----------------+
| Ubuntu 20.04        | PEND           |
+---------------------+----------------+
| RHEL8               | PASS           |
+---------------------+----------------+
| Ubuntu 22.04        | PEND           |
+---------------------+----------------+
| Ubuntu 24.04        | PEND           |
+---------------------+----------------+


CentOS Stream 8
	Kernel: 5.4.0-167-generic
	Compiler: gcc 8.5.0 20210514

CentOS Stream 9
	Kernel: 5.4.0-167-generic
	Compiler: gcc 11.4.1 20230605

Debian Bullseye
	Kernel: 5.4.0-167-generic
	Compiler: gcc 10.2.1-6

Debian 12
	Kernel: Container Host Kernel
	Compiler: gcc 12.2.0

Fedora 37
	Kernel: Depends on container host system
	Compiler: gcc 12.3.1

Fedora 38
	Kernel: Depends on container host
	Compiler: gcc 13.2.1

Fedora 38 (Clang)
	Kernel: Depends on container host
	Compiler: clang 16.0.6

Fedora 39
	Kernel: Depends on container host
	Compiler: gcc 13.2.1

Windows Server 2019
	Kernel: 10.0.17763
	Compiler: clang 14.0 and gcc 8.1.0 (MinGW)

Fedora 39 (Clang)
	Kernel: Depends on container host
	Compiler: clang 17.0.6

Windows Server 2022
	Kernel: 10.0.20348.2031
	Compiler: clang 15.0.7, gcc 8.1.0 (MinGW), and MSVC VS 17.9

Fedora 40
	Kernel: Depends on container host
	Compiler: gcc 14.1.1

Fedora 40 (Clang)
	Kernel: Depends on container host
	Compiler: clang 18.1.6

openSUSE Leap 15
	Kernel: 5.4.0-167-generic
	Compiler: gcc 7.5.0

RHEL9
	Kernel: Depends on container host
	Compiler: gcc 11.4.1

Ubuntu 20.04
	Kernel: 5.4.0-167-generic
	Compiler: gcc 9.4.0-1ubuntu1~20.04.1

RHEL8
	Kernel: 5.4.0-167-generic
	Compiler: gcc 8.5.0 20210514 (Red Hat 8.5.0-20)

Ubuntu 22.04
	Kernel: 5.4.0-167-generic
	Compiler: gcc 11.4.0

Ubuntu 24.04
	Kernel: 5.4.0-167-generic
	Compiler: gcc 13.2.0

To view detailed results, visit:
https://lab.dpdk.org/results/dashboard/patchsets/30542/

UNH-IOL DPDK Community Lab

To manage your email subscriptions, visit: 
https://lab.dpdk.org/results/dashboard/preferences/subscriptions/