From mboxrd@z Thu Jan  1 00:00:00 1970
Return-Path: <test-report-bounces@dpdk.org>
Received: from mails.dpdk.org (mails.dpdk.org [217.70.189.124])
	by inbox.dpdk.org (Postfix) with ESMTP id 83EA34563D
	for <public@inbox.dpdk.org>; Wed, 17 Jul 2024 23:39:02 +0200 (CEST)
Received: from mails.dpdk.org (localhost [127.0.0.1])
	by mails.dpdk.org (Postfix) with ESMTP id 7EF7940673;
	Wed, 17 Jul 2024 23:39:02 +0200 (CEST)
Received: from mail-yw1-f225.google.com (mail-yw1-f225.google.com
 [209.85.128.225])
 by mails.dpdk.org (Postfix) with ESMTP id 6378B40669
 for <test-report@dpdk.org>; Wed, 17 Jul 2024 23:39:01 +0200 (CEST)
Received: by mail-yw1-f225.google.com with SMTP id
 00721157ae682-64b29539d86so902997b3.2
 for <test-report@dpdk.org>; Wed, 17 Jul 2024 14:39:01 -0700 (PDT)
DKIM-Signature: v=1; a=rsa-sha256; c=relaxed/relaxed;
 d=iol.unh.edu; s=unh-iol; t=1721252341; x=1721857141; darn=dpdk.org;
 h=references:in-reply-to:cc:to:from:subject:message-id:date:from:to
 :cc:subject:date:message-id:reply-to;
 bh=nO3XIuqmwxD/qwFxhm9de96IVF7yM0M09uFRkXCez+0=;
 b=X0j67eUxZAl1M98Yer1GaPNVe9q8y/1aRN3p+fxXWD6RZgaspij2DMm6gDbsBOSoLB
 4B2g4/quqVURdaUnvtuRtPqaHDXKt5uW4sAlIaufM8C5HScAENlOywLNy5hS3O6d7A/P
 UfXKcUT/Jhw1jRG9pqL1zFE8TzZlrXcXg5ejU=
X-Google-DKIM-Signature: v=1; a=rsa-sha256; c=relaxed/relaxed;
 d=1e100.net; s=20230601; t=1721252341; x=1721857141;
 h=references:in-reply-to:cc:to:from:subject:message-id:date
 :x-gm-message-state:from:to:cc:subject:date:message-id:reply-to;
 bh=nO3XIuqmwxD/qwFxhm9de96IVF7yM0M09uFRkXCez+0=;
 b=Kqfq8TL092XoTRWQae+jE+COmwfXyofo45b5VbelvATXCXr+kgPbFgG3ana3IqTtXj
 KOeqmYzW1CIWYuGAbniAGXxCa+OyYSRyJ4aMu0ABnE6ptH2GaXa7b9qb+Xj0jorY2vCY
 ZsK7rzuyaai/g/6GKoro7ajXBbXNclJpiNy/K2Yd854iOzSxXwd5EfVK7ejwCezXVoKr
 icv6q8RsGAw8GREW08X1OvsS0hkK7jHIky9ysDzq9ynL9xZRs3boCD8x/cecgG5ArIB5
 FQqjV3Vx026uIhyGFXQkugsjhOp+fcj63QlB4H7w62vA73fkjZmRQEuwBNPVVF/fMP5W
 6nag==
X-Gm-Message-State: AOJu0YzfLy96Ufrtet7+BmRHDXgfZ3tiETRa4Pg5BlvJ/YHDWENc3s6K
 kQDEyQmKQjzcz27d1drpj4TjK6hUWw44/WjDP7jOoln3jlAE0IJO29qBWv1vd7U9WMWrntpUK5q
 m7WZrqGfmcS7y/zpc8XwOOEtEQuri4pIP3QFU2yoW
X-Google-Smtp-Source: AGHT+IEGtoBxjZlTPvS+YqCHQPFqPM5Ys8kQQAFKUIYFYj19q2zAy+51YTh0KRITa4ceG1I7dAATO/g/BX5i
X-Received: by 2002:a05:690c:dd0:b0:61b:e645:3e94 with SMTP id
 00721157ae682-66603511700mr10421117b3.5.1721252340842; 
 Wed, 17 Jul 2024 14:39:00 -0700 (PDT)
Received: from postal.iol.unh.edu (postal.iol.unh.edu. [132.177.123.84])
 by smtp-relay.gmail.com with ESMTPS id
 00721157ae682-66602d43a35sm382247b3.56.2024.07.17.14.39.00
 (version=TLS1_2 cipher=ECDHE-ECDSA-AES128-GCM-SHA256 bits=128/128);
 Wed, 17 Jul 2024 14:39:00 -0700 (PDT)
X-Relaying-Domain: iol.unh.edu
Date: Wed, 17 Jul 2024 14:39:00 -0700 (PDT)
Message-ID: <669839f4.810a0220.37250c.18edSMTPIN_ADDED_MISSING@mx.google.com>
Received: from [172.21.0.8] (unknown [172.18.0.240])
 by postal.iol.unh.edu (Postfix) with ESMTP id 7E05F605C351;
 Wed, 17 Jul 2024 17:39:00 -0400 (EDT)
Subject: |PENDING| pw142476-142477 [PATCH] [v10,21/21] net/ntnic: add physica
From: dpdklab@iol.unh.edu
To: Test Report <test-report@dpdk.org>
Cc: dpdk-test-reports@iol.unh.edu
In-Reply-To: <20240717133313.3104239-21-sil-plv@napatech.com>
References: <20240717133313.3104239-21-sil-plv@napatech.com>
Content-Type: text/plain
X-BeenThere: test-report@dpdk.org
X-Mailman-Version: 2.1.29
Precedence: list
List-Id: automatic DPDK test reports <test-report.dpdk.org>
List-Unsubscribe: <https://mails.dpdk.org/options/test-report>,
 <mailto:test-report-request@dpdk.org?subject=unsubscribe>
List-Archive: <http://mails.dpdk.org/archives/test-report/>
List-Post: <mailto:test-report@dpdk.org>
List-Help: <mailto:test-report-request@dpdk.org?subject=help>
List-Subscribe: <https://mails.dpdk.org/listinfo/test-report>,
 <mailto:test-report-request@dpdk.org?subject=subscribe>
Errors-To: test-report-bounces@dpdk.org

Test-Label: iol-unit-arm64-testing
Test-Status: PENDING
http://dpdk.org/patch/142477

_Testing pending_

Submitter: Serhii Iliushyk <sil-plv@napatech.com>
Date: Wednesday, July 17 2024 13:33:08 
DPDK git baseline: Repo:dpdk
  Branch: master
  CommitID:3317515e9377c13e458e31a64f8987a9d1f2eaf6

142476-142477 --> testing pending

Upstream job id: Generic-Unit-Test-DPDK#240928

Test environment and result as below:

+-----------------------------+----------------+--------------+---------------------------+------------------------------+
|         Environment         | dpdk_unit_test | lpm_autotest | cryptodev_sw_zuc_autotest | cryptodev_sw_snow3g_autotest |
+=============================+================+==============+===========================+==============================+
| CentOS Stream 9 (ARM)       | PASS           | SKIPPED      | SKIPPED                   | SKIPPED                      |
+-----------------------------+----------------+--------------+---------------------------+------------------------------+
| Debian 11 (Buster) (ARM)    | PASS           | SKIPPED      | SKIPPED                   | SKIPPED                      |
+-----------------------------+----------------+--------------+---------------------------+------------------------------+
| Debian 12 (arm)             | PASS           | SKIPPED      | PASS                      | PEND                         |
+-----------------------------+----------------+--------------+---------------------------+------------------------------+
| Fedora 37 (ARM)             | PASS           | SKIPPED      | SKIPPED                   | SKIPPED                      |
+-----------------------------+----------------+--------------+---------------------------+------------------------------+
| Fedora 38 (ARM)             | PASS           | SKIPPED      | SKIPPED                   | SKIPPED                      |
+-----------------------------+----------------+--------------+---------------------------+------------------------------+
| Fedora 38 (ARM Clang)       | PEND           | SKIPPED      | SKIPPED                   | SKIPPED                      |
+-----------------------------+----------------+--------------+---------------------------+------------------------------+
| 32-bit Ubuntu 20.04.4 (ARM) | PEND           | SKIPPED      | SKIPPED                   | SKIPPED                      |
+-----------------------------+----------------+--------------+---------------------------+------------------------------+
| Fedora 39 (ARM)             | PASS           | SKIPPED      | SKIPPED                   | SKIPPED                      |
+-----------------------------+----------------+--------------+---------------------------+------------------------------+
| Fedora 39 (ARM Clang)       | PEND           | SKIPPED      | SKIPPED                   | SKIPPED                      |
+-----------------------------+----------------+--------------+---------------------------+------------------------------+
| Fedora 40 (ARM)             | PEND           | SKIPPED      | SKIPPED                   | SKIPPED                      |
+-----------------------------+----------------+--------------+---------------------------+------------------------------+
| RHEL9 (ARM)                 | PEND           | SKIPPED      | SKIPPED                   | SKIPPED                      |
+-----------------------------+----------------+--------------+---------------------------+------------------------------+
| Ubuntu 24.04 (ARM)          | PEND           | SKIPPED      | SKIPPED                   | SKIPPED                      |
+-----------------------------+----------------+--------------+---------------------------+------------------------------+
| Ubuntu 20.04 (ARM)          | PEND           | SKIPPED      | SKIPPED                   | SKIPPED                      |
+-----------------------------+----------------+--------------+---------------------------+------------------------------+
| Ubuntu 22.04 (ARM)          | PEND           | SKIPPED      | SKIPPED                   | SKIPPED                      |
+-----------------------------+----------------+--------------+---------------------------+------------------------------+
| Ubuntu 20.04 ARM SVE        | SKIPPED        | PEND         | SKIPPED                   | SKIPPED                      |
+-----------------------------+----------------+--------------+---------------------------+------------------------------+


CentOS Stream 9 (ARM)
	Kernel: Container Host Kernel
	Compiler: gcc 11.4.1

Debian 11 (Buster) (ARM)
	Kernel: Container Host Kernel
	Compiler: gcc 10.2.1

Debian 12 (arm)
	Kernel: Container Host Kernel
	Compiler: gcc 12.2.0

Fedora 37 (ARM)
	Kernel: Depends on container host
	Compiler: gcc 12.3.1

Fedora 38 (ARM)
	Kernel: Depends on container host
	Compiler: gcc 13.2.1

Fedora 38 (ARM Clang)
	Kernel: Depends on container host
	Compiler: clang 16.0.6

32-bit Ubuntu 20.04.4 (ARM)
	Kernel: 5.4.0-155-generic aarch64
	Compiler: gcc 9.4

Fedora 39 (ARM)
	Kernel: Depends on container host
	Compiler: gcc 13.2.1

Fedora 39 (ARM Clang)
	Kernel: Depends on container host
	Compiler: clang 17.0.6

Fedora 40 (ARM)
	Kernel: Depends on container host
	Compiler: gcc 14.1.1

RHEL9 (ARM)
	Kernel: Depends on container host
	Compiler: gcc 11.4.1

Ubuntu 24.04 (ARM)
	Kernel: 5.4.0-167-generic
	Compiler: gcc 13.2.0

Ubuntu 20.04 (ARM)
	Kernel: Container Host Kernel
	Compiler: gcc 9.4.0

Ubuntu 22.04 (ARM)
	Kernel: Container Host Kernel
	Compiler: gcc 11.4.0

Ubuntu 20.04 ARM SVE
	Kernel: 5.4.0-167-generic
	Compiler: gcc (Ubuntu 10.5.0-1ubuntu1~20.04) 10.5.0

To view detailed results, visit:
https://lab.dpdk.org/results/dashboard/patchsets/30539/

UNH-IOL DPDK Community Lab

To manage your email subscriptions, visit: 
https://lab.dpdk.org/results/dashboard/preferences/subscriptions/