From mboxrd@z Thu Jan  1 00:00:00 1970
Return-Path: <test-report-bounces@dpdk.org>
Received: from mails.dpdk.org (mails.dpdk.org [217.70.189.124])
	by inbox.dpdk.org (Postfix) with ESMTP id 619CF4563B
	for <public@inbox.dpdk.org>; Wed, 17 Jul 2024 23:49:06 +0200 (CEST)
Received: from mails.dpdk.org (localhost [127.0.0.1])
	by mails.dpdk.org (Postfix) with ESMTP id 587A54066E;
	Wed, 17 Jul 2024 23:49:06 +0200 (CEST)
Received: from mail-yw1-f226.google.com (mail-yw1-f226.google.com
 [209.85.128.226])
 by mails.dpdk.org (Postfix) with ESMTP id 6109640669
 for <test-report@dpdk.org>; Wed, 17 Jul 2024 23:49:05 +0200 (CEST)
Received: by mail-yw1-f226.google.com with SMTP id
 00721157ae682-65465878c1fso1184067b3.2
 for <test-report@dpdk.org>; Wed, 17 Jul 2024 14:49:05 -0700 (PDT)
DKIM-Signature: v=1; a=rsa-sha256; c=relaxed/relaxed;
 d=iol.unh.edu; s=unh-iol; t=1721252945; x=1721857745; darn=dpdk.org;
 h=references:in-reply-to:cc:to:from:subject:message-id:date:from:to
 :cc:subject:date:message-id:reply-to;
 bh=PeKH4BHEKJVzklDvePlI0DA3WR2RY/Ud6Ux+f1f5OwU=;
 b=URCakwgk398GEDQA6pHpXZ1aq6ogYkTpNlybGmUdnyT94F/FK84fxMkH1L+kSdGAvB
 IS5AYconT3gPZ8otkSA8zuhfZQwF2f9FuHpKv6g2pkM1qYbGdMT+fF836ymI5lmUqh3k
 AbgEmR3C1/ElS2WizSLdhX1CPZlzt4cKIGjXg=
X-Google-DKIM-Signature: v=1; a=rsa-sha256; c=relaxed/relaxed;
 d=1e100.net; s=20230601; t=1721252945; x=1721857745;
 h=references:in-reply-to:cc:to:from:subject:message-id:date
 :x-gm-message-state:from:to:cc:subject:date:message-id:reply-to;
 bh=PeKH4BHEKJVzklDvePlI0DA3WR2RY/Ud6Ux+f1f5OwU=;
 b=Vg4v3q0JUjnWlaxfoYqDc0RCfQCuhLIZm3z5vFl7UPfmZwaNJ148wcm6fuGKHXFvXX
 uRWn4BdGM8tA02fxxsr6VbBRvMebMiwbgPhMtOSNjdchyHaTVxkUlFKTxVHAcJnrvucb
 G4dwOj1jzT8M6m0l9q99fx8VXc9knTWNYVoUMlalp1b0iPiOPFoNH+oXbbu7sQQSR0qI
 9qBgz8IgvgueCuzlP15swEJ3V5IdikIBotzxOPJMdOr3SA/YVMtQfF4EKBb6vKhXIupJ
 G1WJlwA8o3Sbry5WhtXqYQWDXIobU1q+YzedvGUGFRlSy9QPVwVjxc9fEPY74wgYZmSS
 cTKw==
X-Gm-Message-State: AOJu0YzVqiwtnVRuwNBBQsHghvSXG4vh0ZIucw6xx8XZ6kfsp+GuSsff
 Xtbs0YdFRYceVC5sisdJqUY51zCHFaJntgpnU0LGtfpPVdjBJGVwmJi32nWBYujHdOAEl6fFG45
 xqos1UqJEvnuWBQDqvuVrU2VkHLyzcxfAPgO4r8BrUh+Xe2C5DYCjpafv
X-Google-Smtp-Source: AGHT+IEeuxQlitMUeivZIYOEtkBGUgxVJ7GIyn0k9EXP9px+E478kov42zwajSm+b/ET5ZseEKguh5aSZ33Y
X-Received: by 2002:a81:6e8b:0:b0:64b:4a9f:540d with SMTP id
 00721157ae682-664ffcc457emr37128267b3.31.1721252944840; 
 Wed, 17 Jul 2024 14:49:04 -0700 (PDT)
Received: from postal.iol.unh.edu (postal.iol.unh.edu.
 [2606:4100:3880:1234::84]) by smtp-relay.gmail.com with ESMTPS id
 00721157ae682-666015f36dbsm266607b3.19.2024.07.17.14.49.04
 (version=TLS1_2 cipher=ECDHE-ECDSA-AES128-GCM-SHA256 bits=128/128);
 Wed, 17 Jul 2024 14:49:04 -0700 (PDT)
X-Relaying-Domain: iol.unh.edu
Date: Wed, 17 Jul 2024 14:49:04 -0700 (PDT)
Message-ID: <66983c50.050a0220.e7e9.0d01SMTPIN_ADDED_MISSING@mx.google.com>
Received: from [172.21.0.6] (unknown [172.18.0.240])
 by postal.iol.unh.edu (Postfix) with ESMTP id 8E35B605C351;
 Wed, 17 Jul 2024 17:49:04 -0400 (EDT)
Subject: |PENDING| pw142476-142477 [PATCH] [v10,21/21] net/ntnic: add physica
From: dpdklab@iol.unh.edu
To: Test Report <test-report@dpdk.org>
Cc: dpdk-test-reports@iol.unh.edu
In-Reply-To: <20240717133313.3104239-21-sil-plv@napatech.com>
References: <20240717133313.3104239-21-sil-plv@napatech.com>
Content-Type: text/plain
X-BeenThere: test-report@dpdk.org
X-Mailman-Version: 2.1.29
Precedence: list
List-Id: automatic DPDK test reports <test-report.dpdk.org>
List-Unsubscribe: <https://mails.dpdk.org/options/test-report>,
 <mailto:test-report-request@dpdk.org?subject=unsubscribe>
List-Archive: <http://mails.dpdk.org/archives/test-report/>
List-Post: <mailto:test-report@dpdk.org>
List-Help: <mailto:test-report-request@dpdk.org?subject=help>
List-Subscribe: <https://mails.dpdk.org/listinfo/test-report>,
 <mailto:test-report-request@dpdk.org?subject=subscribe>
Errors-To: test-report-bounces@dpdk.org

Test-Label: iol-abi-testing
Test-Status: PENDING
http://dpdk.org/patch/142477

_Testing pending_

Submitter: Serhii Iliushyk <sil-plv@napatech.com>
Date: Wednesday, July 17 2024 13:33:08 
DPDK git baseline: Repo:dpdk
  Branch: master
  CommitID:3317515e9377c13e458e31a64f8987a9d1f2eaf6

142476-142477 --> testing pending

Upstream job id: Generic-DPDK-Compile-ABI#99170

Test environment and result as below:

+-------------------+----------+
|    Environment    | abi_test |
+===================+==========+
| CentOS Stream 8   | PASS     |
+-------------------+----------+
| Debian Bullseye   | PASS     |
+-------------------+----------+
| Debian 12         | PEND     |
+-------------------+----------+
| CentOS Stream 9   | PASS     |
+-------------------+----------+
| Fedora 37         | PASS     |
+-------------------+----------+
| Fedora 38 (Clang) | PASS     |
+-------------------+----------+
| Fedora 39 (Clang) | PASS     |
+-------------------+----------+
| Fedora 38         | PASS     |
+-------------------+----------+
| RHEL9             | PASS     |
+-------------------+----------+
| Fedora 40 (Clang) | PASS     |
+-------------------+----------+
| openSUSE Leap 15  | PASS     |
+-------------------+----------+
| Fedora 39         | PEND     |
+-------------------+----------+
| Fedora 40         | PASS     |
+-------------------+----------+
| RHEL8             | PEND     |
+-------------------+----------+
| Ubuntu 22.04      | PEND     |
+-------------------+----------+
| Ubuntu 24.04      | PEND     |
+-------------------+----------+


CentOS Stream 8
	Kernel: 5.4.0-167-generic
	Compiler: gcc 8.5.0 20210514

Debian Bullseye
	Kernel: 5.4.0-167-generic
	Compiler: gcc 10.2.1-6

Debian 12
	Kernel: Container Host Kernel
	Compiler: gcc 12.2.0

CentOS Stream 9
	Kernel: 5.4.0-167-generic
	Compiler: gcc 11.4.1 20230605

Fedora 37
	Kernel: Depends on container host system
	Compiler: gcc 12.3.1

Fedora 38 (Clang)
	Kernel: Depends on container host
	Compiler: clang 16.0.6

Fedora 39 (Clang)
	Kernel: Depends on container host
	Compiler: clang 17.0.6

Fedora 38
	Kernel: Depends on container host
	Compiler: gcc 13.2.1

RHEL9
	Kernel: Depends on container host
	Compiler: gcc 11.4.1

Fedora 40 (Clang)
	Kernel: Depends on container host
	Compiler: clang 18.1.6

openSUSE Leap 15
	Kernel: 5.4.0-167-generic
	Compiler: gcc 7.5.0

Fedora 39
	Kernel: Depends on container host
	Compiler: gcc 13.2.1

Fedora 40
	Kernel: Depends on container host
	Compiler: gcc 14.1.1

RHEL8
	Kernel: 5.4.0-167-generic
	Compiler: gcc 8.5.0 20210514 (Red Hat 8.5.0-20)

Ubuntu 22.04
	Kernel: 5.4.0-167-generic
	Compiler: gcc 11.4.0

Ubuntu 24.04
	Kernel: 5.4.0-167-generic
	Compiler: gcc 13.2.0

To view detailed results, visit:
https://lab.dpdk.org/results/dashboard/patchsets/30539/

UNH-IOL DPDK Community Lab

To manage your email subscriptions, visit: 
https://lab.dpdk.org/results/dashboard/preferences/subscriptions/