From mboxrd@z Thu Jan  1 00:00:00 1970
Return-Path: <test-report-bounces@dpdk.org>
Received: from mails.dpdk.org (mails.dpdk.org [217.70.189.124])
	by inbox.dpdk.org (Postfix) with ESMTP id 140A345640
	for <public@inbox.dpdk.org>; Thu, 18 Jul 2024 00:00:46 +0200 (CEST)
Received: from mails.dpdk.org (localhost [127.0.0.1])
	by mails.dpdk.org (Postfix) with ESMTP id 0EC3940649;
	Thu, 18 Jul 2024 00:00:46 +0200 (CEST)
Received: from mail-yb1-f226.google.com (mail-yb1-f226.google.com
 [209.85.219.226])
 by mails.dpdk.org (Postfix) with ESMTP id 01736402CA
 for <test-report@dpdk.org>; Thu, 18 Jul 2024 00:00:43 +0200 (CEST)
Received: by mail-yb1-f226.google.com with SMTP id
 3f1490d57ef6-e05f2adab8bso185060276.1
 for <test-report@dpdk.org>; Wed, 17 Jul 2024 15:00:43 -0700 (PDT)
DKIM-Signature: v=1; a=rsa-sha256; c=relaxed/relaxed;
 d=iol.unh.edu; s=unh-iol; t=1721253643; x=1721858443; darn=dpdk.org;
 h=references:in-reply-to:cc:to:from:subject:message-id:date:from:to
 :cc:subject:date:message-id:reply-to;
 bh=iXMwI6dxZKAFmKOVxKXGq2iAxNP4GFteEgLOyN5D1Uc=;
 b=jfjvWbu1yilbKiCL3iiR0OCsYgTmWX4le2MUeXMmdvGl6bzLkIqtPJo4ahdB223qBE
 4FPOhDYbkmWCYa7OXKNT8rJuTQCxdkKZxN8/OA4UKQcXA0Lzlqvy0PK4dIWDhq058CcZ
 C6SfDseEH7ZRCDnZRFK/F4lEcqFWLs0ygRJyg=
X-Google-DKIM-Signature: v=1; a=rsa-sha256; c=relaxed/relaxed;
 d=1e100.net; s=20230601; t=1721253643; x=1721858443;
 h=references:in-reply-to:cc:to:from:subject:message-id:date
 :x-gm-message-state:from:to:cc:subject:date:message-id:reply-to;
 bh=iXMwI6dxZKAFmKOVxKXGq2iAxNP4GFteEgLOyN5D1Uc=;
 b=YMqDf1ZHSrX702c8EbBko8J9/7mNMwOy4YoHvnby8EOhXa5V9/L3++UCScjmdnGaS7
 CP4G5Hey2gDXApIvuhxKPeTbppYRF0L2Z64+8Yv8dA2n3F1dcXMpKLhzCTxfLIbcgsQe
 EqLw8CoIOGSo0wah2idpilDNqr+uQ12Mcb/yC7H+QktIeJvxp8Zog8mWay8CtN1m2H91
 Qk2j8g5HYU5tTF+EFJMghs5SatW58geCjVQje5I3GtljjrRHZRUz3Sxy9bIX2x3IiZH4
 je1qMAW418wgsO5W0TDXFZHzbA4T+mmZGRrct5IW7cvEs5cumZkoc315dmq51zOo8kN+
 oB7Q==
X-Gm-Message-State: AOJu0YxsS6LjDWXcjqLsOeyI9jazVya9seLU7GSRD0op/S5+PFWEd53G
 FpJ2fb8jSPAehkK3Jn1PuNDDDncEK61Je3vDTlPG+bNHxAFwatSYWU5maeaxiaPZZvp35AyW8I1
 FnZvu4nRyeW8mOoKMOklm9spA32UnMukSF7jjrVndgSHYIpfFfGJpt7Hc
X-Google-Smtp-Source: AGHT+IF9UY6rmtmsWa+cQcT2KMEYcRiyEY5iEK4DFzKcydqDaglDGeYxLd3QmdpjlwJiuBwI/JUM0mjMo0jW
X-Received: by 2002:a05:6902:72b:b0:e03:52c6:b338 with SMTP id
 3f1490d57ef6-e05ed6e6e7fmr3322545276.19.1721253642355; 
 Wed, 17 Jul 2024 15:00:42 -0700 (PDT)
Received: from postal.iol.unh.edu (postal.iol.unh.edu.
 [2606:4100:3880:1234::84]) by smtp-relay.gmail.com with ESMTPS id
 3f1490d57ef6-e05feb715dbsm29590276.34.2024.07.17.15.00.42
 (version=TLS1_2 cipher=ECDHE-ECDSA-AES128-GCM-SHA256 bits=128/128);
 Wed, 17 Jul 2024 15:00:42 -0700 (PDT)
X-Relaying-Domain: iol.unh.edu
Date: Wed, 17 Jul 2024 15:00:42 -0700 (PDT)
Message-ID: <66983f0a.050a0220.41b15.10fcSMTPIN_ADDED_MISSING@mx.google.com>
Received: from [172.21.0.7] (unknown [172.18.0.240])
 by postal.iol.unh.edu (Postfix) with ESMTP id EA667605C351;
 Wed, 17 Jul 2024 18:00:41 -0400 (EDT)
Subject: |PENDING| pw142476-142477 [PATCH] [v10,21/21] net/ntnic: add physica
From: dpdklab@iol.unh.edu
To: Test Report <test-report@dpdk.org>
Cc: dpdk-test-reports@iol.unh.edu
In-Reply-To: <20240717133313.3104239-21-sil-plv@napatech.com>
References: <20240717133313.3104239-21-sil-plv@napatech.com>
Content-Type: text/plain
X-BeenThere: test-report@dpdk.org
X-Mailman-Version: 2.1.29
Precedence: list
List-Id: automatic DPDK test reports <test-report.dpdk.org>
List-Unsubscribe: <https://mails.dpdk.org/options/test-report>,
 <mailto:test-report-request@dpdk.org?subject=unsubscribe>
List-Archive: <http://mails.dpdk.org/archives/test-report/>
List-Post: <mailto:test-report@dpdk.org>
List-Help: <mailto:test-report-request@dpdk.org?subject=help>
List-Subscribe: <https://mails.dpdk.org/listinfo/test-report>,
 <mailto:test-report-request@dpdk.org?subject=subscribe>
Errors-To: test-report-bounces@dpdk.org

Test-Label: iol-abi-testing
Test-Status: PENDING
http://dpdk.org/patch/142477

_Testing pending_

Submitter: Serhii Iliushyk <sil-plv@napatech.com>
Date: Wednesday, July 17 2024 13:33:08 
DPDK git baseline: Repo:dpdk
  Branch: master
  CommitID:3317515e9377c13e458e31a64f8987a9d1f2eaf6

142476-142477 --> testing pending

Upstream job id: Generic-DPDK-Compile-ABI#99183

Test environment and result as below:

+-------------------+----------+
|    Environment    | abi_test |
+===================+==========+
| CentOS Stream 8   | PEND     |
+-------------------+----------+
| CentOS Stream 9   | PASS     |
+-------------------+----------+
| Debian Bullseye   | PASS     |
+-------------------+----------+
| Debian 12         | PASS     |
+-------------------+----------+
| Fedora 37         | PEND     |
+-------------------+----------+
| Fedora 38 (Clang) | PEND     |
+-------------------+----------+
| Fedora 38         | PEND     |
+-------------------+----------+
| Fedora 39         | PEND     |
+-------------------+----------+
| Fedora 39 (Clang) | PEND     |
+-------------------+----------+
| Fedora 40 (Clang) | PEND     |
+-------------------+----------+
| Fedora 40         | PEND     |
+-------------------+----------+
| RHEL8             | PEND     |
+-------------------+----------+
| openSUSE Leap 15  | PEND     |
+-------------------+----------+
| RHEL9             | PEND     |
+-------------------+----------+
| Ubuntu 22.04      | PEND     |
+-------------------+----------+
| Ubuntu 24.04      | PEND     |
+-------------------+----------+


CentOS Stream 8
	Kernel: 5.4.0-167-generic
	Compiler: gcc 8.5.0 20210514

CentOS Stream 9
	Kernel: 5.4.0-167-generic
	Compiler: gcc 11.4.1 20230605

Debian Bullseye
	Kernel: 5.4.0-167-generic
	Compiler: gcc 10.2.1-6

Debian 12
	Kernel: Container Host Kernel
	Compiler: gcc 12.2.0

Fedora 37
	Kernel: Depends on container host system
	Compiler: gcc 12.3.1

Fedora 38 (Clang)
	Kernel: Depends on container host
	Compiler: clang 16.0.6

Fedora 38
	Kernel: Depends on container host
	Compiler: gcc 13.2.1

Fedora 39
	Kernel: Depends on container host
	Compiler: gcc 13.2.1

Fedora 39 (Clang)
	Kernel: Depends on container host
	Compiler: clang 17.0.6

Fedora 40 (Clang)
	Kernel: Depends on container host
	Compiler: clang 18.1.6

Fedora 40
	Kernel: Depends on container host
	Compiler: gcc 14.1.1

RHEL8
	Kernel: 5.4.0-167-generic
	Compiler: gcc 8.5.0 20210514 (Red Hat 8.5.0-20)

openSUSE Leap 15
	Kernel: 5.4.0-167-generic
	Compiler: gcc 7.5.0

RHEL9
	Kernel: Depends on container host
	Compiler: gcc 11.4.1

Ubuntu 22.04
	Kernel: 5.4.0-167-generic
	Compiler: gcc 11.4.0

Ubuntu 24.04
	Kernel: 5.4.0-167-generic
	Compiler: gcc 13.2.0

To view detailed results, visit:
https://lab.dpdk.org/results/dashboard/patchsets/30539/

UNH-IOL DPDK Community Lab

To manage your email subscriptions, visit: 
https://lab.dpdk.org/results/dashboard/preferences/subscriptions/