From mboxrd@z Thu Jan  1 00:00:00 1970
Return-Path: <test-report-bounces@dpdk.org>
Received: from mails.dpdk.org (mails.dpdk.org [217.70.189.124])
	by inbox.dpdk.org (Postfix) with ESMTP id 2673F4563D
	for <public@inbox.dpdk.org>; Thu, 18 Jul 2024 00:18:05 +0200 (CEST)
Received: from mails.dpdk.org (localhost [127.0.0.1])
	by mails.dpdk.org (Postfix) with ESMTP id 23C4440649;
	Thu, 18 Jul 2024 00:18:05 +0200 (CEST)
Received: from mail-yw1-f228.google.com (mail-yw1-f228.google.com
 [209.85.128.228])
 by mails.dpdk.org (Postfix) with ESMTP id 4E9AB402CA
 for <test-report@dpdk.org>; Thu, 18 Jul 2024 00:18:03 +0200 (CEST)
Received: by mail-yw1-f228.google.com with SMTP id
 00721157ae682-66108213e88so1186367b3.1
 for <test-report@dpdk.org>; Wed, 17 Jul 2024 15:18:03 -0700 (PDT)
DKIM-Signature: v=1; a=rsa-sha256; c=relaxed/relaxed;
 d=iol.unh.edu; s=unh-iol; t=1721254682; x=1721859482; darn=dpdk.org;
 h=references:in-reply-to:cc:to:from:subject:message-id:date:from:to
 :cc:subject:date:message-id:reply-to;
 bh=cGzTFL6xtbFZYm+4mSYyGPghel6SSnbc+Si/p5Z3Kwc=;
 b=FDCDg6nMkO1FvsSm/9/W71cclsVN2L9rTvNwB/elOV/Un9AFVfgKZ5cjpm54IRVPbR
 +BeSB1ZJRsh7qcJJPTCmVJ0fItlWNy7AdjsTamUSBWvFfAaNN1KEOxT8HP/2fizJ1BR0
 uglQkcPooKo6hywTHT0n4n6YgokuSDS1mU4qU=
X-Google-DKIM-Signature: v=1; a=rsa-sha256; c=relaxed/relaxed;
 d=1e100.net; s=20230601; t=1721254682; x=1721859482;
 h=references:in-reply-to:cc:to:from:subject:message-id:date
 :x-gm-message-state:from:to:cc:subject:date:message-id:reply-to;
 bh=cGzTFL6xtbFZYm+4mSYyGPghel6SSnbc+Si/p5Z3Kwc=;
 b=fi8U62DOkG4vLtselJSbLJ6yGSXDJcHi1Fb22dNCxtQzPRAq3TzP9bfNqhDHW+EXiW
 Tp2W+r4tYqMCRDorZe3xdjMiw/bIApI1ulrDqo6G2S5fC5x2sZZ8A+vaba7r1KkliVIJ
 sWFtWiMcSWjcOXhbzw21za5/Ls6BNqLrTX77Pq+W9BQtbNqnJfLcrUTjqBckamtcL+83
 cpMddvSIm6hu4DyNq3IIie0cGEp+7WdOWMYUF3q7CyK6gLizKwp5zwfPvH6d7+HzFKfd
 X0rxJ42b41Ovy3T/ob/ZIPC9KZFqJgNfey79ouoW3DMQamqnAoRFQj5T/EQHFX8Tw3kI
 fRcg==
X-Gm-Message-State: AOJu0YwkyJdeSrzMNAreKeSbjdOnMQ8w/PxiUjqO7n+tqQ1tYCe1tM2h
 RqTZBhCdQlS6B15+YDounrB9+vOd8Og+vdrFOXJeeh74gPL7RldEXlwpFBcr87+d9K0PpGxrKDo
 JhQq0WNDEpQbeThNiEpKQQPP1N+4ACwhJWj1s3HlvyUlciPOYVPbK4IRS
X-Google-Smtp-Source: AGHT+IFZVPjNwIo9tzpQlEY7TQpfeZ46EkSRg0p/jHR1Lzegl5V3BNgY838LFW/oEvKCfiUOCkiVSx4hA93f
X-Received: by 2002:a81:c20f:0:b0:664:c24f:c248 with SMTP id
 00721157ae682-664ffcc43famr37183317b3.32.1721254682719; 
 Wed, 17 Jul 2024 15:18:02 -0700 (PDT)
Received: from postal.iol.unh.edu (postal.iol.unh.edu.
 [2606:4100:3880:1234::84]) by smtp-relay.gmail.com with ESMTPS id
 00721157ae682-666016ed747sm443427b3.18.2024.07.17.15.18.02
 (version=TLS1_2 cipher=ECDHE-ECDSA-AES128-GCM-SHA256 bits=128/128);
 Wed, 17 Jul 2024 15:18:02 -0700 (PDT)
X-Relaying-Domain: iol.unh.edu
Date: Wed, 17 Jul 2024 15:18:02 -0700 (PDT)
Message-ID: <6698431a.0d0a0220.95dbd.1da0SMTPIN_ADDED_MISSING@mx.google.com>
Received: from [172.21.0.9] (unknown [172.18.0.240])
 by postal.iol.unh.edu (Postfix) with ESMTP id 639B3605C351;
 Wed, 17 Jul 2024 18:18:02 -0400 (EDT)
Subject: |PENDING| pw142476-142477 [PATCH] [v10,21/21] net/ntnic: add physica
From: dpdklab@iol.unh.edu
To: Test Report <test-report@dpdk.org>
Cc: dpdk-test-reports@iol.unh.edu
In-Reply-To: <20240717133313.3104239-21-sil-plv@napatech.com>
References: <20240717133313.3104239-21-sil-plv@napatech.com>
Content-Type: text/plain
X-BeenThere: test-report@dpdk.org
X-Mailman-Version: 2.1.29
Precedence: list
List-Id: automatic DPDK test reports <test-report.dpdk.org>
List-Unsubscribe: <https://mails.dpdk.org/options/test-report>,
 <mailto:test-report-request@dpdk.org?subject=unsubscribe>
List-Archive: <http://mails.dpdk.org/archives/test-report/>
List-Post: <mailto:test-report@dpdk.org>
List-Help: <mailto:test-report-request@dpdk.org?subject=help>
List-Subscribe: <https://mails.dpdk.org/listinfo/test-report>,
 <mailto:test-report-request@dpdk.org?subject=subscribe>
Errors-To: test-report-bounces@dpdk.org

Test-Label: iol-abi-testing
Test-Status: PENDING
http://dpdk.org/patch/142477

_Testing pending_

Submitter: Serhii Iliushyk <sil-plv@napatech.com>
Date: Wednesday, July 17 2024 13:33:08 
DPDK git baseline: Repo:dpdk
  Branch: master
  CommitID:3317515e9377c13e458e31a64f8987a9d1f2eaf6

142476-142477 --> testing pending

Upstream job id: Generic-DPDK-Compile-ABI#99192

Test environment and result as below:

+-------------------+----------+
|    Environment    | abi_test |
+===================+==========+
| CentOS Stream 8   | PASS     |
+-------------------+----------+
| CentOS Stream 9   | PASS     |
+-------------------+----------+
| Debian Bullseye   | PASS     |
+-------------------+----------+
| Debian 12         | PASS     |
+-------------------+----------+
| Fedora 37         | PEND     |
+-------------------+----------+
| Fedora 38 (Clang) | PEND     |
+-------------------+----------+
| Fedora 38         | PASS     |
+-------------------+----------+
| Fedora 39         | PEND     |
+-------------------+----------+
| Fedora 39 (Clang) | PEND     |
+-------------------+----------+
| Fedora 40 (Clang) | PEND     |
+-------------------+----------+
| Fedora 40         | PEND     |
+-------------------+----------+
| RHEL8             | PASS     |
+-------------------+----------+
| openSUSE Leap 15  | PEND     |
+-------------------+----------+
| RHEL9             | PEND     |
+-------------------+----------+
| Ubuntu 22.04      | PEND     |
+-------------------+----------+
| Ubuntu 24.04      | PEND     |
+-------------------+----------+


CentOS Stream 8
	Kernel: 5.4.0-167-generic
	Compiler: gcc 8.5.0 20210514

CentOS Stream 9
	Kernel: 5.4.0-167-generic
	Compiler: gcc 11.4.1 20230605

Debian Bullseye
	Kernel: 5.4.0-167-generic
	Compiler: gcc 10.2.1-6

Debian 12
	Kernel: Container Host Kernel
	Compiler: gcc 12.2.0

Fedora 37
	Kernel: Depends on container host system
	Compiler: gcc 12.3.1

Fedora 38 (Clang)
	Kernel: Depends on container host
	Compiler: clang 16.0.6

Fedora 38
	Kernel: Depends on container host
	Compiler: gcc 13.2.1

Fedora 39
	Kernel: Depends on container host
	Compiler: gcc 13.2.1

Fedora 39 (Clang)
	Kernel: Depends on container host
	Compiler: clang 17.0.6

Fedora 40 (Clang)
	Kernel: Depends on container host
	Compiler: clang 18.1.6

Fedora 40
	Kernel: Depends on container host
	Compiler: gcc 14.1.1

RHEL8
	Kernel: 5.4.0-167-generic
	Compiler: gcc 8.5.0 20210514 (Red Hat 8.5.0-20)

openSUSE Leap 15
	Kernel: 5.4.0-167-generic
	Compiler: gcc 7.5.0

RHEL9
	Kernel: Depends on container host
	Compiler: gcc 11.4.1

Ubuntu 22.04
	Kernel: 5.4.0-167-generic
	Compiler: gcc 11.4.0

Ubuntu 24.04
	Kernel: 5.4.0-167-generic
	Compiler: gcc 13.2.0

To view detailed results, visit:
https://lab.dpdk.org/results/dashboard/patchsets/30539/

UNH-IOL DPDK Community Lab

To manage your email subscriptions, visit: 
https://lab.dpdk.org/results/dashboard/preferences/subscriptions/