From mboxrd@z Thu Jan  1 00:00:00 1970
Return-Path: <test-report-bounces@dpdk.org>
Received: from mails.dpdk.org (mails.dpdk.org [217.70.189.124])
	by inbox.dpdk.org (Postfix) with ESMTP id A46DD4563D
	for <public@inbox.dpdk.org>; Thu, 18 Jul 2024 00:20:15 +0200 (CEST)
Received: from mails.dpdk.org (localhost [127.0.0.1])
	by mails.dpdk.org (Postfix) with ESMTP id 9DB4640649;
	Thu, 18 Jul 2024 00:20:15 +0200 (CEST)
Received: from mail-pj1-f98.google.com (mail-pj1-f98.google.com
 [209.85.216.98]) by mails.dpdk.org (Postfix) with ESMTP id 29383402CA
 for <test-report@dpdk.org>; Thu, 18 Jul 2024 00:20:14 +0200 (CEST)
Received: by mail-pj1-f98.google.com with SMTP id
 98e67ed59e1d1-2cb09dc1dafso116775a91.2
 for <test-report@dpdk.org>; Wed, 17 Jul 2024 15:20:14 -0700 (PDT)
DKIM-Signature: v=1; a=rsa-sha256; c=relaxed/relaxed;
 d=iol.unh.edu; s=unh-iol; t=1721254813; x=1721859613; darn=dpdk.org;
 h=references:in-reply-to:cc:to:from:subject:message-id:date:from:to
 :cc:subject:date:message-id:reply-to;
 bh=mcYigloLr4MJD2VVMl/dUWXXCx23tT5MrTT+TxW7jZ8=;
 b=hhfDiwQ6DqFSoaTSn99dmXFYlPnDn2A9QueVP2sfWL6LSpGm+wp+1tSGEqAD5199pj
 hqRqW30LIdFHFi9xPwY7izRhYByuz8LamW8DfzEu+wRDWcwTS1PoVlAMIynHDXBLIt9z
 aP7449Fo5rOIxLWT3oxX6ibhsAqaa2lT09bEA=
X-Google-DKIM-Signature: v=1; a=rsa-sha256; c=relaxed/relaxed;
 d=1e100.net; s=20230601; t=1721254813; x=1721859613;
 h=references:in-reply-to:cc:to:from:subject:message-id:date
 :x-gm-message-state:from:to:cc:subject:date:message-id:reply-to;
 bh=mcYigloLr4MJD2VVMl/dUWXXCx23tT5MrTT+TxW7jZ8=;
 b=QHaeG36Txl33/5ISqyrHKjDSDIb2IbYF4/p7ooBApE3FyZBg4MS6ZlYsJzWbkwbsRw
 b6k4uE/KEdXVb93xGCAtpefyPrm0ccHprRvqw9COCN3pIdVEuiVawgkoFcCBk4zq4GbY
 aVUsDkDSi9IKOg06PfKpro0yfgbCVptp6HBYEyrmcnQuTO2/tMiZSf3DokOwltcDDVGe
 q/TvunV/JEBpETvjC9cgjct5lpWvtO/z3btPRxihkslGKjHjS3o8JfjERrEfjzqgsiVj
 LYBm9Fod51Lz7eXx4WOnZZ/MB46zqM4KyhyxBj1EfFPkirFVY2ALSJlYfaxoOqNEWtEs
 oWXg==
X-Gm-Message-State: AOJu0Yw5MJa4XTHpYwlYCNqtuNn+AcCIGjFKS8jl47AoYpId7C5arZNd
 cQP/VrXJoaLmPnZxGXatKg7OZ3zL7QeeOz/dsTpamRnGiN+XfuaMk44qCbtlFTU/u/5hUCK+yQT
 21C9UAQEx6YWgWnsEXjRaxlGzjEDXBQwssdfPCuCsMxucZCWsNEd1Pq/X
X-Google-Smtp-Source: AGHT+IHKcg1ZwcnzMdT1XokopJl/NX+YXgKvWpwdUOUVL5UUp80YH6Be3+12bvJswaaXqbd8o82LUTpzpeZM
X-Received: by 2002:a17:90a:4b8d:b0:2ca:7f3e:a10f with SMTP id
 98e67ed59e1d1-2cb5246a470mr2420479a91.9.1721254813227; 
 Wed, 17 Jul 2024 15:20:13 -0700 (PDT)
Received: from postal.iol.unh.edu (postal.iol.unh.edu.
 [2606:4100:3880:1234::84]) by smtp-relay.gmail.com with ESMTPS id
 98e67ed59e1d1-2cb6018e047sm63943a91.12.2024.07.17.15.20.13
 (version=TLS1_2 cipher=ECDHE-ECDSA-AES128-GCM-SHA256 bits=128/128);
 Wed, 17 Jul 2024 15:20:13 -0700 (PDT)
X-Relaying-Domain: iol.unh.edu
Date: Wed, 17 Jul 2024 15:20:13 -0700 (PDT)
Message-ID: <6698439d.170a0220.1ce971.267cSMTPIN_ADDED_MISSING@mx.google.com>
Received: from [172.21.0.6] (unknown [172.18.0.240])
 by postal.iol.unh.edu (Postfix) with ESMTP id 6E5CE605C351;
 Wed, 17 Jul 2024 18:20:12 -0400 (EDT)
Subject: |PENDING| pw142476-142477 [PATCH] [v10,21/21] net/ntnic: add physica
From: dpdklab@iol.unh.edu
To: Test Report <test-report@dpdk.org>
Cc: dpdk-test-reports@iol.unh.edu
In-Reply-To: <20240717133313.3104239-21-sil-plv@napatech.com>
References: <20240717133313.3104239-21-sil-plv@napatech.com>
Content-Type: text/plain
X-BeenThere: test-report@dpdk.org
X-Mailman-Version: 2.1.29
Precedence: list
List-Id: automatic DPDK test reports <test-report.dpdk.org>
List-Unsubscribe: <https://mails.dpdk.org/options/test-report>,
 <mailto:test-report-request@dpdk.org?subject=unsubscribe>
List-Archive: <http://mails.dpdk.org/archives/test-report/>
List-Post: <mailto:test-report@dpdk.org>
List-Help: <mailto:test-report-request@dpdk.org?subject=help>
List-Subscribe: <https://mails.dpdk.org/listinfo/test-report>,
 <mailto:test-report-request@dpdk.org?subject=subscribe>
Errors-To: test-report-bounces@dpdk.org

Test-Label: iol-abi-testing
Test-Status: PENDING
http://dpdk.org/patch/142477

_Testing pending_

Submitter: Serhii Iliushyk <sil-plv@napatech.com>
Date: Wednesday, July 17 2024 13:33:08 
DPDK git baseline: Repo:dpdk
  Branch: master
  CommitID:3317515e9377c13e458e31a64f8987a9d1f2eaf6

142476-142477 --> testing pending

Upstream job id: Generic-DPDK-Compile-ABI#99184

Test environment and result as below:

+-------------------+----------+
|    Environment    | abi_test |
+===================+==========+
| CentOS Stream 8   | PASS     |
+-------------------+----------+
| CentOS Stream 9   | PASS     |
+-------------------+----------+
| Debian Bullseye   | PASS     |
+-------------------+----------+
| Debian 12         | PASS     |
+-------------------+----------+
| Fedora 37         | PASS     |
+-------------------+----------+
| Fedora 38 (Clang) | PEND     |
+-------------------+----------+
| Fedora 38         | PASS     |
+-------------------+----------+
| Fedora 39         | PEND     |
+-------------------+----------+
| Fedora 39 (Clang) | PEND     |
+-------------------+----------+
| Fedora 40 (Clang) | PEND     |
+-------------------+----------+
| Fedora 40         | PEND     |
+-------------------+----------+
| RHEL8             | PASS     |
+-------------------+----------+
| openSUSE Leap 15  | PEND     |
+-------------------+----------+
| RHEL9             | PEND     |
+-------------------+----------+
| Ubuntu 22.04      | PEND     |
+-------------------+----------+
| Ubuntu 24.04      | PEND     |
+-------------------+----------+


CentOS Stream 8
	Kernel: 5.4.0-167-generic
	Compiler: gcc 8.5.0 20210514

CentOS Stream 9
	Kernel: 5.4.0-167-generic
	Compiler: gcc 11.4.1 20230605

Debian Bullseye
	Kernel: 5.4.0-167-generic
	Compiler: gcc 10.2.1-6

Debian 12
	Kernel: Container Host Kernel
	Compiler: gcc 12.2.0

Fedora 37
	Kernel: Depends on container host system
	Compiler: gcc 12.3.1

Fedora 38 (Clang)
	Kernel: Depends on container host
	Compiler: clang 16.0.6

Fedora 38
	Kernel: Depends on container host
	Compiler: gcc 13.2.1

Fedora 39
	Kernel: Depends on container host
	Compiler: gcc 13.2.1

Fedora 39 (Clang)
	Kernel: Depends on container host
	Compiler: clang 17.0.6

Fedora 40 (Clang)
	Kernel: Depends on container host
	Compiler: clang 18.1.6

Fedora 40
	Kernel: Depends on container host
	Compiler: gcc 14.1.1

RHEL8
	Kernel: 5.4.0-167-generic
	Compiler: gcc 8.5.0 20210514 (Red Hat 8.5.0-20)

openSUSE Leap 15
	Kernel: 5.4.0-167-generic
	Compiler: gcc 7.5.0

RHEL9
	Kernel: Depends on container host
	Compiler: gcc 11.4.1

Ubuntu 22.04
	Kernel: 5.4.0-167-generic
	Compiler: gcc 11.4.0

Ubuntu 24.04
	Kernel: 5.4.0-167-generic
	Compiler: gcc 13.2.0

To view detailed results, visit:
https://lab.dpdk.org/results/dashboard/patchsets/30539/

UNH-IOL DPDK Community Lab

To manage your email subscriptions, visit: 
https://lab.dpdk.org/results/dashboard/preferences/subscriptions/