From mboxrd@z Thu Jan  1 00:00:00 1970
Return-Path: <test-report-bounces@dpdk.org>
Received: from mails.dpdk.org (mails.dpdk.org [217.70.189.124])
	by inbox.dpdk.org (Postfix) with ESMTP id D40C34563B
	for <public@inbox.dpdk.org>; Thu, 18 Jul 2024 00:48:30 +0200 (CEST)
Received: from mails.dpdk.org (localhost [127.0.0.1])
	by mails.dpdk.org (Postfix) with ESMTP id CDC0A40649;
	Thu, 18 Jul 2024 00:48:30 +0200 (CEST)
Received: from mail-vk1-f227.google.com (mail-vk1-f227.google.com
 [209.85.221.227])
 by mails.dpdk.org (Postfix) with ESMTP id D7B28402CA
 for <test-report@dpdk.org>; Thu, 18 Jul 2024 00:48:29 +0200 (CEST)
Received: by mail-vk1-f227.google.com with SMTP id
 71dfb90a1353d-4f2f31a9410so83387e0c.3
 for <test-report@dpdk.org>; Wed, 17 Jul 2024 15:48:29 -0700 (PDT)
DKIM-Signature: v=1; a=rsa-sha256; c=relaxed/relaxed;
 d=iol.unh.edu; s=unh-iol; t=1721256509; x=1721861309; darn=dpdk.org;
 h=references:in-reply-to:cc:to:from:subject:message-id:date:from:to
 :cc:subject:date:message-id:reply-to;
 bh=MHjnPnJCIg1oNimxwWBexXQafhUqLiqOayRTTxPqEUU=;
 b=eORDDv3NMivAECxvQHb3j2duE+PvKtCh+Sm++HdxbHCf0LTNfXX+6uh0enkXAqRpd8
 j+kkKM38iCiQRV0V/urAuOL1Ab8erT3gP/78EHz0dGW0eVHgemkLOMLVVdvXwHsE/W4I
 8iF17zCRNyUTWfERCmAhb2O8nq1BPQKwYgjLY=
X-Google-DKIM-Signature: v=1; a=rsa-sha256; c=relaxed/relaxed;
 d=1e100.net; s=20230601; t=1721256509; x=1721861309;
 h=references:in-reply-to:cc:to:from:subject:message-id:date
 :x-gm-message-state:from:to:cc:subject:date:message-id:reply-to;
 bh=MHjnPnJCIg1oNimxwWBexXQafhUqLiqOayRTTxPqEUU=;
 b=ZfxO5GAwmiqMcyncDDSzeO7ECFr5qx/usytSlCVSf/y12ntKK8Fqxg9wRS7d1Efh71
 bk+QN4mZhGDnxnLOaMyXMTiXNvA6i6zAXdMELeHi8Uut0tYVKjIdJN+tq7neVpkEbGD6
 ju2P2gLjHX/e5OR0uqcd2ugLIeyKTZ2NPvpNWKJiotNX7R9EQxBo7i2S/ar80loM18tM
 jVa90M9pZTClfL6brlZJPAOSGi5egTgJ3/WoX/lND65TG5Ml7E+xM7ilmfr5dcc4jWUw
 KwjKCbamyFjgPuUFyJO9yHn50b/HiD+31kqj1yG8MOxR9R+WTws8R+4dU6KC0YF6erSo
 ND6Q==
X-Gm-Message-State: AOJu0YyA5KszI9XJn6+G1pTTO6mVTEN6ujFZGij90GoYHkAhaafQxNjn
 jjhlxuTOKZJrl4cy/M3Vma+wc1MQfow3tInrbyTzGcH+Cj1spilFKQMhet7NWI8JvqsY5Oz6aK/
 pZvea2vv2xEfcxq7YQmCbpfR5YFV8qO4xDnKWsy3URApRcqZ0wlKhIhVl
X-Google-Smtp-Source: AGHT+IGaliajAs5z1dIohFzJpOghINXyYjZ6t73EGb2/su1rpqwU4Clu8eWmmR3BmPTxoohDetWLQxiGPql3
X-Received: by 2002:a05:6122:30a8:b0:4f2:f057:eaf4 with SMTP id
 71dfb90a1353d-4f4df6d9a44mr4168905e0c.7.1721256507695; 
 Wed, 17 Jul 2024 15:48:27 -0700 (PDT)
Received: from postal.iol.unh.edu (postal.iol.unh.edu.
 [2606:4100:3880:1234::84]) by smtp-relay.gmail.com with ESMTPS id
 6a1803df08f44-6b79c5032cbsm352496d6.2.2024.07.17.15.48.27
 (version=TLS1_2 cipher=ECDHE-ECDSA-AES128-GCM-SHA256 bits=128/128);
 Wed, 17 Jul 2024 15:48:27 -0700 (PDT)
X-Relaying-Domain: iol.unh.edu
Date: Wed, 17 Jul 2024 15:48:27 -0700 (PDT)
Message-ID: <66984a3b.050a0220.1794a3.14b4SMTPIN_ADDED_MISSING@mx.google.com>
Received: from [172.21.0.9] (unknown [172.18.0.240])
 by postal.iol.unh.edu (Postfix) with ESMTP id 5BFB6605C351;
 Wed, 17 Jul 2024 18:48:27 -0400 (EDT)
Subject: |PENDING| pw142476-142477 [PATCH] [v10,21/21] net/ntnic: add physica
From: dpdklab@iol.unh.edu
To: Test Report <test-report@dpdk.org>
Cc: dpdk-test-reports@iol.unh.edu
In-Reply-To: <20240717133313.3104239-21-sil-plv@napatech.com>
References: <20240717133313.3104239-21-sil-plv@napatech.com>
Content-Type: text/plain
X-BeenThere: test-report@dpdk.org
X-Mailman-Version: 2.1.29
Precedence: list
List-Id: automatic DPDK test reports <test-report.dpdk.org>
List-Unsubscribe: <https://mails.dpdk.org/options/test-report>,
 <mailto:test-report-request@dpdk.org?subject=unsubscribe>
List-Archive: <http://mails.dpdk.org/archives/test-report/>
List-Post: <mailto:test-report@dpdk.org>
List-Help: <mailto:test-report-request@dpdk.org?subject=help>
List-Subscribe: <https://mails.dpdk.org/listinfo/test-report>,
 <mailto:test-report-request@dpdk.org?subject=subscribe>
Errors-To: test-report-bounces@dpdk.org

Test-Label: iol-unit-arm64-testing
Test-Status: PENDING
http://dpdk.org/patch/142477

_Testing pending_

Submitter: Serhii Iliushyk <sil-plv@napatech.com>
Date: Wednesday, July 17 2024 13:33:08 
DPDK git baseline: Repo:dpdk
  Branch: master
  CommitID:3317515e9377c13e458e31a64f8987a9d1f2eaf6

142476-142477 --> testing pending

Upstream job id: Generic-Unit-Test-DPDK#240960

Test environment and result as below:

+-----------------------------+----------------+--------------+---------------------------+------------------------------+
|         Environment         | dpdk_unit_test | lpm_autotest | cryptodev_sw_zuc_autotest | cryptodev_sw_snow3g_autotest |
+=============================+================+==============+===========================+==============================+
| 32-bit Ubuntu 20.04.4 (ARM) | PEND           | SKIPPED      | SKIPPED                   | SKIPPED                      |
+-----------------------------+----------------+--------------+---------------------------+------------------------------+
| CentOS Stream 9 (ARM)       | PASS           | SKIPPED      | SKIPPED                   | SKIPPED                      |
+-----------------------------+----------------+--------------+---------------------------+------------------------------+
| Debian 11 (Buster) (ARM)    | PASS           | SKIPPED      | SKIPPED                   | SKIPPED                      |
+-----------------------------+----------------+--------------+---------------------------+------------------------------+
| Debian 12 (arm)             | PASS           | SKIPPED      | PASS                      | PASS                         |
+-----------------------------+----------------+--------------+---------------------------+------------------------------+
| Fedora 37 (ARM)             | PASS           | SKIPPED      | SKIPPED                   | SKIPPED                      |
+-----------------------------+----------------+--------------+---------------------------+------------------------------+
| Fedora 38 (ARM)             | PASS           | SKIPPED      | SKIPPED                   | SKIPPED                      |
+-----------------------------+----------------+--------------+---------------------------+------------------------------+
| Fedora 38 (ARM Clang)       | PEND           | SKIPPED      | SKIPPED                   | SKIPPED                      |
+-----------------------------+----------------+--------------+---------------------------+------------------------------+
| Fedora 39 (ARM)             | PEND           | SKIPPED      | SKIPPED                   | SKIPPED                      |
+-----------------------------+----------------+--------------+---------------------------+------------------------------+
| Fedora 39 (ARM Clang)       | PEND           | SKIPPED      | SKIPPED                   | SKIPPED                      |
+-----------------------------+----------------+--------------+---------------------------+------------------------------+
| Fedora 40 (ARM)             | PEND           | SKIPPED      | SKIPPED                   | SKIPPED                      |
+-----------------------------+----------------+--------------+---------------------------+------------------------------+
| Fedora 40 (ARM Clang)       | PEND           | SKIPPED      | SKIPPED                   | SKIPPED                      |
+-----------------------------+----------------+--------------+---------------------------+------------------------------+
| RHEL9 (ARM)                 | PEND           | SKIPPED      | SKIPPED                   | SKIPPED                      |
+-----------------------------+----------------+--------------+---------------------------+------------------------------+
| Ubuntu 20.04 (ARM)          | PEND           | SKIPPED      | SKIPPED                   | SKIPPED                      |
+-----------------------------+----------------+--------------+---------------------------+------------------------------+
| Ubuntu 24.04 (ARM)          | PEND           | SKIPPED      | SKIPPED                   | SKIPPED                      |
+-----------------------------+----------------+--------------+---------------------------+------------------------------+
| Ubuntu 22.04 (ARM)          | PEND           | SKIPPED      | SKIPPED                   | SKIPPED                      |
+-----------------------------+----------------+--------------+---------------------------+------------------------------+
| Ubuntu 20.04 ARM SVE        | SKIPPED        | PEND         | SKIPPED                   | SKIPPED                      |
+-----------------------------+----------------+--------------+---------------------------+------------------------------+


32-bit Ubuntu 20.04.4 (ARM)
	Kernel: 5.4.0-155-generic aarch64
	Compiler: gcc 9.4

CentOS Stream 9 (ARM)
	Kernel: Container Host Kernel
	Compiler: gcc 11.4.1

Debian 11 (Buster) (ARM)
	Kernel: Container Host Kernel
	Compiler: gcc 10.2.1

Debian 12 (arm)
	Kernel: Container Host Kernel
	Compiler: gcc 12.2.0

Fedora 37 (ARM)
	Kernel: Depends on container host
	Compiler: gcc 12.3.1

Fedora 38 (ARM)
	Kernel: Depends on container host
	Compiler: gcc 13.2.1

Fedora 38 (ARM Clang)
	Kernel: Depends on container host
	Compiler: clang 16.0.6

Fedora 39 (ARM)
	Kernel: Depends on container host
	Compiler: gcc 13.2.1

Fedora 39 (ARM Clang)
	Kernel: Depends on container host
	Compiler: clang 17.0.6

Fedora 40 (ARM)
	Kernel: Depends on container host
	Compiler: gcc 14.1.1

Fedora 40 (ARM Clang)
	Kernel: Depends on container host
	Compiler: clang 18.1.6

RHEL9 (ARM)
	Kernel: Depends on container host
	Compiler: gcc 11.4.1

Ubuntu 20.04 (ARM)
	Kernel: Container Host Kernel
	Compiler: gcc 9.4.0

Ubuntu 24.04 (ARM)
	Kernel: 5.4.0-167-generic
	Compiler: gcc 13.2.0

Ubuntu 22.04 (ARM)
	Kernel: Container Host Kernel
	Compiler: gcc 11.4.0

Ubuntu 20.04 ARM SVE
	Kernel: 5.4.0-167-generic
	Compiler: gcc (Ubuntu 10.5.0-1ubuntu1~20.04) 10.5.0

To view detailed results, visit:
https://lab.dpdk.org/results/dashboard/patchsets/30539/

UNH-IOL DPDK Community Lab

To manage your email subscriptions, visit: 
https://lab.dpdk.org/results/dashboard/preferences/subscriptions/