From mboxrd@z Thu Jan  1 00:00:00 1970
Return-Path: <test-report-bounces@dpdk.org>
Received: from mails.dpdk.org (mails.dpdk.org [217.70.189.124])
	by inbox.dpdk.org (Postfix) with ESMTP id 5A0DE4563B
	for <public@inbox.dpdk.org>; Thu, 18 Jul 2024 02:10:56 +0200 (CEST)
Received: from mails.dpdk.org (localhost [127.0.0.1])
	by mails.dpdk.org (Postfix) with ESMTP id 4E2A5402CA;
	Thu, 18 Jul 2024 02:10:56 +0200 (CEST)
Received: from mail-pl1-f227.google.com (mail-pl1-f227.google.com
 [209.85.214.227])
 by mails.dpdk.org (Postfix) with ESMTP id 8455C402A8
 for <test-report@dpdk.org>; Thu, 18 Jul 2024 02:10:54 +0200 (CEST)
Received: by mail-pl1-f227.google.com with SMTP id
 d9443c01a7336-1fb8781ef1bso2854675ad.3
 for <test-report@dpdk.org>; Wed, 17 Jul 2024 17:10:54 -0700 (PDT)
DKIM-Signature: v=1; a=rsa-sha256; c=relaxed/relaxed;
 d=iol.unh.edu; s=unh-iol; t=1721261453; x=1721866253; darn=dpdk.org;
 h=references:in-reply-to:cc:to:from:subject:message-id:date:from:to
 :cc:subject:date:message-id:reply-to;
 bh=uzUqKJnpftLbTnvy9rsynAlgH9Ehx34OaYKn+UKshAE=;
 b=cWGJK3+Z+RpFxK+32Rz01X76SfPAYNtAEKrcRkUHakt5ptc4AveGgDoi6p6sjVZseI
 OgBm7HRgzq0LTNvTHwoklpjnCUSCP/yx+fhfdHglD8pYta25ksIScqPzI38PDWPsHQIl
 L+uY8RWgJUDpjbQXTJ0Dz2Ig1Jo1eM8n/FfZo=
X-Google-DKIM-Signature: v=1; a=rsa-sha256; c=relaxed/relaxed;
 d=1e100.net; s=20230601; t=1721261453; x=1721866253;
 h=references:in-reply-to:cc:to:from:subject:message-id:date
 :x-gm-message-state:from:to:cc:subject:date:message-id:reply-to;
 bh=uzUqKJnpftLbTnvy9rsynAlgH9Ehx34OaYKn+UKshAE=;
 b=OtFYOceCdJzHnfPnu93T5AMyTI8kyhG6s5z+DL1Qb1YF8/MVbX1vPMy/EZB7iJlSnc
 cF0C2uSmFbZzGMXh2ogF0oTl/KGfoe9yJKNMKuRC5Q0J6QtjKv4DSR4u5VTXGmzaePRl
 rVDV2YAk895WyTqpU/05NP8dDWge3Qy4Z7EC2erQLkDvsWXQ856ANYK4l33Q73XuYnCT
 /TWLZuXktQHP0oa78wym0EYi02PEJ2nz+69SkihwYdH94JfiwrjoQhfVqjSCFVwC46Bt
 jN8ruMRBlh2V1C24sC08l79S/EY1iV+vz2GWqySf63mERIaucTrvTYIJs/T9TS9ZGxGM
 9NkQ==
X-Gm-Message-State: AOJu0YwecZA2wmgcZzz9rB6J7o5q3WGoD/Ck3OmWCY5dKJZGKgIg+4nf
 NOPZOrjXCXX7InVyVBSaHTnUxMgjH17g2JPhoz1oPCqNvoOTfA+A4qXZhvWSO+JwFCsSAjrzqte
 Wc6lVnJs6YsrV9V/8cKy5zb2v5KHXlpwX5sAu40l+
X-Google-Smtp-Source: AGHT+IGkhvEfVM0VKKtaXDzWT/F0twposTfv9IX5thu37DwPbkXTdATwNd3Y5ryoMM+UvBl7puFehrXHc2en
X-Received: by 2002:a17:902:d486:b0:1f7:187f:cb63 with SMTP id
 d9443c01a7336-1fc4e6858e7mr30457375ad.47.1721261453641; 
 Wed, 17 Jul 2024 17:10:53 -0700 (PDT)
Received: from postal.iol.unh.edu (postal.iol.unh.edu. [132.177.123.84])
 by smtp-relay.gmail.com with ESMTPS id
 d9443c01a7336-1fc53754e95sm1129335ad.123.2024.07.17.17.10.53
 (version=TLS1_2 cipher=ECDHE-ECDSA-AES128-GCM-SHA256 bits=128/128);
 Wed, 17 Jul 2024 17:10:53 -0700 (PDT)
X-Relaying-Domain: iol.unh.edu
Date: Wed, 17 Jul 2024 17:10:53 -0700 (PDT)
Message-ID: <66985d8d.170a0220.1eedef.4271SMTPIN_ADDED_MISSING@mx.google.com>
Received: from [172.21.0.6] (unknown [172.18.0.240])
 by postal.iol.unh.edu (Postfix) with ESMTP id B88FE605C351;
 Wed, 17 Jul 2024 20:10:52 -0400 (EDT)
Subject: |PENDING| pw142476-142477 [PATCH] [v10,21/21] net/ntnic: add physica
From: dpdklab@iol.unh.edu
To: Test Report <test-report@dpdk.org>
Cc: dpdk-test-reports@iol.unh.edu
In-Reply-To: <20240717133313.3104239-21-sil-plv@napatech.com>
References: <20240717133313.3104239-21-sil-plv@napatech.com>
Content-Type: text/plain
X-BeenThere: test-report@dpdk.org
X-Mailman-Version: 2.1.29
Precedence: list
List-Id: automatic DPDK test reports <test-report.dpdk.org>
List-Unsubscribe: <https://mails.dpdk.org/options/test-report>,
 <mailto:test-report-request@dpdk.org?subject=unsubscribe>
List-Archive: <http://mails.dpdk.org/archives/test-report/>
List-Post: <mailto:test-report@dpdk.org>
List-Help: <mailto:test-report-request@dpdk.org?subject=help>
List-Subscribe: <https://mails.dpdk.org/listinfo/test-report>,
 <mailto:test-report-request@dpdk.org?subject=subscribe>
Errors-To: test-report-bounces@dpdk.org

Test-Label: iol-compile-amd64-testing
Test-Status: PENDING
http://dpdk.org/patch/142477

_Testing pending_

Submitter: Serhii Iliushyk <sil-plv@napatech.com>
Date: Wednesday, July 17 2024 13:33:08 
DPDK git baseline: Repo:dpdk
  Branch: master
  CommitID:3317515e9377c13e458e31a64f8987a9d1f2eaf6

142476-142477 --> testing pending

Upstream job id: Generic-DPDK-Compile-Meson#275554

Test environment and result as below:

+---------------------+----------------------+--------------------+-------------------+------------------+-------------------+
|     Environment     | dpdk_mingw64_compile | dpdk_meson_compile | dpdk_msvc_compile | dpdk_compile_ovs | dpdk_compile_spdk |
+=====================+======================+====================+===================+==================+===================+
| Windows Server 2019 | PASS                 | PASS               | SKIPPED           | SKIPPED          | SKIPPED           |
+---------------------+----------------------+--------------------+-------------------+------------------+-------------------+
| Windows Server 2022 | PASS                 | PASS               | PASS              | SKIPPED          | SKIPPED           |
+---------------------+----------------------+--------------------+-------------------+------------------+-------------------+
| FreeBSD 13.3        | SKIPPED              | PASS               | SKIPPED           | SKIPPED          | SKIPPED           |
+---------------------+----------------------+--------------------+-------------------+------------------+-------------------+
| FreeBSD 14.1        | SKIPPED              | PASS               | SKIPPED           | SKIPPED          | SKIPPED           |
+---------------------+----------------------+--------------------+-------------------+------------------+-------------------+
| CentOS Stream 8     | SKIPPED              | PASS               | SKIPPED           | PASS             | PASS              |
+---------------------+----------------------+--------------------+-------------------+------------------+-------------------+
| CentOS Stream 9     | SKIPPED              | PEND               | SKIPPED           | PEND             | PEND              |
+---------------------+----------------------+--------------------+-------------------+------------------+-------------------+
| Debian Bullseye     | SKIPPED              | PEND               | SKIPPED           | PEND             | PEND              |
+---------------------+----------------------+--------------------+-------------------+------------------+-------------------+
| Debian 12           | SKIPPED              | PASS               | SKIPPED           | PASS             | PASS              |
+---------------------+----------------------+--------------------+-------------------+------------------+-------------------+
| Fedora 37           | SKIPPED              | PEND               | SKIPPED           | PEND             | PEND              |
+---------------------+----------------------+--------------------+-------------------+------------------+-------------------+
| Fedora 38 (Clang)   | SKIPPED              | PEND               | SKIPPED           | PEND             | PEND              |
+---------------------+----------------------+--------------------+-------------------+------------------+-------------------+
| Fedora 38           | SKIPPED              | PEND               | SKIPPED           | PEND             | PEND              |
+---------------------+----------------------+--------------------+-------------------+------------------+-------------------+
| Fedora 39 (Clang)   | SKIPPED              | PEND               | SKIPPED           | PEND             | PEND              |
+---------------------+----------------------+--------------------+-------------------+------------------+-------------------+
| Fedora 39           | SKIPPED              | PEND               | SKIPPED           | PEND             | PEND              |
+---------------------+----------------------+--------------------+-------------------+------------------+-------------------+
| Fedora 40 (Clang)   | SKIPPED              | PEND               | SKIPPED           | PEND             | PEND              |
+---------------------+----------------------+--------------------+-------------------+------------------+-------------------+
| Fedora 40           | SKIPPED              | PEND               | SKIPPED           | PEND             | PEND              |
+---------------------+----------------------+--------------------+-------------------+------------------+-------------------+
| openSUSE Leap 15    | SKIPPED              | PEND               | SKIPPED           | PEND             | SKIPPED           |
+---------------------+----------------------+--------------------+-------------------+------------------+-------------------+
| RHEL8               | SKIPPED              | PEND               | SKIPPED           | PEND             | SKIPPED           |
+---------------------+----------------------+--------------------+-------------------+------------------+-------------------+
| RHEL9               | SKIPPED              | PEND               | SKIPPED           | PEND             | SKIPPED           |
+---------------------+----------------------+--------------------+-------------------+------------------+-------------------+
| Ubuntu 20.04        | SKIPPED              | PEND               | SKIPPED           | PEND             | SKIPPED           |
+---------------------+----------------------+--------------------+-------------------+------------------+-------------------+
| Ubuntu 22.04        | SKIPPED              | PEND               | SKIPPED           | PEND             | PEND              |
+---------------------+----------------------+--------------------+-------------------+------------------+-------------------+
| Ubuntu 24.04        | SKIPPED              | PEND               | SKIPPED           | PEND             | PEND              |
+---------------------+----------------------+--------------------+-------------------+------------------+-------------------+
| Alpine              | SKIPPED              | PEND               | SKIPPED           | PEND             | SKIPPED           |
+---------------------+----------------------+--------------------+-------------------+------------------+-------------------+


Windows Server 2019
	Kernel: 10.0.17763
	Compiler: clang 14.0 and gcc 8.1.0 (MinGW)

Windows Server 2022
	Kernel: 10.0.20348.2031
	Compiler: clang 15.0.7, gcc 8.1.0 (MinGW), and MSVC VS 17.9

FreeBSD 13.3
	Kernel: 13.3-RELEASE-p1
	Compiler: clang 17.0.6

FreeBSD 14.1
	Kernel: 14.1
	Compiler: clang 18.1.5

CentOS Stream 8
	Kernel: 5.4.0-167-generic
	Compiler: gcc 8.5.0 20210514

CentOS Stream 9
	Kernel: 5.4.0-167-generic
	Compiler: gcc 11.4.1 20230605

Debian Bullseye
	Kernel: 5.4.0-167-generic
	Compiler: gcc 10.2.1-6

Debian 12
	Kernel: Container Host Kernel
	Compiler: gcc 12.2.0

Fedora 37
	Kernel: Depends on container host system
	Compiler: gcc 12.3.1

Fedora 38 (Clang)
	Kernel: Depends on container host
	Compiler: clang 16.0.6

Fedora 38
	Kernel: Depends on container host
	Compiler: gcc 13.2.1

Fedora 39 (Clang)
	Kernel: Depends on container host
	Compiler: clang 17.0.6

Fedora 39
	Kernel: Depends on container host
	Compiler: gcc 13.2.1

Fedora 40 (Clang)
	Kernel: Depends on container host
	Compiler: clang 18.1.6

Fedora 40
	Kernel: Depends on container host
	Compiler: gcc 14.1.1

openSUSE Leap 15
	Kernel: 5.4.0-167-generic
	Compiler: gcc 7.5.0

RHEL8
	Kernel: 5.4.0-167-generic
	Compiler: gcc 8.5.0 20210514 (Red Hat 8.5.0-20)

RHEL9
	Kernel: Depends on container host
	Compiler: gcc 11.4.1

Ubuntu 20.04
	Kernel: 5.4.0-167-generic
	Compiler: gcc 9.4.0-1ubuntu1~20.04.1

Ubuntu 22.04
	Kernel: 5.4.0-167-generic
	Compiler: gcc 11.4.0

Ubuntu 24.04
	Kernel: 5.4.0-167-generic
	Compiler: gcc 13.2.0

Alpine
	Kernel: 5.4.0-167-generic
	Compiler: gcc (Alpine 13.2.1_git20231014) 13.2.1 20231014

To view detailed results, visit:
https://lab.dpdk.org/results/dashboard/patchsets/30539/

UNH-IOL DPDK Community Lab

To manage your email subscriptions, visit: 
https://lab.dpdk.org/results/dashboard/preferences/subscriptions/