From mboxrd@z Thu Jan  1 00:00:00 1970
Return-Path: <test-report-bounces@dpdk.org>
Received: from mails.dpdk.org (mails.dpdk.org [217.70.189.124])
	by inbox.dpdk.org (Postfix) with ESMTP id 4A7C14563B
	for <public@inbox.dpdk.org>; Thu, 18 Jul 2024 02:46:21 +0200 (CEST)
Received: from mails.dpdk.org (localhost [127.0.0.1])
	by mails.dpdk.org (Postfix) with ESMTP id 4231140649;
	Thu, 18 Jul 2024 02:46:21 +0200 (CEST)
Received: from mail-qv1-f97.google.com (mail-qv1-f97.google.com
 [209.85.219.97]) by mails.dpdk.org (Postfix) with ESMTP id 74EFE402A8
 for <test-report@dpdk.org>; Thu, 18 Jul 2024 02:46:12 +0200 (CEST)
Received: by mail-qv1-f97.google.com with SMTP id
 6a1803df08f44-6b5f46191b5so1481986d6.3
 for <test-report@dpdk.org>; Wed, 17 Jul 2024 17:46:12 -0700 (PDT)
DKIM-Signature: v=1; a=rsa-sha256; c=relaxed/relaxed;
 d=iol.unh.edu; s=unh-iol; t=1721263572; x=1721868372; darn=dpdk.org;
 h=references:in-reply-to:cc:to:from:subject:message-id:date:from:to
 :cc:subject:date:message-id:reply-to;
 bh=6+AUW+z60gmFwtIQWTA4nw4E2S+kGPLKgujndyVOSYY=;
 b=FHDsmX+CilJhEMlsh5u2PjIMKUXFSaWLgvakSaxujbgzP3B7deDYWQudDnlSIR5Biv
 JrtNu67wzAPz3TPr9NkdvVTYsYYTp1P6nUmRANnv6RKDIRzgnOwy4N2/NgiSQoIf3fYg
 +AVFnTuTNV99FsU8fvxtIDGbx6XxEYBMRVhKo=
X-Google-DKIM-Signature: v=1; a=rsa-sha256; c=relaxed/relaxed;
 d=1e100.net; s=20230601; t=1721263572; x=1721868372;
 h=references:in-reply-to:cc:to:from:subject:message-id:date
 :x-gm-message-state:from:to:cc:subject:date:message-id:reply-to;
 bh=6+AUW+z60gmFwtIQWTA4nw4E2S+kGPLKgujndyVOSYY=;
 b=OPj7CzvRk4K3TdphLtyLZKJec3wKiNZt7ECEEOta8hhOU3HVVLGgkmRzM3/rtwqa8K
 3Nx66qG1Z72p6M5d3dT+iNLau9fuoNemJnTkA97wy+7bAFa73T4ZQd8XPlIJf1QvLbW1
 aKQIQOyGJC/F6TEzEjsPKkiJRtDPQEPlQQzpuBa4sAC+3DFH+1u9AxJTEqDL6hodqvXG
 +d/7bHuKdPmRb5Rjs1053PX8mAQ9IU+uSC60sSU8td++qsttSpSA5Zx5Sgjch58BAB6K
 bbdFGA5YL5T8M6mCelI90h9fOV8YftQ50W/fA92mmQLnowf9sXg2ge11xEueYyY5+GKW
 sG0w==
X-Gm-Message-State: AOJu0Yz7y/KZPCGuC6r2l+KZ8g57GKaz8yETKsucJQ53Kpn3cpbYwNsl
 H2bCpHxXCWkyNBOlLnwTIsAK0j2sGmMbDmOBaM9YXFft6v+dqIvagtx0RO1pForTpzQ9WeDfhIP
 JOjj+XT4c9hBIouHsBgLg9kFd7MLk+Xj4iodI0zf0
X-Google-Smtp-Source: AGHT+IGVSbjee0HnPl1BR7DmVtLDYoKjUwIbLQDrOpaOMCIdoFj9CGJ+5z9AE9PpXjITBr4QKb+DK/WywZA5
X-Received: by 2002:a05:6214:248d:b0:6b5:ddc3:f5f8 with SMTP id
 6a1803df08f44-6b78ca6a95amr42500736d6.10.1721263571871; 
 Wed, 17 Jul 2024 17:46:11 -0700 (PDT)
Received: from postal.iol.unh.edu (postal.iol.unh.edu. [132.177.123.84])
 by smtp-relay.gmail.com with ESMTPS id
 6a1803df08f44-6b79c53faa0sm454146d6.31.2024.07.17.17.46.11
 (version=TLS1_2 cipher=ECDHE-ECDSA-AES128-GCM-SHA256 bits=128/128);
 Wed, 17 Jul 2024 17:46:11 -0700 (PDT)
X-Relaying-Domain: iol.unh.edu
Date: Wed, 17 Jul 2024 17:46:11 -0700 (PDT)
Message-ID: <669865d3.050a0220.24982.1ac6SMTPIN_ADDED_MISSING@mx.google.com>
Received: from [172.21.0.7] (unknown [172.18.0.240])
 by postal.iol.unh.edu (Postfix) with ESMTP id 92C2F605C351;
 Wed, 17 Jul 2024 20:46:11 -0400 (EDT)
Subject: |PENDING| pw142476-142477 [PATCH] [v10,21/21] net/ntnic: add physica
From: dpdklab@iol.unh.edu
To: Test Report <test-report@dpdk.org>
Cc: dpdk-test-reports@iol.unh.edu
In-Reply-To: <20240717133313.3104239-21-sil-plv@napatech.com>
References: <20240717133313.3104239-21-sil-plv@napatech.com>
Content-Type: text/plain
X-BeenThere: test-report@dpdk.org
X-Mailman-Version: 2.1.29
Precedence: list
List-Id: automatic DPDK test reports <test-report.dpdk.org>
List-Unsubscribe: <https://mails.dpdk.org/options/test-report>,
 <mailto:test-report-request@dpdk.org?subject=unsubscribe>
List-Archive: <http://mails.dpdk.org/archives/test-report/>
List-Post: <mailto:test-report@dpdk.org>
List-Help: <mailto:test-report-request@dpdk.org?subject=help>
List-Subscribe: <https://mails.dpdk.org/listinfo/test-report>,
 <mailto:test-report-request@dpdk.org?subject=subscribe>
Errors-To: test-report-bounces@dpdk.org

Test-Label: iol-compile-amd64-testing
Test-Status: PENDING
http://dpdk.org/patch/142477

_Testing pending_

Submitter: Serhii Iliushyk <sil-plv@napatech.com>
Date: Wednesday, July 17 2024 13:33:08 
DPDK git baseline: Repo:dpdk
  Branch: master
  CommitID:3317515e9377c13e458e31a64f8987a9d1f2eaf6

142476-142477 --> testing pending

Upstream job id: Generic-DPDK-Compile-Meson#275563

Test environment and result as below:

+---------------------+----------------------+--------------------+-------------------+------------------+-------------------+
|     Environment     | dpdk_mingw64_compile | dpdk_meson_compile | dpdk_msvc_compile | dpdk_compile_ovs | dpdk_compile_spdk |
+=====================+======================+====================+===================+==================+===================+
| Windows Server 2019 | PASS                 | PASS               | SKIPPED           | SKIPPED          | SKIPPED           |
+---------------------+----------------------+--------------------+-------------------+------------------+-------------------+
| Windows Server 2022 | PASS                 | PASS               | PASS              | SKIPPED          | SKIPPED           |
+---------------------+----------------------+--------------------+-------------------+------------------+-------------------+
| FreeBSD 13.3        | SKIPPED              | PASS               | SKIPPED           | SKIPPED          | SKIPPED           |
+---------------------+----------------------+--------------------+-------------------+------------------+-------------------+
| FreeBSD 14.1        | SKIPPED              | PASS               | SKIPPED           | SKIPPED          | SKIPPED           |
+---------------------+----------------------+--------------------+-------------------+------------------+-------------------+
| CentOS Stream 8     | SKIPPED              | PASS               | SKIPPED           | PASS             | PASS              |
+---------------------+----------------------+--------------------+-------------------+------------------+-------------------+
| CentOS Stream 9     | SKIPPED              | PASS               | SKIPPED           | PASS             | PASS              |
+---------------------+----------------------+--------------------+-------------------+------------------+-------------------+
| Debian Bullseye     | SKIPPED              | PASS               | SKIPPED           | PASS             | PASS              |
+---------------------+----------------------+--------------------+-------------------+------------------+-------------------+
| Debian 12           | SKIPPED              | PASS               | SKIPPED           | PASS             | PASS              |
+---------------------+----------------------+--------------------+-------------------+------------------+-------------------+
| Fedora 37           | SKIPPED              | PASS               | SKIPPED           | PASS             | PASS              |
+---------------------+----------------------+--------------------+-------------------+------------------+-------------------+
| Fedora 38 (Clang)   | SKIPPED              | PASS               | SKIPPED           | PASS             | PASS              |
+---------------------+----------------------+--------------------+-------------------+------------------+-------------------+
| Fedora 38           | SKIPPED              | PASS               | SKIPPED           | PASS             | PASS              |
+---------------------+----------------------+--------------------+-------------------+------------------+-------------------+
| Fedora 39 (Clang)   | SKIPPED              | PEND               | SKIPPED           | PEND             | PEND              |
+---------------------+----------------------+--------------------+-------------------+------------------+-------------------+
| Fedora 39           | SKIPPED              | PASS               | SKIPPED           | PASS             | PASS              |
+---------------------+----------------------+--------------------+-------------------+------------------+-------------------+
| Fedora 40 (Clang)   | SKIPPED              | PASS               | SKIPPED           | PASS             | PASS              |
+---------------------+----------------------+--------------------+-------------------+------------------+-------------------+
| Fedora 40           | SKIPPED              | PASS               | SKIPPED           | PASS             | PASS              |
+---------------------+----------------------+--------------------+-------------------+------------------+-------------------+
| openSUSE Leap 15    | SKIPPED              | PASS               | SKIPPED           | PASS             | SKIPPED           |
+---------------------+----------------------+--------------------+-------------------+------------------+-------------------+
| RHEL8               | SKIPPED              | PASS               | SKIPPED           | PASS             | SKIPPED           |
+---------------------+----------------------+--------------------+-------------------+------------------+-------------------+
| RHEL9               | SKIPPED              | PASS               | SKIPPED           | PASS             | SKIPPED           |
+---------------------+----------------------+--------------------+-------------------+------------------+-------------------+
| Ubuntu 20.04        | SKIPPED              | PASS               | SKIPPED           | PASS             | SKIPPED           |
+---------------------+----------------------+--------------------+-------------------+------------------+-------------------+
| Ubuntu 22.04        | SKIPPED              | PASS               | SKIPPED           | PASS             | PASS              |
+---------------------+----------------------+--------------------+-------------------+------------------+-------------------+
| Ubuntu 24.04        | SKIPPED              | PASS               | SKIPPED           | PASS             | PASS              |
+---------------------+----------------------+--------------------+-------------------+------------------+-------------------+
| Alpine              | SKIPPED              | PEND               | SKIPPED           | PEND             | SKIPPED           |
+---------------------+----------------------+--------------------+-------------------+------------------+-------------------+


Windows Server 2019
	Kernel: 10.0.17763
	Compiler: clang 14.0 and gcc 8.1.0 (MinGW)

Windows Server 2022
	Kernel: 10.0.20348.2031
	Compiler: clang 15.0.7, gcc 8.1.0 (MinGW), and MSVC VS 17.9

FreeBSD 13.3
	Kernel: 13.3-RELEASE-p1
	Compiler: clang 17.0.6

FreeBSD 14.1
	Kernel: 14.1
	Compiler: clang 18.1.5

CentOS Stream 8
	Kernel: 5.4.0-167-generic
	Compiler: gcc 8.5.0 20210514

CentOS Stream 9
	Kernel: 5.4.0-167-generic
	Compiler: gcc 11.4.1 20230605

Debian Bullseye
	Kernel: 5.4.0-167-generic
	Compiler: gcc 10.2.1-6

Debian 12
	Kernel: Container Host Kernel
	Compiler: gcc 12.2.0

Fedora 37
	Kernel: Depends on container host system
	Compiler: gcc 12.3.1

Fedora 38 (Clang)
	Kernel: Depends on container host
	Compiler: clang 16.0.6

Fedora 38
	Kernel: Depends on container host
	Compiler: gcc 13.2.1

Fedora 39 (Clang)
	Kernel: Depends on container host
	Compiler: clang 17.0.6

Fedora 39
	Kernel: Depends on container host
	Compiler: gcc 13.2.1

Fedora 40 (Clang)
	Kernel: Depends on container host
	Compiler: clang 18.1.6

Fedora 40
	Kernel: Depends on container host
	Compiler: gcc 14.1.1

openSUSE Leap 15
	Kernel: 5.4.0-167-generic
	Compiler: gcc 7.5.0

RHEL8
	Kernel: 5.4.0-167-generic
	Compiler: gcc 8.5.0 20210514 (Red Hat 8.5.0-20)

RHEL9
	Kernel: Depends on container host
	Compiler: gcc 11.4.1

Ubuntu 20.04
	Kernel: 5.4.0-167-generic
	Compiler: gcc 9.4.0-1ubuntu1~20.04.1

Ubuntu 22.04
	Kernel: 5.4.0-167-generic
	Compiler: gcc 11.4.0

Ubuntu 24.04
	Kernel: 5.4.0-167-generic
	Compiler: gcc 13.2.0

Alpine
	Kernel: 5.4.0-167-generic
	Compiler: gcc (Alpine 13.2.1_git20231014) 13.2.1 20231014

To view detailed results, visit:
https://lab.dpdk.org/results/dashboard/patchsets/30539/

UNH-IOL DPDK Community Lab

To manage your email subscriptions, visit: 
https://lab.dpdk.org/results/dashboard/preferences/subscriptions/