From mboxrd@z Thu Jan  1 00:00:00 1970
Return-Path: <test-report-bounces@dpdk.org>
Received: from mails.dpdk.org (mails.dpdk.org [217.70.189.124])
	by inbox.dpdk.org (Postfix) with ESMTP id 704B74563B
	for <public@inbox.dpdk.org>; Thu, 18 Jul 2024 02:50:03 +0200 (CEST)
Received: from mails.dpdk.org (localhost [127.0.0.1])
	by mails.dpdk.org (Postfix) with ESMTP id 63E0D402CA;
	Thu, 18 Jul 2024 02:50:03 +0200 (CEST)
Received: from mail-vk1-f226.google.com (mail-vk1-f226.google.com
 [209.85.221.226])
 by mails.dpdk.org (Postfix) with ESMTP id 97272402CA
 for <test-report@dpdk.org>; Thu, 18 Jul 2024 02:49:33 +0200 (CEST)
Received: by mail-vk1-f226.google.com with SMTP id
 71dfb90a1353d-4f481c2bc80so110644e0c.0
 for <test-report@dpdk.org>; Wed, 17 Jul 2024 17:49:33 -0700 (PDT)
DKIM-Signature: v=1; a=rsa-sha256; c=relaxed/relaxed;
 d=iol.unh.edu; s=unh-iol; t=1721263773; x=1721868573; darn=dpdk.org;
 h=references:in-reply-to:cc:to:from:subject:message-id:date:from:to
 :cc:subject:date:message-id:reply-to;
 bh=JvbFLNzYeIzZ/6lzDdA60TzxFIKL36GoL+xplZj/iWc=;
 b=HUSWtDOtQf5qdhcZx/WLuxVzYpj7J4FQ8FHW9rA6Q+teqU1rU31F/2NCC+Q5q1MsFL
 GcQXnE+eau3RTK50kEUCkol3Ey698l5Xvird1P5CxdX8DLOm/n4esk1mdlof/7rSc/jT
 tlxIkSRdAgYv9i8y87gXtEzK+hmn6nTqWqL7A=
X-Google-DKIM-Signature: v=1; a=rsa-sha256; c=relaxed/relaxed;
 d=1e100.net; s=20230601; t=1721263773; x=1721868573;
 h=references:in-reply-to:cc:to:from:subject:message-id:date
 :x-gm-message-state:from:to:cc:subject:date:message-id:reply-to;
 bh=JvbFLNzYeIzZ/6lzDdA60TzxFIKL36GoL+xplZj/iWc=;
 b=sZsNmW5ZhUl8dSMpE9/7qlHe5UYxIKHOl1Dw2JugME48RJj2ugyBL/7hU5WsZjZZn3
 W9aYFX7TD1ukNVGmBdWJ7oJuV0ZBMsZc1O+JAPkvW7OWgt6HwjkLthW06Aiter96Wri2
 UvpQoG7OKeNBYvacy6C+zRFnVQBqtFnlKudYkrIputTRPwA4t7Z3PpouEk8qrm/s63ib
 e1pnbK603HiRQANYEwTOFVEhMqdNgVxsVoKjqNwemmNi4SqP+lHb42Dz+V/ibrA4D4nz
 TKJXWj9jnyPgd+NSuaU+g9qmMNltYNk5xBU4dHc6RBNEPrDu8n9ayPlW9vAWbdwKQ6F2
 Ae5Q==
X-Gm-Message-State: AOJu0Yxu4RPpji90TcaijqpD0E0qZzRg+XWhX1PlRHQ3EQnCP+tJudsU
 Xvu8REtUU7wFHECytSKPIkmm3ir+18tGF0qipmCxt8b7Hwj/yN4K9+UOPvkQpj60C7oTpzsuqk8
 7/6RLIEMshhPiKPEqO/LqnTuBgKxs5ZbiG3evdX7V31AxnbgjRmXFxu/H
X-Google-Smtp-Source: AGHT+IEhrz7eqKIhJ4LJ0l1Qb383jmOwhFzRVWzlfuUhmk4azFiqXjDXbveaGHWyDIqmzT653MO5RDMKgl3S
X-Received: by 2002:a05:6122:318a:b0:4ef:59dd:1311 with SMTP id
 71dfb90a1353d-4f4df6530e9mr4771257e0c.2.1721263772783; 
 Wed, 17 Jul 2024 17:49:32 -0700 (PDT)
Received: from postal.iol.unh.edu (postal.iol.unh.edu.
 [2606:4100:3880:1234::84]) by smtp-relay.gmail.com with ESMTPS id
 71dfb90a1353d-4f4ee9a244esm21099e0c.4.2024.07.17.17.49.32
 (version=TLS1_2 cipher=ECDHE-ECDSA-AES128-GCM-SHA256 bits=128/128);
 Wed, 17 Jul 2024 17:49:32 -0700 (PDT)
X-Relaying-Domain: iol.unh.edu
Date: Wed, 17 Jul 2024 17:49:32 -0700 (PDT)
Message-ID: <6698669c.050a0220.9b473.0b36SMTPIN_ADDED_MISSING@mx.google.com>
Received: from [172.21.0.6] (unknown [172.18.0.240])
 by postal.iol.unh.edu (Postfix) with ESMTP id 74176605C351;
 Wed, 17 Jul 2024 20:49:32 -0400 (EDT)
Subject: |PENDING| pw142476-142477 [PATCH] [v10,21/21] net/ntnic: add physica
From: dpdklab@iol.unh.edu
To: Test Report <test-report@dpdk.org>
Cc: dpdk-test-reports@iol.unh.edu
In-Reply-To: <20240717133313.3104239-21-sil-plv@napatech.com>
References: <20240717133313.3104239-21-sil-plv@napatech.com>
Content-Type: text/plain
X-BeenThere: test-report@dpdk.org
X-Mailman-Version: 2.1.29
Precedence: list
List-Id: automatic DPDK test reports <test-report.dpdk.org>
List-Unsubscribe: <https://mails.dpdk.org/options/test-report>,
 <mailto:test-report-request@dpdk.org?subject=unsubscribe>
List-Archive: <http://mails.dpdk.org/archives/test-report/>
List-Post: <mailto:test-report@dpdk.org>
List-Help: <mailto:test-report-request@dpdk.org?subject=help>
List-Subscribe: <https://mails.dpdk.org/listinfo/test-report>,
 <mailto:test-report-request@dpdk.org?subject=subscribe>
Errors-To: test-report-bounces@dpdk.org

Test-Label: iol-unit-amd64-testing
Test-Status: PENDING
http://dpdk.org/patch/142477

_Testing pending_

Submitter: Serhii Iliushyk <sil-plv@napatech.com>
Date: Wednesday, July 17 2024 13:33:08 
DPDK git baseline: Repo:dpdk
  Branch: master
  CommitID:3317515e9377c13e458e31a64f8987a9d1f2eaf6

142476-142477 --> testing pending

Upstream job id: Generic-Unit-Test-DPDK#240961

Test environment and result as below:

+---------------------+----------------+
|     Environment     | dpdk_unit_test |
+=====================+================+
| Windows Server 2022 | PASS           |
+---------------------+----------------+
| Windows Server 2019 | PASS           |
+---------------------+----------------+
| CentOS Stream 8     | PASS           |
+---------------------+----------------+
| CentOS Stream 9     | PASS           |
+---------------------+----------------+
| Debian Bullseye     | PASS           |
+---------------------+----------------+
| Debian 12           | PASS           |
+---------------------+----------------+
| Fedora 37           | PASS           |
+---------------------+----------------+
| Fedora 38           | PASS           |
+---------------------+----------------+
| Fedora 38 (Clang)   | PASS           |
+---------------------+----------------+
| Fedora 39 (Clang)   | PEND           |
+---------------------+----------------+
| Fedora 40           | PEND           |
+---------------------+----------------+
| Fedora 40 (Clang)   | PEND           |
+---------------------+----------------+
| RHEL8               | PEND           |
+---------------------+----------------+
| Ubuntu 20.04        | PEND           |
+---------------------+----------------+
| Ubuntu 22.04        | PEND           |
+---------------------+----------------+
| Ubuntu 24.04        | PEND           |
+---------------------+----------------+
| RHEL9               | PEND           |
+---------------------+----------------+
| Fedora 39           | PEND           |
+---------------------+----------------+
| openSUSE Leap 15    | PEND           |
+---------------------+----------------+


Windows Server 2022
	Kernel: 10.0.20348.2031
	Compiler: clang 15.0.7, gcc 8.1.0 (MinGW), and MSVC VS 17.9

Windows Server 2019
	Kernel: 10.0.17763
	Compiler: clang 14.0 and gcc 8.1.0 (MinGW)

CentOS Stream 8
	Kernel: 5.4.0-167-generic
	Compiler: gcc 8.5.0 20210514

CentOS Stream 9
	Kernel: 5.4.0-167-generic
	Compiler: gcc 11.4.1 20230605

Debian Bullseye
	Kernel: 5.4.0-167-generic
	Compiler: gcc 10.2.1-6

Debian 12
	Kernel: Container Host Kernel
	Compiler: gcc 12.2.0

Fedora 37
	Kernel: Depends on container host system
	Compiler: gcc 12.3.1

Fedora 38
	Kernel: Depends on container host
	Compiler: gcc 13.2.1

Fedora 38 (Clang)
	Kernel: Depends on container host
	Compiler: clang 16.0.6

Fedora 39 (Clang)
	Kernel: Depends on container host
	Compiler: clang 17.0.6

Fedora 40
	Kernel: Depends on container host
	Compiler: gcc 14.1.1

Fedora 40 (Clang)
	Kernel: Depends on container host
	Compiler: clang 18.1.6

RHEL8
	Kernel: 5.4.0-167-generic
	Compiler: gcc 8.5.0 20210514 (Red Hat 8.5.0-20)

Ubuntu 20.04
	Kernel: 5.4.0-167-generic
	Compiler: gcc 9.4.0-1ubuntu1~20.04.1

Ubuntu 22.04
	Kernel: 5.4.0-167-generic
	Compiler: gcc 11.4.0

Ubuntu 24.04
	Kernel: 5.4.0-167-generic
	Compiler: gcc 13.2.0

RHEL9
	Kernel: Depends on container host
	Compiler: gcc 11.4.1

Fedora 39
	Kernel: Depends on container host
	Compiler: gcc 13.2.1

openSUSE Leap 15
	Kernel: 5.4.0-167-generic
	Compiler: gcc 7.5.0

To view detailed results, visit:
https://lab.dpdk.org/results/dashboard/patchsets/30539/

UNH-IOL DPDK Community Lab

To manage your email subscriptions, visit: 
https://lab.dpdk.org/results/dashboard/preferences/subscriptions/