From mboxrd@z Thu Jan  1 00:00:00 1970
Return-Path: <test-report-bounces@dpdk.org>
Received: from mails.dpdk.org (mails.dpdk.org [217.70.189.124])
	by inbox.dpdk.org (Postfix) with ESMTP id 8E1DB4563C
	for <public@inbox.dpdk.org>; Thu, 18 Jul 2024 04:50:49 +0200 (CEST)
Received: from mails.dpdk.org (localhost [127.0.0.1])
	by mails.dpdk.org (Postfix) with ESMTP id 8C1B740E2D;
	Thu, 18 Jul 2024 04:50:49 +0200 (CEST)
Received: from mail-qk1-f226.google.com (mail-qk1-f226.google.com
 [209.85.222.226])
 by mails.dpdk.org (Postfix) with ESMTP id 828E3402A9
 for <test-report@dpdk.org>; Thu, 18 Jul 2024 04:50:16 +0200 (CEST)
Received: by mail-qk1-f226.google.com with SMTP id
 af79cd13be357-79f323f084eso14904885a.3
 for <test-report@dpdk.org>; Wed, 17 Jul 2024 19:50:16 -0700 (PDT)
DKIM-Signature: v=1; a=rsa-sha256; c=relaxed/relaxed;
 d=iol.unh.edu; s=unh-iol; t=1721271016; x=1721875816; darn=dpdk.org;
 h=references:in-reply-to:cc:to:from:subject:message-id:date:from:to
 :cc:subject:date:message-id:reply-to;
 bh=6UtQxuhZNC9vUuZamVvgUcrhY0CAHo5NaaL7qL45EFs=;
 b=c2LvncxEN7aabgOCfQiHkZThRms2Oiqj3XaMjCNtgBm9S4kV6e62OfEVjBp5KbNwT1
 fiAEs9nS2mB7eSrjX7UASMyZkRPtkr67IDqdUEb+KnmcdBPjoTH4osyhJRCyhXKA26Wu
 lf3+lIVEwphFTx38dU7CoDyz4aKGQmPfBKKXQ=
X-Google-DKIM-Signature: v=1; a=rsa-sha256; c=relaxed/relaxed;
 d=1e100.net; s=20230601; t=1721271016; x=1721875816;
 h=references:in-reply-to:cc:to:from:subject:message-id:date
 :x-gm-message-state:from:to:cc:subject:date:message-id:reply-to;
 bh=6UtQxuhZNC9vUuZamVvgUcrhY0CAHo5NaaL7qL45EFs=;
 b=chjTXIZUKlp9NpAz9wCC68aAGLpvri+9K9xwVEdX01gPBGg0zfM9H1/YWKwySVYgdO
 mAUyQXqScIcnCLZJS7w7IVbICno/pKxwKIrsd+cKp4CWeQ+gKrR7QzfVuivHWWITGkWf
 PYRjIuuemEkuJ+g3tYeHqm54+nhCw6ou/f0nvuAT+viArTuaEvtBACvygodwhT+1iaam
 nsfg3aU5bDDRsyASbyep9hIBsLKwXqkJFgO2MH6zjbIiCIuJn0Q8YNrr3B0epkd74MlB
 sVeeo2bOP0tVKnRvIYmYgrhdOFQFbR5ZuJlDRWmvMkakz3dPJ3R5DQGZ+TcJ2nHoQ3tD
 ORcg==
X-Gm-Message-State: AOJu0Yww7kIMyl0SmGFg9g9qQEbRZ+/LqEVG2+ohsJAeo1M6lFPiZUgo
 LZs+BGmj8M7d3VVhHLojJZrUzZ9BXBVOdbOW1wElrXroXV23kVEcx6jxM/jJLCMMp1os3NaQF1T
 PDN9XqW9HSsneSRXqyuHijgi0+/gE+nSQWhzTmsw6
X-Google-Smtp-Source: AGHT+IEjSa61iEzGlTm7EXb9YrxGdl7Kz4AfyVZJAt8xG2iJCQEjDcH4wEjDhcjEZKUtUTOrjiXLPqCfbqPs
X-Received: by 2002:a05:622a:393:b0:447:efb8:97f8 with SMTP id
 d75a77b69052e-44f86657129mr47418291cf.49.1721271015930; 
 Wed, 17 Jul 2024 19:50:15 -0700 (PDT)
Received: from postal.iol.unh.edu (postal.iol.unh.edu. [132.177.123.84])
 by smtp-relay.gmail.com with ESMTPS id
 d75a77b69052e-44f5b83b75esm7021831cf.17.2024.07.17.19.50.15
 (version=TLS1_2 cipher=ECDHE-ECDSA-AES128-GCM-SHA256 bits=128/128);
 Wed, 17 Jul 2024 19:50:15 -0700 (PDT)
X-Relaying-Domain: iol.unh.edu
Date: Wed, 17 Jul 2024 19:50:15 -0700 (PDT)
Message-ID: <669882e7.c80a0220.d4d5f.e1daSMTPIN_ADDED_MISSING@mx.google.com>
Received: from [172.21.0.7] (unknown [172.18.0.240])
 by postal.iol.unh.edu (Postfix) with ESMTP id 9E105605C351;
 Wed, 17 Jul 2024 22:50:15 -0400 (EDT)
Subject: |PENDING| pw142494-142496 [PATCH] [v11,3/3] dts: config schema
From: dpdklab@iol.unh.edu
To: Test Report <test-report@dpdk.org>
Cc: dpdk-test-reports@iol.unh.edu
In-Reply-To: <20240717203141.30524-3-dmarx@iol.unh.edu>
References: <20240717203141.30524-3-dmarx@iol.unh.edu>
Content-Type: text/plain
X-BeenThere: test-report@dpdk.org
X-Mailman-Version: 2.1.29
Precedence: list
List-Id: automatic DPDK test reports <test-report.dpdk.org>
List-Unsubscribe: <https://mails.dpdk.org/options/test-report>,
 <mailto:test-report-request@dpdk.org?subject=unsubscribe>
List-Archive: <http://mails.dpdk.org/archives/test-report/>
List-Post: <mailto:test-report@dpdk.org>
List-Help: <mailto:test-report-request@dpdk.org?subject=help>
List-Subscribe: <https://mails.dpdk.org/listinfo/test-report>,
 <mailto:test-report-request@dpdk.org?subject=subscribe>
Errors-To: test-report-bounces@dpdk.org

Test-Label: iol-compile-amd64-testing
Test-Status: PENDING
http://dpdk.org/patch/142496

_Testing pending_

Submitter: Dean Marx <dmarx@iol.unh.edu>
Date: Wednesday, July 17 2024 20:31:41 
DPDK git baseline: Repo:dpdk
  Branch: master
  CommitID:fa8d2f7f28524a6c8defa3dcd94f5aa131aae084

142494-142496 --> testing pending

Upstream job id: Windows-Compile-DPDK-Mingw64#20802

Test environment and result as below:

+---------------------+----------------------+--------------------+-------------------+
|     Environment     | dpdk_mingw64_compile | dpdk_meson_compile | dpdk_msvc_compile |
+=====================+======================+====================+===================+
| Windows Server 2022 | PASS                 | PEND               | PEND              |
+---------------------+----------------------+--------------------+-------------------+
| FreeBSD 13.3        | SKIPPED              | PASS               | SKIPPED           |
+---------------------+----------------------+--------------------+-------------------+
| FreeBSD 14.1        | SKIPPED              | PASS               | SKIPPED           |
+---------------------+----------------------+--------------------+-------------------+


Windows Server 2022
	Kernel: 10.0.20348.2031
	Compiler: clang 15.0.7, gcc 8.1.0 (MinGW), and MSVC VS 17.9

FreeBSD 13.3
	Kernel: 13.3-RELEASE-p1
	Compiler: clang 17.0.6

FreeBSD 14.1
	Kernel: 14.1
	Compiler: clang 18.1.5

To view detailed results, visit:
https://lab.dpdk.org/results/dashboard/patchsets/30548/

UNH-IOL DPDK Community Lab

To manage your email subscriptions, visit: 
https://lab.dpdk.org/results/dashboard/preferences/subscriptions/