From mboxrd@z Thu Jan  1 00:00:00 1970
Return-Path: <test-report-bounces@dpdk.org>
Received: from mails.dpdk.org (mails.dpdk.org [217.70.189.124])
	by inbox.dpdk.org (Postfix) with ESMTP id 9FBA64563C
	for <public@inbox.dpdk.org>; Thu, 18 Jul 2024 04:57:01 +0200 (CEST)
Received: from mails.dpdk.org (localhost [127.0.0.1])
	by mails.dpdk.org (Postfix) with ESMTP id 885D040E22;
	Thu, 18 Jul 2024 04:57:01 +0200 (CEST)
Received: from mail-qv1-f98.google.com (mail-qv1-f98.google.com
 [209.85.219.98]) by mails.dpdk.org (Postfix) with ESMTP id BF999402A9
 for <test-report@dpdk.org>; Thu, 18 Jul 2024 04:56:51 +0200 (CEST)
Received: by mail-qv1-f98.google.com with SMTP id
 6a1803df08f44-6b553b1a159so2087086d6.0
 for <test-report@dpdk.org>; Wed, 17 Jul 2024 19:56:51 -0700 (PDT)
DKIM-Signature: v=1; a=rsa-sha256; c=relaxed/relaxed;
 d=iol.unh.edu; s=unh-iol; t=1721271411; x=1721876211; darn=dpdk.org;
 h=references:in-reply-to:cc:to:from:subject:message-id:date:from:to
 :cc:subject:date:message-id:reply-to;
 bh=41Hf5Rajv7JjOBAl6rPLk02tg7Vu4MwocG0lZAd3gWY=;
 b=ZWhQK4ox/HPs6pXVJTqtGNEXfiW9xgqxiXadV+dNfexP/ZxrLHs5HuNFm2QPcylCTL
 knRDW86Cq044jnnYS96wyXOs4eDKxCHo/GKPgcxqJ+MkMOfIt7gMuzOHLhAx/ogDcM0l
 OGuPrQeg05OAri40MEwC9gdOjjji4PXZ1Ryp8=
X-Google-DKIM-Signature: v=1; a=rsa-sha256; c=relaxed/relaxed;
 d=1e100.net; s=20230601; t=1721271411; x=1721876211;
 h=references:in-reply-to:cc:to:from:subject:message-id:date
 :x-gm-message-state:from:to:cc:subject:date:message-id:reply-to;
 bh=41Hf5Rajv7JjOBAl6rPLk02tg7Vu4MwocG0lZAd3gWY=;
 b=ALCAhdeLTsUnlY1YjGgKTjRBfok7NREfjYEoQNrJBPyXgpp+zQBlmQEoNKek7KZNBT
 uBXdzEboFyl/RvkaU8mYnNL4LmrpYrHuDQPjEh6W3A9d8SY5WwPUOYOsKtWglrfJVSPQ
 x5yM0kh2eoa7NdYDAwfy1hvHGGdGOecpaZeJMDYCdz0gOwQQfwoAcR/6ZxOwO1Rk9nSq
 RJyeRCMR0sl1v2LChlfd8aVMVU46t5QayRq/1+mo2QNW+E3ojlQKyLBJ0sKDBpcgEqWr
 Knyiq0ALBjiJ7/AwSIxEqe+omsn8h2RFovlSWRGQZTeK61O2vvnUJm2+tZhDKL6NjKv3
 f2AA==
X-Gm-Message-State: AOJu0YyvN8wOYuK/rXMpmNaKrnvRrLEVCZ6U3sKtYp6kqsdZV0BJmkIq
 c3SjcztS2T52auGb6kUIf8p+O1ijoCy2s6d3DqpspXVbwaBLAn3InTFnS3siH2PUt6VI99pX39k
 YSQuq+D0Wja2UR9r5RGGldYY1RXy1xwZcAVhngoW6
X-Google-Smtp-Source: AGHT+IFAg7Djsu5gQXZnQSvF+p7g981qT6MccMkQDfaVhTf0Kk0lmHIvUQ88qx1SBApCDmRL9o4zzCpNn24F
X-Received: by 2002:a05:6214:5198:b0:6b5:4865:948e with SMTP id
 6a1803df08f44-6b78e1ec90dmr53677256d6.32.1721271410945; 
 Wed, 17 Jul 2024 19:56:50 -0700 (PDT)
Received: from postal.iol.unh.edu (postal.iol.unh.edu. [132.177.123.84])
 by smtp-relay.gmail.com with ESMTPS id
 6a1803df08f44-6b79c50316fsm599096d6.8.2024.07.17.19.56.50
 (version=TLS1_2 cipher=ECDHE-ECDSA-AES128-GCM-SHA256 bits=128/128);
 Wed, 17 Jul 2024 19:56:50 -0700 (PDT)
X-Relaying-Domain: iol.unh.edu
Date: Wed, 17 Jul 2024 19:56:50 -0700 (PDT)
Message-ID: <66988472.050a0220.39bb33.25dfSMTPIN_ADDED_MISSING@mx.google.com>
Received: from [172.21.0.9] (unknown [172.18.0.240])
 by postal.iol.unh.edu (Postfix) with ESMTP id 9158A605C351;
 Wed, 17 Jul 2024 22:56:50 -0400 (EDT)
Subject: |SUCCESS| pw142494-142496 [PATCH] [v11,3/3] dts: config schema
From: dpdklab@iol.unh.edu
To: Test Report <test-report@dpdk.org>
Cc: dpdk-test-reports@iol.unh.edu
In-Reply-To: <20240717203141.30524-3-dmarx@iol.unh.edu>
References: <20240717203141.30524-3-dmarx@iol.unh.edu>
Content-Type: text/plain
X-BeenThere: test-report@dpdk.org
X-Mailman-Version: 2.1.29
Precedence: list
List-Id: automatic DPDK test reports <test-report.dpdk.org>
List-Unsubscribe: <https://mails.dpdk.org/options/test-report>,
 <mailto:test-report-request@dpdk.org?subject=unsubscribe>
List-Archive: <http://mails.dpdk.org/archives/test-report/>
List-Post: <mailto:test-report@dpdk.org>
List-Help: <mailto:test-report-request@dpdk.org?subject=help>
List-Subscribe: <https://mails.dpdk.org/listinfo/test-report>,
 <mailto:test-report-request@dpdk.org?subject=subscribe>
Errors-To: test-report-bounces@dpdk.org

Test-Label: iol-compile-amd64-testing
Test-Status: SUCCESS
http://dpdk.org/patch/142496

_Testing PASS_

Submitter: Dean Marx <dmarx@iol.unh.edu>
Date: Wednesday, July 17 2024 20:31:41 
DPDK git baseline: Repo:dpdk
  Branch: master
  CommitID:fa8d2f7f28524a6c8defa3dcd94f5aa131aae084

142494-142496 --> testing pass

Upstream job id: Windows-Compile-DPDK-Meson#23622

Test environment and result as below:

+---------------------+----------------------+--------------------+-------------------+
|     Environment     | dpdk_mingw64_compile | dpdk_meson_compile | dpdk_msvc_compile |
+=====================+======================+====================+===================+
| Windows Server 2022 | PASS                 | PASS               | PASS              |
+---------------------+----------------------+--------------------+-------------------+
| FreeBSD 13.3        | SKIPPED              | PASS               | SKIPPED           |
+---------------------+----------------------+--------------------+-------------------+
| FreeBSD 14.1        | SKIPPED              | PASS               | SKIPPED           |
+---------------------+----------------------+--------------------+-------------------+


Windows Server 2022
	Kernel: 10.0.20348.2031
	Compiler: clang 15.0.7, gcc 8.1.0 (MinGW), and MSVC VS 17.9

FreeBSD 13.3
	Kernel: 13.3-RELEASE-p1
	Compiler: clang 17.0.6

FreeBSD 14.1
	Kernel: 14.1
	Compiler: clang 18.1.5

To view detailed results, visit:
https://lab.dpdk.org/results/dashboard/patchsets/30548/

UNH-IOL DPDK Community Lab

To manage your email subscriptions, visit: 
https://lab.dpdk.org/results/dashboard/preferences/subscriptions/