From mboxrd@z Thu Jan  1 00:00:00 1970
Return-Path: <test-report-bounces@dpdk.org>
Received: from mails.dpdk.org (mails.dpdk.org [217.70.189.124])
	by inbox.dpdk.org (Postfix) with ESMTP id 9CAAF4563C
	for <public@inbox.dpdk.org>; Thu, 18 Jul 2024 05:40:27 +0200 (CEST)
Received: from mails.dpdk.org (localhost [127.0.0.1])
	by mails.dpdk.org (Postfix) with ESMTP id 9B291402A9;
	Thu, 18 Jul 2024 05:40:27 +0200 (CEST)
Received: from mail-qv1-f99.google.com (mail-qv1-f99.google.com
 [209.85.219.99]) by mails.dpdk.org (Postfix) with ESMTP id ECECC40275
 for <test-report@dpdk.org>; Thu, 18 Jul 2024 05:40:08 +0200 (CEST)
Received: by mail-qv1-f99.google.com with SMTP id
 6a1803df08f44-6b5d42758a7so2090446d6.2
 for <test-report@dpdk.org>; Wed, 17 Jul 2024 20:40:08 -0700 (PDT)
DKIM-Signature: v=1; a=rsa-sha256; c=relaxed/relaxed;
 d=iol.unh.edu; s=unh-iol; t=1721274008; x=1721878808; darn=dpdk.org;
 h=references:in-reply-to:cc:to:from:subject:message-id:date:from:to
 :cc:subject:date:message-id:reply-to;
 bh=WLBIKfyjAiHZ9J4Qst596RR7Vvsh6BhSXf3DzI94Zus=;
 b=VmAL4dSw2kr56jZ3PsP885liGfQHJ1ycMJyADSIjjFORDxuilzKW8W9Phlt6RTbRSE
 mZ+dt5vx/YIR1/5Y5T5F8Cj9t+bTwTuLHTLC0dGeqQLFjRVYpje/i9P1rBv49Zqr7FKC
 uwQ6AonyfnRluTtPbDN2WtvIJ21IJ7KDi0kLI=
X-Google-DKIM-Signature: v=1; a=rsa-sha256; c=relaxed/relaxed;
 d=1e100.net; s=20230601; t=1721274008; x=1721878808;
 h=references:in-reply-to:cc:to:from:subject:message-id:date
 :x-gm-message-state:from:to:cc:subject:date:message-id:reply-to;
 bh=WLBIKfyjAiHZ9J4Qst596RR7Vvsh6BhSXf3DzI94Zus=;
 b=eB5/G/sMSdJde9UIAGfj2I5VbU+yDQybteAGBHusAqiBky4eaaNuVR82ylFnBwF5q6
 iqfaMVpjtj7OuiQ8qDq6WjnBqev9tArj3hKSssRe56XOEo7ZrmQG2YYNCi3MFw/3tBGq
 ewPd6h8ppYm5U2D9P7oBoNNuySxRnrcNRYt75BXR0p5R6hqzHO6rz4GGeF9IewQdXO0q
 qzIMpAq++Mea75SjV77oGd4wsJRvMY9rSK/xyvMcky7EKpdRQ+koy+tNvhjRuQ2hbU6k
 OB8kqu38Znyzsj7lva5VCdWPK3FcGuJxQZe3P8sMkggLX+olQQUSVKWYR7HH9TDqFb8Z
 t1JQ==
X-Gm-Message-State: AOJu0YyLLcFcfc0Gp1HZ8xPTPYhpiWu12knoRyX7zHXf+FJikKmbSpab
 6L/wCi7XJW629+DxWAqeCnxbPoqXjN5Wj1FTZxVXQgi+8sUSqS4MJtjC1t3xzBWNsrzZ9/585qZ
 kUL1eEFdPKpY4mPhfMIDiAV9ooG9Jz8dFvMm7y9kpLRVMs4FiLFkXySS6
X-Google-Smtp-Source: AGHT+IFzqtPx5dwJC4kp+PdF/3tpv7A+FlN/G6Ddc3cbQgL3cd5iOd9XGx8fVoNGdsP373QfZ1fXEde9BsF4
X-Received: by 2002:a05:6214:d0f:b0:6b5:3bc:2205 with SMTP id
 6a1803df08f44-6b78cabe97cmr42990566d6.32.1721274008349; 
 Wed, 17 Jul 2024 20:40:08 -0700 (PDT)
Received: from postal.iol.unh.edu (postal.iol.unh.edu.
 [2606:4100:3880:1234::84]) by smtp-relay.gmail.com with ESMTPS id
 6a1803df08f44-6b79c51e919sm582746d6.17.2024.07.17.20.40.08
 (version=TLS1_2 cipher=ECDHE-ECDSA-AES128-GCM-SHA256 bits=128/128);
 Wed, 17 Jul 2024 20:40:08 -0700 (PDT)
X-Relaying-Domain: iol.unh.edu
Date: Wed, 17 Jul 2024 20:40:08 -0700 (PDT)
Message-ID: <66988e98.050a0220.d43f9.2007SMTPIN_ADDED_MISSING@mx.google.com>
Received: from [172.21.0.7] (unknown [172.18.0.240])
 by postal.iol.unh.edu (Postfix) with ESMTP id 14F5D605C351;
 Wed, 17 Jul 2024 23:40:08 -0400 (EDT)
Subject: |PENDING| pw142490-142492 [PATCH] [v7,3/3] dts: queue suite conf sch
From: dpdklab@iol.unh.edu
To: Test Report <test-report@dpdk.org>
Cc: dpdk-test-reports@iol.unh.edu
In-Reply-To: <20240717202331.27443-3-dmarx@iol.unh.edu>
References: <20240717202331.27443-3-dmarx@iol.unh.edu>
Content-Type: text/plain
X-BeenThere: test-report@dpdk.org
X-Mailman-Version: 2.1.29
Precedence: list
List-Id: automatic DPDK test reports <test-report.dpdk.org>
List-Unsubscribe: <https://mails.dpdk.org/options/test-report>,
 <mailto:test-report-request@dpdk.org?subject=unsubscribe>
List-Archive: <http://mails.dpdk.org/archives/test-report/>
List-Post: <mailto:test-report@dpdk.org>
List-Help: <mailto:test-report-request@dpdk.org?subject=help>
List-Subscribe: <https://mails.dpdk.org/listinfo/test-report>,
 <mailto:test-report-request@dpdk.org?subject=subscribe>
Errors-To: test-report-bounces@dpdk.org

Test-Label: iol-unit-arm64-testing
Test-Status: PENDING
http://dpdk.org/patch/142492

_Testing pending_

Submitter: Dean Marx <dmarx@iol.unh.edu>
Date: Wednesday, July 17 2024 20:23:31 
DPDK git baseline: Repo:dpdk
  Branch: master
  CommitID:fa8d2f7f28524a6c8defa3dcd94f5aa131aae084

142490-142492 --> testing pending

Upstream job id: Generic-Unit-Test-DPDK#241161

Test environment and result as below:

+-----------------------------+--------------+------------------------------+---------------------------+----------------+
|         Environment         | lpm_autotest | cryptodev_sw_snow3g_autotest | cryptodev_sw_zuc_autotest | dpdk_unit_test |
+=============================+==============+==============================+===========================+================+
| Ubuntu 20.04 ARM SVE        | PEND         | SKIPPED                      | SKIPPED                   | SKIPPED        |
+-----------------------------+--------------+------------------------------+---------------------------+----------------+
| Debian 12 (arm)             | SKIPPED      | PASS                         | PASS                      | PASS           |
+-----------------------------+--------------+------------------------------+---------------------------+----------------+
| CentOS Stream 9 (ARM)       | SKIPPED      | SKIPPED                      | SKIPPED                   | PASS           |
+-----------------------------+--------------+------------------------------+---------------------------+----------------+
| Debian 11 (Buster) (ARM)    | SKIPPED      | SKIPPED                      | SKIPPED                   | PASS           |
+-----------------------------+--------------+------------------------------+---------------------------+----------------+
| Fedora 37 (ARM)             | SKIPPED      | SKIPPED                      | SKIPPED                   | PEND           |
+-----------------------------+--------------+------------------------------+---------------------------+----------------+
| Fedora 38 (ARM)             | SKIPPED      | SKIPPED                      | SKIPPED                   | PEND           |
+-----------------------------+--------------+------------------------------+---------------------------+----------------+
| Fedora 38 (ARM Clang)       | SKIPPED      | SKIPPED                      | SKIPPED                   | PEND           |
+-----------------------------+--------------+------------------------------+---------------------------+----------------+
| Fedora 39 (ARM)             | SKIPPED      | SKIPPED                      | SKIPPED                   | PEND           |
+-----------------------------+--------------+------------------------------+---------------------------+----------------+
| Fedora 39 (ARM Clang)       | SKIPPED      | SKIPPED                      | SKIPPED                   | PEND           |
+-----------------------------+--------------+------------------------------+---------------------------+----------------+
| Fedora 40 (ARM)             | SKIPPED      | SKIPPED                      | SKIPPED                   | PEND           |
+-----------------------------+--------------+------------------------------+---------------------------+----------------+
| RHEL9 (ARM)                 | SKIPPED      | SKIPPED                      | SKIPPED                   | PEND           |
+-----------------------------+--------------+------------------------------+---------------------------+----------------+
| Fedora 40 (ARM Clang)       | SKIPPED      | SKIPPED                      | SKIPPED                   | PEND           |
+-----------------------------+--------------+------------------------------+---------------------------+----------------+
| Ubuntu 22.04 (ARM)          | SKIPPED      | SKIPPED                      | SKIPPED                   | PEND           |
+-----------------------------+--------------+------------------------------+---------------------------+----------------+
| Ubuntu 20.04 (ARM)          | SKIPPED      | SKIPPED                      | SKIPPED                   | PEND           |
+-----------------------------+--------------+------------------------------+---------------------------+----------------+
| Ubuntu 24.04 (ARM)          | SKIPPED      | SKIPPED                      | SKIPPED                   | PEND           |
+-----------------------------+--------------+------------------------------+---------------------------+----------------+
| 32-bit Ubuntu 20.04.4 (ARM) | SKIPPED      | SKIPPED                      | SKIPPED                   | PEND           |
+-----------------------------+--------------+------------------------------+---------------------------+----------------+


Ubuntu 20.04 ARM SVE
	Kernel: 5.4.0-167-generic
	Compiler: gcc (Ubuntu 10.5.0-1ubuntu1~20.04) 10.5.0

Debian 12 (arm)
	Kernel: Container Host Kernel
	Compiler: gcc 12.2.0

CentOS Stream 9 (ARM)
	Kernel: Container Host Kernel
	Compiler: gcc 11.4.1

Debian 11 (Buster) (ARM)
	Kernel: Container Host Kernel
	Compiler: gcc 10.2.1

Fedora 37 (ARM)
	Kernel: Depends on container host
	Compiler: gcc 12.3.1

Fedora 38 (ARM)
	Kernel: Depends on container host
	Compiler: gcc 13.2.1

Fedora 38 (ARM Clang)
	Kernel: Depends on container host
	Compiler: clang 16.0.6

Fedora 39 (ARM)
	Kernel: Depends on container host
	Compiler: gcc 13.2.1

Fedora 39 (ARM Clang)
	Kernel: Depends on container host
	Compiler: clang 17.0.6

Fedora 40 (ARM)
	Kernel: Depends on container host
	Compiler: gcc 14.1.1

RHEL9 (ARM)
	Kernel: Depends on container host
	Compiler: gcc 11.4.1

Fedora 40 (ARM Clang)
	Kernel: Depends on container host
	Compiler: clang 18.1.6

Ubuntu 22.04 (ARM)
	Kernel: Container Host Kernel
	Compiler: gcc 11.4.0

Ubuntu 20.04 (ARM)
	Kernel: Container Host Kernel
	Compiler: gcc 9.4.0

Ubuntu 24.04 (ARM)
	Kernel: 5.4.0-167-generic
	Compiler: gcc 13.2.0

32-bit Ubuntu 20.04.4 (ARM)
	Kernel: 5.4.0-155-generic aarch64
	Compiler: gcc 9.4

To view detailed results, visit:
https://lab.dpdk.org/results/dashboard/patchsets/30546/

UNH-IOL DPDK Community Lab

To manage your email subscriptions, visit: 
https://lab.dpdk.org/results/dashboard/preferences/subscriptions/