From mboxrd@z Thu Jan  1 00:00:00 1970
Return-Path: <test-report-bounces@dpdk.org>
Received: from mails.dpdk.org (mails.dpdk.org [217.70.189.124])
	by inbox.dpdk.org (Postfix) with ESMTP id 310C04563E
	for <public@inbox.dpdk.org>; Thu, 18 Jul 2024 06:19:21 +0200 (CEST)
Received: from mails.dpdk.org (localhost [127.0.0.1])
	by mails.dpdk.org (Postfix) with ESMTP id 193E6402A9;
	Thu, 18 Jul 2024 06:19:21 +0200 (CEST)
Received: from mail-vk1-f226.google.com (mail-vk1-f226.google.com
 [209.85.221.226])
 by mails.dpdk.org (Postfix) with ESMTP id 97EB640275
 for <test-report@dpdk.org>; Thu, 18 Jul 2024 06:19:19 +0200 (CEST)
Received: by mail-vk1-f226.google.com with SMTP id
 71dfb90a1353d-4f2ee99e2d0so133120e0c.0
 for <test-report@dpdk.org>; Wed, 17 Jul 2024 21:19:19 -0700 (PDT)
DKIM-Signature: v=1; a=rsa-sha256; c=relaxed/relaxed;
 d=iol.unh.edu; s=unh-iol; t=1721276359; x=1721881159; darn=dpdk.org;
 h=references:in-reply-to:cc:to:from:subject:message-id:date:from:to
 :cc:subject:date:message-id:reply-to;
 bh=j8ki5aWYhIOZPRry73X/j06XjLATX8NoPEYbWjHHKW0=;
 b=Ro6Ha+bKNqCo0WFi6I90wcJF5XHO9aRCFGk4oG43NW2J3T3MUG95cfKY2b1b2F1wfF
 5KFCSZGuB4ewhaENOVTcQt6wHUcEmJsM4JpeRmZksX4zArCSZknSiMt2JEdzB1Dv82AZ
 K5UWXgXAughaS+PLf4+hsVjLNMAKAW50sOyS4=
X-Google-DKIM-Signature: v=1; a=rsa-sha256; c=relaxed/relaxed;
 d=1e100.net; s=20230601; t=1721276359; x=1721881159;
 h=references:in-reply-to:cc:to:from:subject:message-id:date
 :x-gm-message-state:from:to:cc:subject:date:message-id:reply-to;
 bh=j8ki5aWYhIOZPRry73X/j06XjLATX8NoPEYbWjHHKW0=;
 b=Vy2Quvm+7Vym79oA7avlpozvByJOE69OgghU9aRjjq463cSITriAtk3aRdYHN4C/wv
 ZB0dapREWi+nkap4TyPTcXYefRHHW0gapLNjm9TCdGwP3golzeHLZljkBg6jucGlUWz0
 86FhvngpKGG2oPwHpznFW7rmn1dM5yRZpmoufFkBxhSZIczdYSqy7ExREP4qPcnnMdIs
 l7kYAW43PzsR2D9QtqODJ28JhRO1dkpLHzK9V1+zyNMiOgMjdc3DcPSJKDhRAz614h5I
 amiJz5IHYBgvD7ezvgBQyqDuN3Eb5Ess8wP2sbt0EEZ0Il3uPcUr/g15rzLVTMvY0UH8
 lugg==
X-Gm-Message-State: AOJu0YyTs/GYV7VLHdDirUgvMue0PVJL1UyVYETj6A2lAZcK9R3Ya7RU
 tUZ4u7Z0rzOi58WRPo282CBTwudru6mvDdCHeAEL/e2rUCC/gV/D2LNxbjlvs67NB6opKlShKNN
 VHGffytUDIf/98bqD7vjh0wMyK09VpNWEL7uVihoT
X-Google-Smtp-Source: AGHT+IG8y0+VvkbAotUWBnR33oWYyPUy6FdB+ybwshqEAQXfVFZF0wr3SeASmqEb3+ULm3xkbUeXcpl2XJWm
X-Received: by 2002:a05:6122:d97:b0:4e4:ea24:4c53 with SMTP id
 71dfb90a1353d-4f4df63874amr4406248e0c.3.1721276358047; 
 Wed, 17 Jul 2024 21:19:18 -0700 (PDT)
Received: from postal.iol.unh.edu (postal.iol.unh.edu. [132.177.123.84])
 by smtp-relay.gmail.com with ESMTPS id
 71dfb90a1353d-4f4ee98a9c5sm53948e0c.1.2024.07.17.21.19.17
 (version=TLS1_2 cipher=ECDHE-ECDSA-AES128-GCM-SHA256 bits=128/128);
 Wed, 17 Jul 2024 21:19:18 -0700 (PDT)
X-Relaying-Domain: iol.unh.edu
Date: Wed, 17 Jul 2024 21:19:18 -0700 (PDT)
Message-ID: <669897c6.050a0220.f68bb.1f13SMTPIN_ADDED_MISSING@mx.google.com>
Received: from [172.21.0.7] (unknown [172.18.0.240])
 by postal.iol.unh.edu (Postfix) with ESMTP id AE912605C351;
 Thu, 18 Jul 2024 00:19:17 -0400 (EDT)
Subject: |PENDING| pw142494-142496 [PATCH] [v11,3/3] dts: config schema
From: dpdklab@iol.unh.edu
To: Test Report <test-report@dpdk.org>
Cc: dpdk-test-reports@iol.unh.edu
In-Reply-To: <20240717203141.30524-3-dmarx@iol.unh.edu>
References: <20240717203141.30524-3-dmarx@iol.unh.edu>
Content-Type: text/plain
X-BeenThere: test-report@dpdk.org
X-Mailman-Version: 2.1.29
Precedence: list
List-Id: automatic DPDK test reports <test-report.dpdk.org>
List-Unsubscribe: <https://mails.dpdk.org/options/test-report>,
 <mailto:test-report-request@dpdk.org?subject=unsubscribe>
List-Archive: <http://mails.dpdk.org/archives/test-report/>
List-Post: <mailto:test-report@dpdk.org>
List-Help: <mailto:test-report-request@dpdk.org?subject=help>
List-Subscribe: <https://mails.dpdk.org/listinfo/test-report>,
 <mailto:test-report-request@dpdk.org?subject=subscribe>
Errors-To: test-report-bounces@dpdk.org

Test-Label: iol-abi-testing
Test-Status: PENDING
http://dpdk.org/patch/142496

_Testing pending_

Submitter: Dean Marx <dmarx@iol.unh.edu>
Date: Wednesday, July 17 2024 20:31:41 
DPDK git baseline: Repo:dpdk
  Branch: master
  CommitID:fa8d2f7f28524a6c8defa3dcd94f5aa131aae084

142494-142496 --> testing pending

Upstream job id: Generic-DPDK-Compile-ABI#99247

Test environment and result as below:

+-------------------+----------+
|    Environment    | abi_test |
+===================+==========+
| CentOS Stream 8   | PASS     |
+-------------------+----------+
| CentOS Stream 9   | PASS     |
+-------------------+----------+
| Debian 12         | PASS     |
+-------------------+----------+
| Debian Bullseye   | PASS     |
+-------------------+----------+
| Fedora 37         | PASS     |
+-------------------+----------+
| Fedora 38         | PEND     |
+-------------------+----------+
| Fedora 38 (Clang) | PASS     |
+-------------------+----------+
| Fedora 40 (Clang) | PASS     |
+-------------------+----------+
| Fedora 40         | PASS     |
+-------------------+----------+
| Fedora 39         | PASS     |
+-------------------+----------+
| Fedora 39 (Clang) | PEND     |
+-------------------+----------+
| openSUSE Leap 15  | PASS     |
+-------------------+----------+
| RHEL8             | PASS     |
+-------------------+----------+
| Ubuntu 22.04      | PASS     |
+-------------------+----------+
| RHEL9             | PEND     |
+-------------------+----------+
| Ubuntu 24.04      | PEND     |
+-------------------+----------+


CentOS Stream 8
	Kernel: 5.4.0-167-generic
	Compiler: gcc 8.5.0 20210514

CentOS Stream 9
	Kernel: 5.4.0-167-generic
	Compiler: gcc 11.4.1 20230605

Debian 12
	Kernel: Container Host Kernel
	Compiler: gcc 12.2.0

Debian Bullseye
	Kernel: 5.4.0-167-generic
	Compiler: gcc 10.2.1-6

Fedora 37
	Kernel: Depends on container host system
	Compiler: gcc 12.3.1

Fedora 38
	Kernel: Depends on container host
	Compiler: gcc 13.2.1

Fedora 38 (Clang)
	Kernel: Depends on container host
	Compiler: clang 16.0.6

Fedora 40 (Clang)
	Kernel: Depends on container host
	Compiler: clang 18.1.6

Fedora 40
	Kernel: Depends on container host
	Compiler: gcc 14.1.1

Fedora 39
	Kernel: Depends on container host
	Compiler: gcc 13.2.1

Fedora 39 (Clang)
	Kernel: Depends on container host
	Compiler: clang 17.0.6

openSUSE Leap 15
	Kernel: 5.4.0-167-generic
	Compiler: gcc 7.5.0

RHEL8
	Kernel: 5.4.0-167-generic
	Compiler: gcc 8.5.0 20210514 (Red Hat 8.5.0-20)

Ubuntu 22.04
	Kernel: 5.4.0-167-generic
	Compiler: gcc 11.4.0

RHEL9
	Kernel: Depends on container host
	Compiler: gcc 11.4.1

Ubuntu 24.04
	Kernel: 5.4.0-167-generic
	Compiler: gcc 13.2.0

To view detailed results, visit:
https://lab.dpdk.org/results/dashboard/patchsets/30548/

UNH-IOL DPDK Community Lab

To manage your email subscriptions, visit: 
https://lab.dpdk.org/results/dashboard/preferences/subscriptions/