From mboxrd@z Thu Jan  1 00:00:00 1970
Return-Path: <test-report-bounces@dpdk.org>
Received: from mails.dpdk.org (mails.dpdk.org [217.70.189.124])
	by inbox.dpdk.org (Postfix) with ESMTP id 5EC534563E
	for <public@inbox.dpdk.org>; Thu, 18 Jul 2024 06:21:27 +0200 (CEST)
Received: from mails.dpdk.org (localhost [127.0.0.1])
	by mails.dpdk.org (Postfix) with ESMTP id 5CAC1410E4;
	Thu, 18 Jul 2024 06:21:27 +0200 (CEST)
Received: from mail-yb1-f228.google.com (mail-yb1-f228.google.com
 [209.85.219.228])
 by mails.dpdk.org (Postfix) with ESMTP id ABCBE402A9
 for <test-report@dpdk.org>; Thu, 18 Jul 2024 06:21:25 +0200 (CEST)
Received: by mail-yb1-f228.google.com with SMTP id
 3f1490d57ef6-e0354459844so380350276.3
 for <test-report@dpdk.org>; Wed, 17 Jul 2024 21:21:25 -0700 (PDT)
DKIM-Signature: v=1; a=rsa-sha256; c=relaxed/relaxed;
 d=iol.unh.edu; s=unh-iol; t=1721276485; x=1721881285; darn=dpdk.org;
 h=references:in-reply-to:cc:to:from:subject:message-id:date:from:to
 :cc:subject:date:message-id:reply-to;
 bh=MJMMGQea+NGNekFJx+zJhwcybmdkwjCGuyRVTQ6GSCg=;
 b=JaVldV9A6G3PscAIm53Xl/DY5meAHkT3PQJOXjg82AJ3/fegOLvyV576ord2rtVrSH
 dGPy+DFhiKRD4QCdLfgBkMNTmpV3m0K/qc0YOzG7cLZUvrU8nQBWgqyMfhKufKi78x5P
 v3VoGi4gWHXG1sm/046GOAeEdUHhKVhrUdGNU=
X-Google-DKIM-Signature: v=1; a=rsa-sha256; c=relaxed/relaxed;
 d=1e100.net; s=20230601; t=1721276485; x=1721881285;
 h=references:in-reply-to:cc:to:from:subject:message-id:date
 :x-gm-message-state:from:to:cc:subject:date:message-id:reply-to;
 bh=MJMMGQea+NGNekFJx+zJhwcybmdkwjCGuyRVTQ6GSCg=;
 b=Lw9y369DUBKKoIY1GkjyXbDa4zYeVgNR3pxh2WAzWrHMb9U+Lbu3J2ZJUrVoGuy6fT
 rnpqoH+7wxwh0S30CrKovgZDbQ/c2No9qUHba1DYs2UOp1xabl4v0oyofKjVzENmhcDL
 oaG1PEAF70IMynq0+2o7IA3Y4KCYUfknpAKM6qnQYJTDdLh9C+9nv5l3TazWGJixt3yT
 8ECIamko/xfwqNb2BXPWCQE458v+fSeJ/KWtzAziuJd3BDxKB7ZE9E67HI2wz84Nss37
 o78s1BtDtRj+2bIequ4czcpl5EN/FzaOtkFaS9HACq5Lms8jjncQTG+ekeHD542bw1H7
 c7pQ==
X-Gm-Message-State: AOJu0YxmZGYbc/pMSkLdNVJN12UmtpDZt9IRBDlUlkM1IQP6SeldlEOb
 uD0pifXfmc8NgZadm3RY+JmYwAW+/C/EcYzwDf9wY5AdSXVV8vOn9SXeUvXJ3asyMrqpa6HS5JF
 ZrMTUgs2WC6I/KZTlnmh2ZilUMfIo5lgPsoS34JC6RxdHa5g5GCMTr/un
X-Google-Smtp-Source: AGHT+IEqlAvGpQVEKG0mGstr4zVSbO3Rm92fEG7UQgsGx7xx5OwmKDSyYsoFsorh+fqiBxvtxD6Zm5hGcNSi
X-Received: by 2002:a05:6902:144e:b0:e07:2e88:89ed with SMTP id
 3f1490d57ef6-e072e888c6cmr388288276.1.1721276485081; 
 Wed, 17 Jul 2024 21:21:25 -0700 (PDT)
Received: from postal.iol.unh.edu (postal.iol.unh.edu.
 [2606:4100:3880:1234::84]) by smtp-relay.gmail.com with ESMTPS id
 3f1490d57ef6-e05feddb51fsm63990276.14.2024.07.17.21.21.25
 (version=TLS1_2 cipher=ECDHE-ECDSA-AES128-GCM-SHA256 bits=128/128);
 Wed, 17 Jul 2024 21:21:25 -0700 (PDT)
X-Relaying-Domain: iol.unh.edu
Date: Wed, 17 Jul 2024 21:21:25 -0700 (PDT)
Message-ID: <66989845.050a0220.8db6b.27f3SMTPIN_ADDED_MISSING@mx.google.com>
Received: from [172.21.0.7] (unknown [172.18.0.240])
 by postal.iol.unh.edu (Postfix) with ESMTP id B503E605C352;
 Thu, 18 Jul 2024 00:21:24 -0400 (EDT)
Subject: |PENDING| pw142494-142496 [PATCH] [v11,3/3] dts: config schema
From: dpdklab@iol.unh.edu
To: Test Report <test-report@dpdk.org>
Cc: dpdk-test-reports@iol.unh.edu
In-Reply-To: <20240717203141.30524-3-dmarx@iol.unh.edu>
References: <20240717203141.30524-3-dmarx@iol.unh.edu>
Content-Type: text/plain
X-BeenThere: test-report@dpdk.org
X-Mailman-Version: 2.1.29
Precedence: list
List-Id: automatic DPDK test reports <test-report.dpdk.org>
List-Unsubscribe: <https://mails.dpdk.org/options/test-report>,
 <mailto:test-report-request@dpdk.org?subject=unsubscribe>
List-Archive: <http://mails.dpdk.org/archives/test-report/>
List-Post: <mailto:test-report@dpdk.org>
List-Help: <mailto:test-report-request@dpdk.org?subject=help>
List-Subscribe: <https://mails.dpdk.org/listinfo/test-report>,
 <mailto:test-report-request@dpdk.org?subject=subscribe>
Errors-To: test-report-bounces@dpdk.org

Test-Label: iol-abi-testing
Test-Status: PENDING
http://dpdk.org/patch/142496

_Testing pending_

Submitter: Dean Marx <dmarx@iol.unh.edu>
Date: Wednesday, July 17 2024 20:31:41 
DPDK git baseline: Repo:dpdk
  Branch: master
  CommitID:fa8d2f7f28524a6c8defa3dcd94f5aa131aae084

142494-142496 --> testing pending

Upstream job id: Generic-DPDK-Compile-ABI#99251

Test environment and result as below:

+-------------------+----------+
|    Environment    | abi_test |
+===================+==========+
| CentOS Stream 8   | PASS     |
+-------------------+----------+
| CentOS Stream 9   | PASS     |
+-------------------+----------+
| Debian 12         | PASS     |
+-------------------+----------+
| Debian Bullseye   | PASS     |
+-------------------+----------+
| Fedora 37         | PASS     |
+-------------------+----------+
| Fedora 38         | PEND     |
+-------------------+----------+
| Fedora 38 (Clang) | PASS     |
+-------------------+----------+
| Fedora 40 (Clang) | PASS     |
+-------------------+----------+
| Fedora 40         | PASS     |
+-------------------+----------+
| Fedora 39         | PASS     |
+-------------------+----------+
| Fedora 39 (Clang) | PASS     |
+-------------------+----------+
| openSUSE Leap 15  | PASS     |
+-------------------+----------+
| RHEL8             | PASS     |
+-------------------+----------+
| Ubuntu 22.04      | PASS     |
+-------------------+----------+
| RHEL9             | PEND     |
+-------------------+----------+
| Ubuntu 24.04      | PEND     |
+-------------------+----------+


CentOS Stream 8
	Kernel: 5.4.0-167-generic
	Compiler: gcc 8.5.0 20210514

CentOS Stream 9
	Kernel: 5.4.0-167-generic
	Compiler: gcc 11.4.1 20230605

Debian 12
	Kernel: Container Host Kernel
	Compiler: gcc 12.2.0

Debian Bullseye
	Kernel: 5.4.0-167-generic
	Compiler: gcc 10.2.1-6

Fedora 37
	Kernel: Depends on container host system
	Compiler: gcc 12.3.1

Fedora 38
	Kernel: Depends on container host
	Compiler: gcc 13.2.1

Fedora 38 (Clang)
	Kernel: Depends on container host
	Compiler: clang 16.0.6

Fedora 40 (Clang)
	Kernel: Depends on container host
	Compiler: clang 18.1.6

Fedora 40
	Kernel: Depends on container host
	Compiler: gcc 14.1.1

Fedora 39
	Kernel: Depends on container host
	Compiler: gcc 13.2.1

Fedora 39 (Clang)
	Kernel: Depends on container host
	Compiler: clang 17.0.6

openSUSE Leap 15
	Kernel: 5.4.0-167-generic
	Compiler: gcc 7.5.0

RHEL8
	Kernel: 5.4.0-167-generic
	Compiler: gcc 8.5.0 20210514 (Red Hat 8.5.0-20)

Ubuntu 22.04
	Kernel: 5.4.0-167-generic
	Compiler: gcc 11.4.0

RHEL9
	Kernel: Depends on container host
	Compiler: gcc 11.4.1

Ubuntu 24.04
	Kernel: 5.4.0-167-generic
	Compiler: gcc 13.2.0

To view detailed results, visit:
https://lab.dpdk.org/results/dashboard/patchsets/30548/

UNH-IOL DPDK Community Lab

To manage your email subscriptions, visit: 
https://lab.dpdk.org/results/dashboard/preferences/subscriptions/