From mboxrd@z Thu Jan  1 00:00:00 1970
Return-Path: <test-report-bounces@dpdk.org>
Received: from mails.dpdk.org (mails.dpdk.org [217.70.189.124])
	by inbox.dpdk.org (Postfix) with ESMTP id 564324563E
	for <public@inbox.dpdk.org>; Thu, 18 Jul 2024 06:44:55 +0200 (CEST)
Received: from mails.dpdk.org (localhost [127.0.0.1])
	by mails.dpdk.org (Postfix) with ESMTP id 37419402A9;
	Thu, 18 Jul 2024 06:44:55 +0200 (CEST)
Received: from mail-ot1-f99.google.com (mail-ot1-f99.google.com
 [209.85.210.99]) by mails.dpdk.org (Postfix) with ESMTP id 1A10740289
 for <test-report@dpdk.org>; Thu, 18 Jul 2024 06:44:54 +0200 (CEST)
Received: by mail-ot1-f99.google.com with SMTP id
 46e09a7af769-7036e383089so180988a34.2
 for <test-report@dpdk.org>; Wed, 17 Jul 2024 21:44:54 -0700 (PDT)
DKIM-Signature: v=1; a=rsa-sha256; c=relaxed/relaxed;
 d=iol.unh.edu; s=unh-iol; t=1721277893; x=1721882693; darn=dpdk.org;
 h=references:in-reply-to:cc:to:from:subject:message-id:date:from:to
 :cc:subject:date:message-id:reply-to;
 bh=e4Rn+glnj1pSOXJDV8j78VXfOGpYo+SdmDqtiAYMv9Q=;
 b=PcenS/m9h1aDeuRtu67G+yCx3RdwMyBfXdyW5nqy7vIY6NC5bwFjwcrYBqV4KuPsYY
 MKbroMeDkUSFBZtfmuFOOzO+HnLX0Sz36Jwosc6pybo2LbDBU+m9RvUuV6xL6qbccSqH
 r4S5DupJCEBuKyzHAzGUh/yt+SNBWb+y8KWD8=
X-Google-DKIM-Signature: v=1; a=rsa-sha256; c=relaxed/relaxed;
 d=1e100.net; s=20230601; t=1721277893; x=1721882693;
 h=references:in-reply-to:cc:to:from:subject:message-id:date
 :x-gm-message-state:from:to:cc:subject:date:message-id:reply-to;
 bh=e4Rn+glnj1pSOXJDV8j78VXfOGpYo+SdmDqtiAYMv9Q=;
 b=jMlWS/tKaWaJUk7cdNpU8ipHnbf+oojDxz3A/gZPiAtYinDCFLxjJG9gG5/l47usil
 sxa+fexRanLfaVDTn/a0Sil/g8rmKmUTAwsZGd5ZfBBSLvJQSvpDKjAynXbMj8voqP/q
 dq0uQgx28Sypt84QNMb41QNeF5jsoJHTsVwO4nrINwh6+prtiD8iZlLhHm9yK93VbhK5
 aX5PJC85tvTMJkCTtst6qfZYPp1p661Jbej3Ivlo0Vs2AT0wuevHO4SQW1cOwD65AcVy
 woZJmX75DqusudLHfei4wwFG6qImtu3fAYnrJttWuAgdV1w0uJySJQXj/6wu28owOg2E
 jYfw==
X-Gm-Message-State: AOJu0YwAsYPc5azBHPubE0B+wAp6f6NZ2m2yPbBBo4dcNLIH1D6mP4C8
 XWXhVanqFkPN/rh/2Uck2gwfbeMj6p++HGx/55L04knojccm/Zk8j8fyGWKTTzMngT+Br/K5SZV
 2r6twHpiIZBRdPuEMecfeZIqPwWN4pzU+VVTgRlHs
X-Google-Smtp-Source: AGHT+IG52iNWMPbpvTvmHN9X9DdfqsUeMsW6xBGbW42se6fNWzQkmmY5GbvF936i/ZNxj0nnqqDLuUVBMeWc
X-Received: by 2002:a05:6870:a44f:b0:25e:24b:e65b with SMTP id
 586e51a60fabf-260d9464979mr3353921fac.42.1721277893362; 
 Wed, 17 Jul 2024 21:44:53 -0700 (PDT)
Received: from postal.iol.unh.edu (postal.iol.unh.edu. [132.177.123.84])
 by smtp-relay.gmail.com with ESMTPS id
 586e51a60fabf-260ee998757sm87703fac.44.2024.07.17.21.44.53
 (version=TLS1_2 cipher=ECDHE-ECDSA-AES128-GCM-SHA256 bits=128/128);
 Wed, 17 Jul 2024 21:44:53 -0700 (PDT)
X-Relaying-Domain: iol.unh.edu
Date: Wed, 17 Jul 2024 21:44:53 -0700 (PDT)
Message-ID: <66989dc5.050a0220.195c94.30f4SMTPIN_ADDED_MISSING@mx.google.com>
Received: from [172.21.0.6] (unknown [172.18.0.240])
 by postal.iol.unh.edu (Postfix) with ESMTP id C918D605C351;
 Thu, 18 Jul 2024 00:44:52 -0400 (EDT)
Subject: |PENDING| pw142490-142492 [PATCH] [v7,3/3] dts: queue suite conf sch
From: dpdklab@iol.unh.edu
To: Test Report <test-report@dpdk.org>
Cc: dpdk-test-reports@iol.unh.edu
In-Reply-To: <20240717202331.27443-3-dmarx@iol.unh.edu>
References: <20240717202331.27443-3-dmarx@iol.unh.edu>
Content-Type: text/plain
X-BeenThere: test-report@dpdk.org
X-Mailman-Version: 2.1.29
Precedence: list
List-Id: automatic DPDK test reports <test-report.dpdk.org>
List-Unsubscribe: <https://mails.dpdk.org/options/test-report>,
 <mailto:test-report-request@dpdk.org?subject=unsubscribe>
List-Archive: <http://mails.dpdk.org/archives/test-report/>
List-Post: <mailto:test-report@dpdk.org>
List-Help: <mailto:test-report-request@dpdk.org?subject=help>
List-Subscribe: <https://mails.dpdk.org/listinfo/test-report>,
 <mailto:test-report-request@dpdk.org?subject=subscribe>
Errors-To: test-report-bounces@dpdk.org

Test-Label: iol-abi-testing
Test-Status: PENDING
http://dpdk.org/patch/142492

_Testing pending_

Submitter: Dean Marx <dmarx@iol.unh.edu>
Date: Wednesday, July 17 2024 20:23:31 
DPDK git baseline: Repo:dpdk
  Branch: master
  CommitID:fa8d2f7f28524a6c8defa3dcd94f5aa131aae084

142490-142492 --> testing pending

Upstream job id: Generic-DPDK-Compile-ABI#99273

Test environment and result as below:

+-------------------+----------+
|    Environment    | abi_test |
+===================+==========+
| CentOS Stream 8   | PASS     |
+-------------------+----------+
| CentOS Stream 9   | PASS     |
+-------------------+----------+
| Debian Bullseye   | PASS     |
+-------------------+----------+
| Debian 12         | PASS     |
+-------------------+----------+
| Fedora 37         | PASS     |
+-------------------+----------+
| Fedora 39 (Clang) | PASS     |
+-------------------+----------+
| Fedora 40 (Clang) | PASS     |
+-------------------+----------+
| Fedora 38 (Clang) | PEND     |
+-------------------+----------+
| Fedora 38         | PASS     |
+-------------------+----------+
| RHEL8             | PASS     |
+-------------------+----------+
| Ubuntu 22.04      | PEND     |
+-------------------+----------+
| Fedora 40         | PEND     |
+-------------------+----------+
| Fedora 39         | PEND     |
+-------------------+----------+
| openSUSE Leap 15  | PEND     |
+-------------------+----------+
| Ubuntu 24.04      | PEND     |
+-------------------+----------+
| RHEL9             | PASS     |
+-------------------+----------+


CentOS Stream 8
	Kernel: 5.4.0-167-generic
	Compiler: gcc 8.5.0 20210514

CentOS Stream 9
	Kernel: 5.4.0-167-generic
	Compiler: gcc 11.4.1 20230605

Debian Bullseye
	Kernel: 5.4.0-167-generic
	Compiler: gcc 10.2.1-6

Debian 12
	Kernel: Container Host Kernel
	Compiler: gcc 12.2.0

Fedora 37
	Kernel: Depends on container host system
	Compiler: gcc 12.3.1

Fedora 39 (Clang)
	Kernel: Depends on container host
	Compiler: clang 17.0.6

Fedora 40 (Clang)
	Kernel: Depends on container host
	Compiler: clang 18.1.6

Fedora 38 (Clang)
	Kernel: Depends on container host
	Compiler: clang 16.0.6

Fedora 38
	Kernel: Depends on container host
	Compiler: gcc 13.2.1

RHEL8
	Kernel: 5.4.0-167-generic
	Compiler: gcc 8.5.0 20210514 (Red Hat 8.5.0-20)

Ubuntu 22.04
	Kernel: 5.4.0-167-generic
	Compiler: gcc 11.4.0

Fedora 40
	Kernel: Depends on container host
	Compiler: gcc 14.1.1

Fedora 39
	Kernel: Depends on container host
	Compiler: gcc 13.2.1

openSUSE Leap 15
	Kernel: 5.4.0-167-generic
	Compiler: gcc 7.5.0

Ubuntu 24.04
	Kernel: 5.4.0-167-generic
	Compiler: gcc 13.2.0

RHEL9
	Kernel: Depends on container host
	Compiler: gcc 11.4.1

To view detailed results, visit:
https://lab.dpdk.org/results/dashboard/patchsets/30546/

UNH-IOL DPDK Community Lab

To manage your email subscriptions, visit: 
https://lab.dpdk.org/results/dashboard/preferences/subscriptions/