From mboxrd@z Thu Jan  1 00:00:00 1970
Return-Path: <test-report-bounces@dpdk.org>
Received: from mails.dpdk.org (mails.dpdk.org [217.70.189.124])
	by inbox.dpdk.org (Postfix) with ESMTP id 7A80A4563E
	for <public@inbox.dpdk.org>; Thu, 18 Jul 2024 07:09:25 +0200 (CEST)
Received: from mails.dpdk.org (localhost [127.0.0.1])
	by mails.dpdk.org (Postfix) with ESMTP id 7633440C35;
	Thu, 18 Jul 2024 07:09:25 +0200 (CEST)
Received: from mail-ot1-f98.google.com (mail-ot1-f98.google.com
 [209.85.210.98]) by mails.dpdk.org (Postfix) with ESMTP id 11B6540289
 for <test-report@dpdk.org>; Thu, 18 Jul 2024 07:09:23 +0200 (CEST)
Received: by mail-ot1-f98.google.com with SMTP id
 46e09a7af769-7036815bde7so217521a34.3
 for <test-report@dpdk.org>; Wed, 17 Jul 2024 22:09:23 -0700 (PDT)
DKIM-Signature: v=1; a=rsa-sha256; c=relaxed/relaxed;
 d=iol.unh.edu; s=unh-iol; t=1721279362; x=1721884162; darn=dpdk.org;
 h=references:in-reply-to:cc:to:from:subject:message-id:date:from:to
 :cc:subject:date:message-id:reply-to;
 bh=W1wfeX/tYFHBFykzA2DnkW50jo4wfox+kMhGexjn65w=;
 b=FqAt+rLk0PNW7XxYbBzdgz3qicvmdkPbCybj7Qa5E8Sb93yDL6dg3hcjgDq3ptenVI
 mtYks28IMLT1wzlKqQARXQLHDTNXEHrRwiUFrsfklPWhyigyKGIyuFXcfhxA2NrNPedg
 wmldNriCfOT5magIkjJ+dJYaCza7naHTaXnq4=
X-Google-DKIM-Signature: v=1; a=rsa-sha256; c=relaxed/relaxed;
 d=1e100.net; s=20230601; t=1721279362; x=1721884162;
 h=references:in-reply-to:cc:to:from:subject:message-id:date
 :x-gm-message-state:from:to:cc:subject:date:message-id:reply-to;
 bh=W1wfeX/tYFHBFykzA2DnkW50jo4wfox+kMhGexjn65w=;
 b=XwUIdtzg79ny2rOn3ZRYsVWbTM3y4oNUXVnuLgU72RthzkRk9lOEZRlt/7ZVsXITI6
 DUkGiL+o+eeFotu//0xe4yCwLWsP6Pi6qhOGPvUrza7RlkdvGYpIJ/rqUnhklTP2l/Fk
 IdOSnpC/0Q6n/Tv7La8IXC7VpJssm6F8QfNFmcKcbQx9CZsxBtIb5uKxDG9Xc0vcL8y1
 AJVgIW2oqKgUajQCPLd8eZeGczTEGd1C+iFeD75Ibcb3hpF1xg3B94aItvShHgj653aj
 GV0+9hgZyziqMF2JJGnVYpMQYDSi9A14F9IVCn9LQyNm36uWXIXMdGDIdg/qKFur3OA6
 O88Q==
X-Gm-Message-State: AOJu0YxzKqBfYRJipzfr3ZcZgGnFKx53lEvTYKcZmqo13ADLn+P1s0Wx
 lWjmQ3tKZeg4TUNwZMYwT/s4/iNfpF3fBnpxjZFZCajbM37agZtG8jwg1sA1krtdDwx/CcxDeI8
 CkT3I5WRygwuE8iYvh6jqXhdlFNkBtirsXTaPmXUtC7V7YyTT4XItLxAz
X-Google-Smtp-Source: AGHT+IE/QseQexuV4NrtBUNmuE5hEHLjI1qXauC4wc7om/DvbWG1krL9Hgt3ZT0TzLMNRs7UJGPV8NSpaOY7
X-Received: by 2002:a05:6830:620e:b0:703:79b1:75e2 with SMTP id
 46e09a7af769-708e7931eb0mr4341709a34.31.1721279362289; 
 Wed, 17 Jul 2024 22:09:22 -0700 (PDT)
Received: from postal.iol.unh.edu (postal.iol.unh.edu.
 [2606:4100:3880:1234::84]) by smtp-relay.gmail.com with ESMTPS id
 d2e1a72fcca58-70b7ebb670dsm1017784b3a.11.2024.07.17.22.09.22
 (version=TLS1_2 cipher=ECDHE-ECDSA-AES128-GCM-SHA256 bits=128/128);
 Wed, 17 Jul 2024 22:09:22 -0700 (PDT)
X-Relaying-Domain: iol.unh.edu
Date: Wed, 17 Jul 2024 22:09:22 -0700 (PDT)
Message-ID: <6698a382.050a0220.41eb7.fba1SMTPIN_ADDED_MISSING@mx.google.com>
Received: from [172.21.0.6] (unknown [172.18.0.240])
 by postal.iol.unh.edu (Postfix) with ESMTP id 87B27605C351;
 Thu, 18 Jul 2024 01:09:21 -0400 (EDT)
Subject: |PENDING| pw142490-142492 [PATCH] [v7,3/3] dts: queue suite conf sch
From: dpdklab@iol.unh.edu
To: Test Report <test-report@dpdk.org>
Cc: dpdk-test-reports@iol.unh.edu
In-Reply-To: <20240717202331.27443-3-dmarx@iol.unh.edu>
References: <20240717202331.27443-3-dmarx@iol.unh.edu>
Content-Type: text/plain
X-BeenThere: test-report@dpdk.org
X-Mailman-Version: 2.1.29
Precedence: list
List-Id: automatic DPDK test reports <test-report.dpdk.org>
List-Unsubscribe: <https://mails.dpdk.org/options/test-report>,
 <mailto:test-report-request@dpdk.org?subject=unsubscribe>
List-Archive: <http://mails.dpdk.org/archives/test-report/>
List-Post: <mailto:test-report@dpdk.org>
List-Help: <mailto:test-report-request@dpdk.org?subject=help>
List-Subscribe: <https://mails.dpdk.org/listinfo/test-report>,
 <mailto:test-report-request@dpdk.org?subject=subscribe>
Errors-To: test-report-bounces@dpdk.org

Test-Label: iol-abi-testing
Test-Status: PENDING
http://dpdk.org/patch/142492

_Testing pending_

Submitter: Dean Marx <dmarx@iol.unh.edu>
Date: Wednesday, July 17 2024 20:23:31 
DPDK git baseline: Repo:dpdk
  Branch: master
  CommitID:fa8d2f7f28524a6c8defa3dcd94f5aa131aae084

142490-142492 --> testing pending

Upstream job id: Generic-DPDK-Compile-ABI#99268

Test environment and result as below:

+-------------------+----------+
|    Environment    | abi_test |
+===================+==========+
| CentOS Stream 8   | PASS     |
+-------------------+----------+
| CentOS Stream 9   | PASS     |
+-------------------+----------+
| Debian Bullseye   | PASS     |
+-------------------+----------+
| Debian 12         | PASS     |
+-------------------+----------+
| Fedora 37         | PASS     |
+-------------------+----------+
| Fedora 39 (Clang) | PASS     |
+-------------------+----------+
| Fedora 40 (Clang) | PASS     |
+-------------------+----------+
| Fedora 38 (Clang) | PASS     |
+-------------------+----------+
| Fedora 38         | PASS     |
+-------------------+----------+
| RHEL8             | PASS     |
+-------------------+----------+
| Ubuntu 22.04      | PASS     |
+-------------------+----------+
| Fedora 40         | PEND     |
+-------------------+----------+
| Fedora 39         | PASS     |
+-------------------+----------+
| openSUSE Leap 15  | PEND     |
+-------------------+----------+
| Ubuntu 24.04      | PEND     |
+-------------------+----------+
| RHEL9             | PASS     |
+-------------------+----------+


CentOS Stream 8
	Kernel: 5.4.0-167-generic
	Compiler: gcc 8.5.0 20210514

CentOS Stream 9
	Kernel: 5.4.0-167-generic
	Compiler: gcc 11.4.1 20230605

Debian Bullseye
	Kernel: 5.4.0-167-generic
	Compiler: gcc 10.2.1-6

Debian 12
	Kernel: Container Host Kernel
	Compiler: gcc 12.2.0

Fedora 37
	Kernel: Depends on container host system
	Compiler: gcc 12.3.1

Fedora 39 (Clang)
	Kernel: Depends on container host
	Compiler: clang 17.0.6

Fedora 40 (Clang)
	Kernel: Depends on container host
	Compiler: clang 18.1.6

Fedora 38 (Clang)
	Kernel: Depends on container host
	Compiler: clang 16.0.6

Fedora 38
	Kernel: Depends on container host
	Compiler: gcc 13.2.1

RHEL8
	Kernel: 5.4.0-167-generic
	Compiler: gcc 8.5.0 20210514 (Red Hat 8.5.0-20)

Ubuntu 22.04
	Kernel: 5.4.0-167-generic
	Compiler: gcc 11.4.0

Fedora 40
	Kernel: Depends on container host
	Compiler: gcc 14.1.1

Fedora 39
	Kernel: Depends on container host
	Compiler: gcc 13.2.1

openSUSE Leap 15
	Kernel: 5.4.0-167-generic
	Compiler: gcc 7.5.0

Ubuntu 24.04
	Kernel: 5.4.0-167-generic
	Compiler: gcc 13.2.0

RHEL9
	Kernel: Depends on container host
	Compiler: gcc 11.4.1

To view detailed results, visit:
https://lab.dpdk.org/results/dashboard/patchsets/30546/

UNH-IOL DPDK Community Lab

To manage your email subscriptions, visit: 
https://lab.dpdk.org/results/dashboard/preferences/subscriptions/