From mboxrd@z Thu Jan  1 00:00:00 1970
Return-Path: <test-report-bounces@dpdk.org>
Received: from mails.dpdk.org (mails.dpdk.org [217.70.189.124])
	by inbox.dpdk.org (Postfix) with ESMTP id 66CB04563E
	for <public@inbox.dpdk.org>; Thu, 18 Jul 2024 07:45:21 +0200 (CEST)
Received: from mails.dpdk.org (localhost [127.0.0.1])
	by mails.dpdk.org (Postfix) with ESMTP id 4E1B14279E;
	Thu, 18 Jul 2024 07:45:21 +0200 (CEST)
Received: from mail-oi1-f227.google.com (mail-oi1-f227.google.com
 [209.85.167.227])
 by mails.dpdk.org (Postfix) with ESMTP id E597F40A79
 for <test-report@dpdk.org>; Thu, 18 Jul 2024 07:43:56 +0200 (CEST)
Received: by mail-oi1-f227.google.com with SMTP id
 5614622812f47-3d92e65752dso453144b6e.1
 for <test-report@dpdk.org>; Wed, 17 Jul 2024 22:43:56 -0700 (PDT)
DKIM-Signature: v=1; a=rsa-sha256; c=relaxed/relaxed;
 d=iol.unh.edu; s=unh-iol; t=1721281436; x=1721886236; darn=dpdk.org;
 h=references:in-reply-to:cc:to:from:subject:message-id:date:from:to
 :cc:subject:date:message-id:reply-to;
 bh=W6YuqZG/LluRYDNFeIbIOdX74xWuubpgYUKHIoNQmcg=;
 b=PCkygOzyfYezlGihHggeCX0co0gtMP6q+DQ7uRWb243YdnwnqjiKaCWTTuzu590mXq
 82FQZFE/VVgNWwj0OTJvc3mm0nJomaEPE7LXJ6RQdE7sAos0ceC1bJ32rL8hTTjWTvnj
 d3kjA2Z1vvSLDjgtp72ca+Bi149lz2dvdNqhY=
X-Google-DKIM-Signature: v=1; a=rsa-sha256; c=relaxed/relaxed;
 d=1e100.net; s=20230601; t=1721281436; x=1721886236;
 h=references:in-reply-to:cc:to:from:subject:message-id:date
 :x-gm-message-state:from:to:cc:subject:date:message-id:reply-to;
 bh=W6YuqZG/LluRYDNFeIbIOdX74xWuubpgYUKHIoNQmcg=;
 b=Nvv77nVNG1NWrFdV+Wzp0PaXdXnxcyMfOypd4Nc8eVNnf0OdLAphMm+pn1Rls7QJ6E
 vohl2iqOm9o74lHpwmL3Aad543N8e21p5PLPf1IXBch4Rx2P6v2JI24ewoW1tT6aDyB5
 a93Taxe2rxZ2Boc2NG2uKc/CFoPQL9YpvomZNMMNcX/MSIzZaL31lb+XXGzJH78rLhl6
 N8+3U+ibgDsCjUVydzLY1W8OAfvQ5G+GHAHOrM39qjY92FUyn6ed+ahaLEMLsonVyL/l
 j7GBXiTyEhlIxicIBy2rKQAcWcoVtgIUBmjWjLyUE6yoNrQmH2i+HReWGpXUCNzaUaE1
 i7cg==
X-Gm-Message-State: AOJu0YxKLM/fnUZVeZmR9tG2OEVq33wVIU8a8cDDFq1HFFl4dt2PgZRF
 qv+h/8JkbeE/b6OO5AzQ0OcYt+Q3ldkDc4s2t5d1fdsxG2uQ6TjzgAzttrQytc2/83oTi9GRF8o
 8bINWytBUukqe/hZ3xrIIMuiQfmkmR532VzezxXcEAK3b73rWi2XuHMUR
X-Google-Smtp-Source: AGHT+IHHB79VISI0sakRRWO1rcDtjYQeL0HTalPNMwhW/ch85iCpy1Me003LtdEHZBXzHI9Ol8XRUnb4neps
X-Received: by 2002:a05:6870:1090:b0:25e:bc13:a2ee with SMTP id
 586e51a60fabf-260ef223873mr659528fac.14.1721281435954; 
 Wed, 17 Jul 2024 22:43:55 -0700 (PDT)
Received: from postal.iol.unh.edu (postal.iol.unh.edu.
 [2606:4100:3880:1234::84]) by smtp-relay.gmail.com with ESMTPS id
 586e51a60fabf-260ee738d48sm95458fac.22.2024.07.17.22.43.55
 (version=TLS1_2 cipher=ECDHE-ECDSA-AES128-GCM-SHA256 bits=128/128);
 Wed, 17 Jul 2024 22:43:55 -0700 (PDT)
X-Relaying-Domain: iol.unh.edu
Date: Wed, 17 Jul 2024 22:43:55 -0700 (PDT)
Message-ID: <6698ab9b.050a0220.8b8c1.35b9SMTPIN_ADDED_MISSING@mx.google.com>
Received: from [172.21.0.7] (unknown [172.18.0.240])
 by postal.iol.unh.edu (Postfix) with ESMTP id 5B045605C351;
 Thu, 18 Jul 2024 01:43:55 -0400 (EDT)
Subject: |PENDING| pw142490-142492 [PATCH] [v7,3/3] dts: queue suite conf sch
From: dpdklab@iol.unh.edu
To: Test Report <test-report@dpdk.org>
Cc: dpdk-test-reports@iol.unh.edu
In-Reply-To: <20240717202331.27443-3-dmarx@iol.unh.edu>
References: <20240717202331.27443-3-dmarx@iol.unh.edu>
Content-Type: text/plain
X-BeenThere: test-report@dpdk.org
X-Mailman-Version: 2.1.29
Precedence: list
List-Id: automatic DPDK test reports <test-report.dpdk.org>
List-Unsubscribe: <https://mails.dpdk.org/options/test-report>,
 <mailto:test-report-request@dpdk.org?subject=unsubscribe>
List-Archive: <http://mails.dpdk.org/archives/test-report/>
List-Post: <mailto:test-report@dpdk.org>
List-Help: <mailto:test-report-request@dpdk.org?subject=help>
List-Subscribe: <https://mails.dpdk.org/listinfo/test-report>,
 <mailto:test-report-request@dpdk.org?subject=subscribe>
Errors-To: test-report-bounces@dpdk.org

Test-Label: iol-unit-amd64-testing
Test-Status: PENDING
http://dpdk.org/patch/142492

_Testing pending_

Submitter: Dean Marx <dmarx@iol.unh.edu>
Date: Wednesday, July 17 2024 20:23:31 
DPDK git baseline: Repo:dpdk
  Branch: master
  CommitID:fa8d2f7f28524a6c8defa3dcd94f5aa131aae084

142490-142492 --> testing pending

Upstream job id: Generic-Unit-Test-DPDK#241184

Test environment and result as below:

+---------------------+----------------+
|     Environment     | dpdk_unit_test |
+=====================+================+
| Windows Server 2022 | PASS           |
+---------------------+----------------+
| CentOS Stream 8     | PASS           |
+---------------------+----------------+
| CentOS Stream 9     | PASS           |
+---------------------+----------------+
| Debian Bullseye     | PASS           |
+---------------------+----------------+
| Debian 12           | PASS           |
+---------------------+----------------+
| Fedora 37           | PASS           |
+---------------------+----------------+
| Fedora 38           | PASS           |
+---------------------+----------------+
| Fedora 39           | PASS           |
+---------------------+----------------+
| Fedora 38 (Clang)   | PASS           |
+---------------------+----------------+
| Fedora 39 (Clang)   | PEND           |
+---------------------+----------------+
| Fedora 40           | PASS           |
+---------------------+----------------+
| RHEL8               | PASS           |
+---------------------+----------------+
| openSUSE Leap 15    | PASS           |
+---------------------+----------------+
| Fedora 40 (Clang)   | PEND           |
+---------------------+----------------+
| RHEL9               | PASS           |
+---------------------+----------------+
| Ubuntu 20.04        | PASS           |
+---------------------+----------------+
| Ubuntu 22.04        | PASS           |
+---------------------+----------------+
| Ubuntu 24.04        | PASS           |
+---------------------+----------------+
| Windows Server 2019 | PASS           |
+---------------------+----------------+


Windows Server 2022
	Kernel: 10.0.20348.2031
	Compiler: clang 15.0.7, gcc 8.1.0 (MinGW), and MSVC VS 17.9

CentOS Stream 8
	Kernel: 5.4.0-167-generic
	Compiler: gcc 8.5.0 20210514

CentOS Stream 9
	Kernel: 5.4.0-167-generic
	Compiler: gcc 11.4.1 20230605

Debian Bullseye
	Kernel: 5.4.0-167-generic
	Compiler: gcc 10.2.1-6

Debian 12
	Kernel: Container Host Kernel
	Compiler: gcc 12.2.0

Fedora 37
	Kernel: Depends on container host system
	Compiler: gcc 12.3.1

Fedora 38
	Kernel: Depends on container host
	Compiler: gcc 13.2.1

Fedora 39
	Kernel: Depends on container host
	Compiler: gcc 13.2.1

Fedora 38 (Clang)
	Kernel: Depends on container host
	Compiler: clang 16.0.6

Fedora 39 (Clang)
	Kernel: Depends on container host
	Compiler: clang 17.0.6

Fedora 40
	Kernel: Depends on container host
	Compiler: gcc 14.1.1

RHEL8
	Kernel: 5.4.0-167-generic
	Compiler: gcc 8.5.0 20210514 (Red Hat 8.5.0-20)

openSUSE Leap 15
	Kernel: 5.4.0-167-generic
	Compiler: gcc 7.5.0

Fedora 40 (Clang)
	Kernel: Depends on container host
	Compiler: clang 18.1.6

RHEL9
	Kernel: Depends on container host
	Compiler: gcc 11.4.1

Ubuntu 20.04
	Kernel: 5.4.0-167-generic
	Compiler: gcc 9.4.0-1ubuntu1~20.04.1

Ubuntu 22.04
	Kernel: 5.4.0-167-generic
	Compiler: gcc 11.4.0

Ubuntu 24.04
	Kernel: 5.4.0-167-generic
	Compiler: gcc 13.2.0

Windows Server 2019
	Kernel: 10.0.17763
	Compiler: clang 14.0 and gcc 8.1.0 (MinGW)

To view detailed results, visit:
https://lab.dpdk.org/results/dashboard/patchsets/30546/

UNH-IOL DPDK Community Lab

To manage your email subscriptions, visit: 
https://lab.dpdk.org/results/dashboard/preferences/subscriptions/