From mboxrd@z Thu Jan  1 00:00:00 1970
Return-Path: <test-report-bounces@dpdk.org>
Received: from mails.dpdk.org (mails.dpdk.org [217.70.189.124])
	by inbox.dpdk.org (Postfix) with ESMTP id 1ECDE4563E
	for <public@inbox.dpdk.org>; Thu, 18 Jul 2024 07:51:07 +0200 (CEST)
Received: from mails.dpdk.org (localhost [127.0.0.1])
	by mails.dpdk.org (Postfix) with ESMTP id 8DC9F427BC;
	Thu, 18 Jul 2024 07:51:06 +0200 (CEST)
Received: from mail-ot1-f97.google.com (mail-ot1-f97.google.com
 [209.85.210.97]) by mails.dpdk.org (Postfix) with ESMTP id E0F0F40A79
 for <test-report@dpdk.org>; Thu, 18 Jul 2024 07:49:28 +0200 (CEST)
Received: by mail-ot1-f97.google.com with SMTP id
 46e09a7af769-708adad61f8so241007a34.1
 for <test-report@dpdk.org>; Wed, 17 Jul 2024 22:49:28 -0700 (PDT)
DKIM-Signature: v=1; a=rsa-sha256; c=relaxed/relaxed;
 d=iol.unh.edu; s=unh-iol; t=1721281768; x=1721886568; darn=dpdk.org;
 h=references:in-reply-to:cc:to:from:subject:message-id:date:from:to
 :cc:subject:date:message-id:reply-to;
 bh=VHr6he0g0s00MC6Q410k1aI/sIoTjMrDgKB9ba1tDcM=;
 b=bp9SxWPc8r1VdDD+TI/ssLz97ScA6Ai0/QautD/lpOs7F7cMbOkfjGWoFC9fYuG0tv
 49sBB+FWtBsgadQRc0pNGY/iqVfRgmn7PGZnLhz6MSTD9vCSihscLeHo0QihcLX//akh
 iDjS+VpfG4gd4t5Kyqr3pOlXyQdaviWyFDMPI=
X-Google-DKIM-Signature: v=1; a=rsa-sha256; c=relaxed/relaxed;
 d=1e100.net; s=20230601; t=1721281768; x=1721886568;
 h=references:in-reply-to:cc:to:from:subject:message-id:date
 :x-gm-message-state:from:to:cc:subject:date:message-id:reply-to;
 bh=VHr6he0g0s00MC6Q410k1aI/sIoTjMrDgKB9ba1tDcM=;
 b=VP4C4p0shxCjgu2S+dZPJeZ1eOyWFAMu7xecnIEW5FT5l/+CFCfLo0Q/RVeZvc5MQO
 k0ahrDJ6DFvMMmW76GhTWwPAXeUeSyS0WVlUqFfhLzt3TCahQMYRVr22CkB82FsBOwyE
 8C8VKEX40DY1ntdNHRLyZ3ppwqARHPRmPF8uyfU1igF8YxvuotcrAmwM0XS4jW1q9Fv3
 OciOjBribn/sUGelPpO1eEcnT343tFdsTFFWzj4lG2WPqmSg1kAStv0Re9pStdC1jWhB
 a335ZlTqdyECBh0rPCP0lShC8C8I9izbjjTnkNMh1cgtSpazMxdqYsqnQTC3oKfeUJ3L
 gJmw==
X-Gm-Message-State: AOJu0Yy2V6JUtDr6RLBkv4GYUSjnDybWVqtDiKJYaZ2bfqzHAp6OMNgs
 2fKCZHbMxmpxQUZPIhRgUJ00GXW/gRxGlG+xU/22S4Vju10MlJsHFVOt2i3KITIsXQnZ71PWOnq
 Mrrt1Q7yFRsKB84mmHeiLNr9JNSPejKjcgfFfdDzWcPaRarawormPDMYl
X-Google-Smtp-Source: AGHT+IFHPLQtFvOzVXsKO7C6/RuNc40faSkYsgAfpB4NZleYv+yU7EBnyTDy1E50YFt3E4WfFD00xJQY+a8k
X-Received: by 2002:a05:6870:180e:b0:25e:1c9d:f180 with SMTP id
 586e51a60fabf-260d9506330mr3154985fac.50.1721281767914; 
 Wed, 17 Jul 2024 22:49:27 -0700 (PDT)
Received: from postal.iol.unh.edu (postal.iol.unh.edu.
 [2606:4100:3880:1234::84]) by smtp-relay.gmail.com with ESMTPS id
 586e51a60fabf-260ee5e4db9sm94766fac.20.2024.07.17.22.49.27
 (version=TLS1_2 cipher=ECDHE-ECDSA-AES128-GCM-SHA256 bits=128/128);
 Wed, 17 Jul 2024 22:49:27 -0700 (PDT)
X-Relaying-Domain: iol.unh.edu
Date: Wed, 17 Jul 2024 22:49:27 -0700 (PDT)
Message-ID: <6698ace7.050a0220.2c4bc6.33beSMTPIN_ADDED_MISSING@mx.google.com>
Received: from [172.21.0.9] (unknown [172.18.0.240])
 by postal.iol.unh.edu (Postfix) with ESMTP id 6502B605C351;
 Thu, 18 Jul 2024 01:49:27 -0400 (EDT)
Subject: |PENDING| pw142494-142496 [PATCH] [v11,3/3] dts: config schema
From: dpdklab@iol.unh.edu
To: Test Report <test-report@dpdk.org>
Cc: dpdk-test-reports@iol.unh.edu
In-Reply-To: <20240717203141.30524-3-dmarx@iol.unh.edu>
References: <20240717203141.30524-3-dmarx@iol.unh.edu>
Content-Type: text/plain
X-BeenThere: test-report@dpdk.org
X-Mailman-Version: 2.1.29
Precedence: list
List-Id: automatic DPDK test reports <test-report.dpdk.org>
List-Unsubscribe: <https://mails.dpdk.org/options/test-report>,
 <mailto:test-report-request@dpdk.org?subject=unsubscribe>
List-Archive: <http://mails.dpdk.org/archives/test-report/>
List-Post: <mailto:test-report@dpdk.org>
List-Help: <mailto:test-report-request@dpdk.org?subject=help>
List-Subscribe: <https://mails.dpdk.org/listinfo/test-report>,
 <mailto:test-report-request@dpdk.org?subject=subscribe>
Errors-To: test-report-bounces@dpdk.org

Test-Label: iol-compile-arm64-testing
Test-Status: PENDING
http://dpdk.org/patch/142496

_Testing pending_

Submitter: Dean Marx <dmarx@iol.unh.edu>
Date: Wednesday, July 17 2024 20:31:41 
DPDK git baseline: Repo:dpdk
  Branch: master
  CommitID:fa8d2f7f28524a6c8defa3dcd94f5aa131aae084

142494-142496 --> testing pending

Upstream job id: Generic-DPDK-Compile-Meson#275759

Test environment and result as below:

+----------------------------------------+--------------------+
|              Environment               | dpdk_meson_compile |
+========================================+====================+
| RHEL9 (ARM)                            | PASS               |
+----------------------------------------+--------------------+
| Ubuntu 20.04 ARM GCC Cross Compile     | PASS               |
+----------------------------------------+--------------------+
| Ubuntu 20.04 ARM SVE                   | PASS               |
+----------------------------------------+--------------------+
| Debian 12 with MUSDK                   | PASS               |
+----------------------------------------+--------------------+
| Fedora 37 (ARM)                        | PASS               |
+----------------------------------------+--------------------+
| Fedora 38 (ARM)                        | PASS               |
+----------------------------------------+--------------------+
| Fedora 38 (ARM Clang)                  | PASS               |
+----------------------------------------+--------------------+
| Fedora 39 (ARM)                        | PASS               |
+----------------------------------------+--------------------+
| Fedora 39 (ARM Clang)                  | PASS               |
+----------------------------------------+--------------------+
| Fedora 40 (ARM)                        | PASS               |
+----------------------------------------+--------------------+
| Fedora 40 (ARM Clang)                  | PASS               |
+----------------------------------------+--------------------+
| Ubuntu 20.04 (ARM)                     | PASS               |
+----------------------------------------+--------------------+
| Ubuntu 22.04 (ARM)                     | PASS               |
+----------------------------------------+--------------------+
| Ubuntu 24.04 (ARM)                     | PASS               |
+----------------------------------------+--------------------+
| CentOS Stream 9 (ARM)                  | PASS               |
+----------------------------------------+--------------------+
| Debian 11 (Buster) (ARM)               | PASS               |
+----------------------------------------+--------------------+
| Debian 12 (arm)                        | PASS               |
+----------------------------------------+--------------------+
| Ubuntu 20.04 ARM Clang Cross Compile   | PEND               |
+----------------------------------------+--------------------+
| Ubuntu 20.04 aarch32 GCC Cross Compile | PASS               |
+----------------------------------------+--------------------+


RHEL9 (ARM)
	Kernel: Depends on container host
	Compiler: gcc 11.4.1

Ubuntu 20.04 ARM GCC Cross Compile
	Kernel: 5.4.0-167-generic
	Compiler: aarch64-linux-gnu-gcc (Ubuntu 9.4.0-1ubuntu1~20.04.2) 9.4.0

Ubuntu 20.04 ARM SVE
	Kernel: 5.4.0-167-generic
	Compiler: gcc (Ubuntu 10.5.0-1ubuntu1~20.04) 10.5.0

Debian 12 with MUSDK
	Kernel: Container Host Kernel
	Compiler: gcc 12.2.0

Fedora 37 (ARM)
	Kernel: Depends on container host
	Compiler: gcc 12.3.1

Fedora 38 (ARM)
	Kernel: Depends on container host
	Compiler: gcc 13.2.1

Fedora 38 (ARM Clang)
	Kernel: Depends on container host
	Compiler: clang 16.0.6

Fedora 39 (ARM)
	Kernel: Depends on container host
	Compiler: gcc 13.2.1

Fedora 39 (ARM Clang)
	Kernel: Depends on container host
	Compiler: clang 17.0.6

Fedora 40 (ARM)
	Kernel: Depends on container host
	Compiler: gcc 14.1.1

Fedora 40 (ARM Clang)
	Kernel: Depends on container host
	Compiler: clang 18.1.6

Ubuntu 20.04 (ARM)
	Kernel: Container Host Kernel
	Compiler: gcc 9.4.0

Ubuntu 22.04 (ARM)
	Kernel: Container Host Kernel
	Compiler: gcc 11.4.0

Ubuntu 24.04 (ARM)
	Kernel: 5.4.0-167-generic
	Compiler: gcc 13.2.0

CentOS Stream 9 (ARM)
	Kernel: Container Host Kernel
	Compiler: gcc 11.4.1

Debian 11 (Buster) (ARM)
	Kernel: Container Host Kernel
	Compiler: gcc 10.2.1

Debian 12 (arm)
	Kernel: Container Host Kernel
	Compiler: gcc 12.2.0

Ubuntu 20.04 ARM Clang Cross Compile
	Kernel: 5.4.0-72-generic
	Compiler: clang 10.0.0-4ubuntu1

Ubuntu 20.04 aarch32 GCC Cross Compile
	Kernel: 5.4.0-167-generic
	Compiler: gcc 9.4.0

To view detailed results, visit:
https://lab.dpdk.org/results/dashboard/patchsets/30548/

UNH-IOL DPDK Community Lab

To manage your email subscriptions, visit: 
https://lab.dpdk.org/results/dashboard/preferences/subscriptions/