From mboxrd@z Thu Jan  1 00:00:00 1970
Return-Path: <test-report-bounces@dpdk.org>
Received: from mails.dpdk.org (mails.dpdk.org [217.70.189.124])
	by inbox.dpdk.org (Postfix) with ESMTP id 11B9A45643
	for <public@inbox.dpdk.org>; Thu, 18 Jul 2024 10:47:25 +0200 (CEST)
Received: from mails.dpdk.org (localhost [127.0.0.1])
	by mails.dpdk.org (Postfix) with ESMTP id EB1E6402CA;
	Thu, 18 Jul 2024 10:47:24 +0200 (CEST)
Received: from mail-yw1-f228.google.com (mail-yw1-f228.google.com
 [209.85.128.228])
 by mails.dpdk.org (Postfix) with ESMTP id 07698402C5
 for <test-report@dpdk.org>; Thu, 18 Jul 2024 10:45:06 +0200 (CEST)
Received: by mail-yw1-f228.google.com with SMTP id
 00721157ae682-65fe1239f12so5008777b3.0
 for <test-report@dpdk.org>; Thu, 18 Jul 2024 01:45:05 -0700 (PDT)
DKIM-Signature: v=1; a=rsa-sha256; c=relaxed/relaxed;
 d=iol.unh.edu; s=unh-iol; t=1721292305; x=1721897105; darn=dpdk.org;
 h=references:in-reply-to:cc:to:from:subject:message-id:date:from:to
 :cc:subject:date:message-id:reply-to;
 bh=310t9v9AVhLwrt+45B5mGMxkYC0K9iK/qoAd8nOufLI=;
 b=VY5xWStImIFpFceJ1D2hy2Zn8yq2oa8kg9jg7uivpJH+6Ex1SW6geGmOPz11Yop4Ds
 cGTdZATHbaxX5/LQy2YZ9zkZfaLmORszQINgKT017hgO9a9ClytqJ4EAduTd02G04t15
 hMBgkfLOgsp4s/65PI2NPPuATnikhXTxUQg6Q=
X-Google-DKIM-Signature: v=1; a=rsa-sha256; c=relaxed/relaxed;
 d=1e100.net; s=20230601; t=1721292305; x=1721897105;
 h=references:in-reply-to:cc:to:from:subject:message-id:date
 :x-gm-message-state:from:to:cc:subject:date:message-id:reply-to;
 bh=310t9v9AVhLwrt+45B5mGMxkYC0K9iK/qoAd8nOufLI=;
 b=j+rqrbMAEHtI3zD0N+RgB/N19uMHTLMJ9/ZX4D/lfoKyCrHPIraJ2Xjojk5lWDXyL+
 IUQglk9JzeMXvZYwAYT8MyYMRTIVcuwe6xzmDxTTtluIKA+EIdLJNBl/+BjgFMf3j0bX
 K8nMkfB6e9+L9tcVLal7Joj9oxuxyBLS+VX0ytIcTGQJ1Wr87qaGyGEW66PntLSFqWup
 1eQP9IfHD2e/i/vL4ZJfdSCQUuMMsI+PSoEnnTrjAtpNht9ahrzn1JRio+mylLqwdzzq
 ozCaodmmT4v4SHxcr3RKFf+6qNusYUY6TsltvXhUIjaM7lH5c1pzbPZ+HPXGSzJizkXv
 615w==
X-Gm-Message-State: AOJu0YwDzudR6T+e3htpcCR85eUg09DeLhdqrRcOwmpJinF5sDO/oEAQ
 ViIkT0IP4xJq0p6bOzHNxyhi3hooqmQA/eiXxfr655FWrzMqeewh+qbfXQthvqMUOJBWW1ybFtg
 aYyII+SFIHJjuIytRQtH9gAZtF6tUKgPm600XJ+HM+TEyyxISl+PE8K5m
X-Google-Smtp-Source: AGHT+IGbqWCICcc6Ps0FV9cHvx3Ij0+/DHxgxCd8O9zKVVMZQ2WIs/1uXmhLxao6HBKn9J/ZSO1AG4TqUstf
X-Received: by 2002:a05:690c:4287:b0:631:4dc:f6e5 with SMTP id
 00721157ae682-666a5b80102mr11214797b3.36.1721292305134; 
 Thu, 18 Jul 2024 01:45:05 -0700 (PDT)
Received: from postal.iol.unh.edu (postal.iol.unh.edu.
 [2606:4100:3880:1234::84]) by smtp-relay.gmail.com with ESMTPS id
 00721157ae682-666016ef6c8sm1272867b3.30.2024.07.18.01.45.05
 (version=TLS1_2 cipher=ECDHE-ECDSA-AES128-GCM-SHA256 bits=128/128);
 Thu, 18 Jul 2024 01:45:05 -0700 (PDT)
X-Relaying-Domain: iol.unh.edu
Date: Thu, 18 Jul 2024 01:45:05 -0700 (PDT)
Message-ID: <6698d611.0d0a0220.974b8.4fdeSMTPIN_ADDED_MISSING@mx.google.com>
Received: from [172.21.0.6] (unknown [172.18.0.240])
 by postal.iol.unh.edu (Postfix) with ESMTP id C873C6052500;
 Thu, 18 Jul 2024 04:45:04 -0400 (EDT)
Subject: |PENDING| pw142484-142487 [PATCH] [4/4] net/gve: add ability to modi
From: dpdklab@iol.unh.edu
To: Test Report <test-report@dpdk.org>
Cc: dpdk-test-reports@iol.unh.edu
In-Reply-To: <20240717175619.3159026-5-joshwash@google.com>
References: <20240717175619.3159026-5-joshwash@google.com>
Content-Type: text/plain
X-BeenThere: test-report@dpdk.org
X-Mailman-Version: 2.1.29
Precedence: list
List-Id: automatic DPDK test reports <test-report.dpdk.org>
List-Unsubscribe: <https://mails.dpdk.org/options/test-report>,
 <mailto:test-report-request@dpdk.org?subject=unsubscribe>
List-Archive: <http://mails.dpdk.org/archives/test-report/>
List-Post: <mailto:test-report@dpdk.org>
List-Help: <mailto:test-report-request@dpdk.org?subject=help>
List-Subscribe: <https://mails.dpdk.org/listinfo/test-report>,
 <mailto:test-report-request@dpdk.org?subject=subscribe>
Errors-To: test-report-bounces@dpdk.org

Test-Label: iol-unit-arm64-testing
Test-Status: PENDING
http://dpdk.org/patch/142487

_Testing pending_

Submitter: Joshua Washington <joshwash@google.com>
Date: Wednesday, July 17 2024 17:56:19 
DPDK git baseline: Repo:dpdk
  Branch: master
  CommitID:3317515e9377c13e458e31a64f8987a9d1f2eaf6

142484-142487 --> testing pending

Upstream job id: Generic-Unit-Test-DPDK#241302

Test environment and result as below:

+-----------------------------+----------------+--------------+
|         Environment         | dpdk_unit_test | lpm_autotest |
+=============================+================+==============+
| CentOS Stream 9 (ARM)       | PASS           | SKIPPED      |
+-----------------------------+----------------+--------------+
| Debian 11 (Buster) (ARM)    | PASS           | SKIPPED      |
+-----------------------------+----------------+--------------+
| Debian 12 (arm)             | PASS           | SKIPPED      |
+-----------------------------+----------------+--------------+
| Fedora 37 (ARM)             | PASS           | SKIPPED      |
+-----------------------------+----------------+--------------+
| Fedora 38 (ARM)             | PASS           | SKIPPED      |
+-----------------------------+----------------+--------------+
| Fedora 38 (ARM Clang)       | PEND           | SKIPPED      |
+-----------------------------+----------------+--------------+
| Fedora 39 (ARM)             | PEND           | SKIPPED      |
+-----------------------------+----------------+--------------+
| Fedora 39 (ARM Clang)       | PEND           | SKIPPED      |
+-----------------------------+----------------+--------------+
| 32-bit Ubuntu 20.04.4 (ARM) | PEND           | SKIPPED      |
+-----------------------------+----------------+--------------+
| Ubuntu 20.04 ARM SVE        | SKIPPED        | PEND         |
+-----------------------------+----------------+--------------+


CentOS Stream 9 (ARM)
	Kernel: Container Host Kernel
	Compiler: gcc 11.4.1

Debian 11 (Buster) (ARM)
	Kernel: Container Host Kernel
	Compiler: gcc 10.2.1

Debian 12 (arm)
	Kernel: Container Host Kernel
	Compiler: gcc 12.2.0

Fedora 37 (ARM)
	Kernel: Depends on container host
	Compiler: gcc 12.3.1

Fedora 38 (ARM)
	Kernel: Depends on container host
	Compiler: gcc 13.2.1

Fedora 38 (ARM Clang)
	Kernel: Depends on container host
	Compiler: clang 16.0.6

Fedora 39 (ARM)
	Kernel: Depends on container host
	Compiler: gcc 13.2.1

Fedora 39 (ARM Clang)
	Kernel: Depends on container host
	Compiler: clang 17.0.6

32-bit Ubuntu 20.04.4 (ARM)
	Kernel: 5.4.0-155-generic aarch64
	Compiler: gcc 9.4

Ubuntu 20.04 ARM SVE
	Kernel: 5.4.0-167-generic
	Compiler: gcc (Ubuntu 10.5.0-1ubuntu1~20.04) 10.5.0

To view detailed results, visit:
https://lab.dpdk.org/results/dashboard/patchsets/30544/

UNH-IOL DPDK Community Lab

To manage your email subscriptions, visit: 
https://lab.dpdk.org/results/dashboard/preferences/subscriptions/