From mboxrd@z Thu Jan  1 00:00:00 1970
Return-Path: <test-report-bounces@dpdk.org>
Received: from mails.dpdk.org (mails.dpdk.org [217.70.189.124])
	by inbox.dpdk.org (Postfix) with ESMTP id 867E845643
	for <public@inbox.dpdk.org>; Thu, 18 Jul 2024 10:56:33 +0200 (CEST)
Received: from mails.dpdk.org (localhost [127.0.0.1])
	by mails.dpdk.org (Postfix) with ESMTP id 62508402CA;
	Thu, 18 Jul 2024 10:56:33 +0200 (CEST)
Received: from mail-pg1-f225.google.com (mail-pg1-f225.google.com
 [209.85.215.225])
 by mails.dpdk.org (Postfix) with ESMTP id A536F402C5
 for <test-report@dpdk.org>; Thu, 18 Jul 2024 10:53:25 +0200 (CEST)
Received: by mail-pg1-f225.google.com with SMTP id
 41be03b00d2f7-781f5007950so383547a12.0
 for <test-report@dpdk.org>; Thu, 18 Jul 2024 01:53:25 -0700 (PDT)
DKIM-Signature: v=1; a=rsa-sha256; c=relaxed/relaxed;
 d=iol.unh.edu; s=unh-iol; t=1721292805; x=1721897605; darn=dpdk.org;
 h=references:in-reply-to:cc:to:from:subject:message-id:date:from:to
 :cc:subject:date:message-id:reply-to;
 bh=t05ozIwnxqncFROUsCfiGEKnLMtIs9KkGjwQM3GfPzc=;
 b=gi7W3yj9wx+oQnv7BAp9ItJuk28R6l06a3xwOOpYoxkF9Cin4J1Z7Dyxf/VlAGKfg1
 20QUiQUq57Av51nTS2OKROwxBlpNArqXiZWju0/wv+tPGTh5DlOiGqmfEkkatFBI6E+j
 lv5syWoeuMZJgd3CDoSY/Q/q6RYAt6WJF6Nis=
X-Google-DKIM-Signature: v=1; a=rsa-sha256; c=relaxed/relaxed;
 d=1e100.net; s=20230601; t=1721292805; x=1721897605;
 h=references:in-reply-to:cc:to:from:subject:message-id:date
 :x-gm-message-state:from:to:cc:subject:date:message-id:reply-to;
 bh=t05ozIwnxqncFROUsCfiGEKnLMtIs9KkGjwQM3GfPzc=;
 b=Gs4XZF4arCH5luOkV1mK0FBj/smmhyNP3juxffXs8YsB0uS4IQWotK9RIMO4e0YK2U
 9kGy56i3v7/3nXnR5wjIA7QNhYx4MkGsQ/gxZY4UfmcFyYiN1WY+CRLUK99JjMArlJNj
 ++QPNTmtpKcoO5QIV6VLTF2mwPlqw4lDzU8CGyrx2dA5T8thfcrJZN0TokC1g90ZL9oT
 33JsZcbGZ3FzykL67muHypRueJrhxZeZBfxeXZ/JEACKdWu32a875he3LwDBjQiBdzB5
 BnJeKXKTVtslZS+mS2vDl3a2W87gDw8R71fEhMzJRAKfLBIG3LfNIhpXTfVsVmtltXVf
 TVLg==
X-Gm-Message-State: AOJu0YzPDp4LMjLsAEu6VpFKjA3A4nOxc/eDSSY4vnde4ZVQxhj/xss2
 63GHnHkPTT1EUWxHgn3FyewcpeYlazUnimVt57qbkr2TmX3W+UE7zCVFaU49dEudsg246oHgOA0
 Oc9+m2TwiSYty82ih1AFLf3duenRvEr1Io68Wir0P
X-Google-Smtp-Source: AGHT+IF8+3y/6vnl73rcI7q1cpQ/a0cuAXIbwDdOwf9KPBhvlLTJisyAhaCoRCzTHTnhkdmz+s3M0r2vx1Fx
X-Received: by 2002:a05:6a21:3213:b0:1c3:a55e:6199 with SMTP id
 adf61e73a8af0-1c3fddccd7emr5468868637.44.1721292804746; 
 Thu, 18 Jul 2024 01:53:24 -0700 (PDT)
Received: from postal.iol.unh.edu (postal.iol.unh.edu. [132.177.123.84])
 by smtp-relay.gmail.com with ESMTPS id
 d9443c01a7336-1fc0bc2882asm3821135ad.126.2024.07.18.01.53.24
 (version=TLS1_2 cipher=ECDHE-ECDSA-AES128-GCM-SHA256 bits=128/128);
 Thu, 18 Jul 2024 01:53:24 -0700 (PDT)
X-Relaying-Domain: iol.unh.edu
Date: Thu, 18 Jul 2024 01:53:24 -0700 (PDT)
Message-ID: <6698d804.170a0220.23758.1580SMTPIN_ADDED_MISSING@mx.google.com>
Received: from [172.21.0.6] (unknown [172.18.0.240])
 by postal.iol.unh.edu (Postfix) with ESMTP id F409D6052500;
 Thu, 18 Jul 2024 04:53:23 -0400 (EDT)
Subject: |PENDING| pw142484-142487 [PATCH] [4/4] net/gve: add ability to modi
From: dpdklab@iol.unh.edu
To: Test Report <test-report@dpdk.org>
Cc: dpdk-test-reports@iol.unh.edu
In-Reply-To: <20240717175619.3159026-5-joshwash@google.com>
References: <20240717175619.3159026-5-joshwash@google.com>
Content-Type: text/plain
X-BeenThere: test-report@dpdk.org
X-Mailman-Version: 2.1.29
Precedence: list
List-Id: automatic DPDK test reports <test-report.dpdk.org>
List-Unsubscribe: <https://mails.dpdk.org/options/test-report>,
 <mailto:test-report-request@dpdk.org?subject=unsubscribe>
List-Archive: <http://mails.dpdk.org/archives/test-report/>
List-Post: <mailto:test-report@dpdk.org>
List-Help: <mailto:test-report-request@dpdk.org?subject=help>
List-Subscribe: <https://mails.dpdk.org/listinfo/test-report>,
 <mailto:test-report-request@dpdk.org?subject=subscribe>
Errors-To: test-report-bounces@dpdk.org

Test-Label: iol-unit-arm64-testing
Test-Status: PENDING
http://dpdk.org/patch/142487

_Testing pending_

Submitter: Joshua Washington <joshwash@google.com>
Date: Wednesday, July 17 2024 17:56:19 
DPDK git baseline: Repo:dpdk
  Branch: master
  CommitID:3317515e9377c13e458e31a64f8987a9d1f2eaf6

142484-142487 --> testing pending

Upstream job id: Generic-Unit-Test-DPDK#241316

Test environment and result as below:

+-----------------------------+----------------+--------------+---------------------------+------------------------------+
|         Environment         | dpdk_unit_test | lpm_autotest | cryptodev_sw_zuc_autotest | cryptodev_sw_snow3g_autotest |
+=============================+================+==============+===========================+==============================+
| CentOS Stream 9 (ARM)       | PASS           | SKIPPED      | SKIPPED                   | SKIPPED                      |
+-----------------------------+----------------+--------------+---------------------------+------------------------------+
| Debian 11 (Buster) (ARM)    | PASS           | SKIPPED      | SKIPPED                   | SKIPPED                      |
+-----------------------------+----------------+--------------+---------------------------+------------------------------+
| Debian 12 (arm)             | PASS           | SKIPPED      | PASS                      | PASS                         |
+-----------------------------+----------------+--------------+---------------------------+------------------------------+
| Fedora 37 (ARM)             | PASS           | SKIPPED      | SKIPPED                   | SKIPPED                      |
+-----------------------------+----------------+--------------+---------------------------+------------------------------+
| Fedora 38 (ARM)             | PASS           | SKIPPED      | SKIPPED                   | SKIPPED                      |
+-----------------------------+----------------+--------------+---------------------------+------------------------------+
| Fedora 38 (ARM Clang)       | PEND           | SKIPPED      | SKIPPED                   | SKIPPED                      |
+-----------------------------+----------------+--------------+---------------------------+------------------------------+
| Fedora 39 (ARM)             | PASS           | SKIPPED      | SKIPPED                   | SKIPPED                      |
+-----------------------------+----------------+--------------+---------------------------+------------------------------+
| Fedora 39 (ARM Clang)       | PEND           | SKIPPED      | SKIPPED                   | SKIPPED                      |
+-----------------------------+----------------+--------------+---------------------------+------------------------------+
| 32-bit Ubuntu 20.04.4 (ARM) | PEND           | SKIPPED      | SKIPPED                   | SKIPPED                      |
+-----------------------------+----------------+--------------+---------------------------+------------------------------+
| Fedora 40 (ARM Clang)       | PEND           | SKIPPED      | SKIPPED                   | SKIPPED                      |
+-----------------------------+----------------+--------------+---------------------------+------------------------------+
| RHEL9 (ARM)                 | PEND           | SKIPPED      | SKIPPED                   | SKIPPED                      |
+-----------------------------+----------------+--------------+---------------------------+------------------------------+
| Ubuntu 20.04 ARM SVE        | SKIPPED        | PEND         | SKIPPED                   | SKIPPED                      |
+-----------------------------+----------------+--------------+---------------------------+------------------------------+


CentOS Stream 9 (ARM)
	Kernel: Container Host Kernel
	Compiler: gcc 11.4.1

Debian 11 (Buster) (ARM)
	Kernel: Container Host Kernel
	Compiler: gcc 10.2.1

Debian 12 (arm)
	Kernel: Container Host Kernel
	Compiler: gcc 12.2.0

Fedora 37 (ARM)
	Kernel: Depends on container host
	Compiler: gcc 12.3.1

Fedora 38 (ARM)
	Kernel: Depends on container host
	Compiler: gcc 13.2.1

Fedora 38 (ARM Clang)
	Kernel: Depends on container host
	Compiler: clang 16.0.6

Fedora 39 (ARM)
	Kernel: Depends on container host
	Compiler: gcc 13.2.1

Fedora 39 (ARM Clang)
	Kernel: Depends on container host
	Compiler: clang 17.0.6

32-bit Ubuntu 20.04.4 (ARM)
	Kernel: 5.4.0-155-generic aarch64
	Compiler: gcc 9.4

Fedora 40 (ARM Clang)
	Kernel: Depends on container host
	Compiler: clang 18.1.6

RHEL9 (ARM)
	Kernel: Depends on container host
	Compiler: gcc 11.4.1

Ubuntu 20.04 ARM SVE
	Kernel: 5.4.0-167-generic
	Compiler: gcc (Ubuntu 10.5.0-1ubuntu1~20.04) 10.5.0

To view detailed results, visit:
https://lab.dpdk.org/results/dashboard/patchsets/30544/

UNH-IOL DPDK Community Lab

To manage your email subscriptions, visit: 
https://lab.dpdk.org/results/dashboard/preferences/subscriptions/