From mboxrd@z Thu Jan  1 00:00:00 1970
Return-Path: <test-report-bounces@dpdk.org>
Received: from mails.dpdk.org (mails.dpdk.org [217.70.189.124])
	by inbox.dpdk.org (Postfix) with ESMTP id B409345643
	for <public@inbox.dpdk.org>; Thu, 18 Jul 2024 11:57:11 +0200 (CEST)
Received: from mails.dpdk.org (localhost [127.0.0.1])
	by mails.dpdk.org (Postfix) with ESMTP id A6DFF42E57;
	Thu, 18 Jul 2024 11:57:11 +0200 (CEST)
Received: from mail-yw1-f226.google.com (mail-yw1-f226.google.com
 [209.85.128.226])
 by mails.dpdk.org (Postfix) with ESMTP id 7E4FB402B1
 for <test-report@dpdk.org>; Thu, 18 Jul 2024 11:56:19 +0200 (CEST)
Received: by mail-yw1-f226.google.com with SMTP id
 00721157ae682-66493332ebfso4934657b3.3
 for <test-report@dpdk.org>; Thu, 18 Jul 2024 02:56:19 -0700 (PDT)
DKIM-Signature: v=1; a=rsa-sha256; c=relaxed/relaxed;
 d=iol.unh.edu; s=unh-iol; t=1721296579; x=1721901379; darn=dpdk.org;
 h=references:in-reply-to:cc:to:from:subject:message-id:date:from:to
 :cc:subject:date:message-id:reply-to;
 bh=4UMrCUWBchWszvdBeewSJibZLiUmfxUxsngCOrM/Xqc=;
 b=DGQ7JiTRxx+xTHxCkVs7nDnldZUs9MemSGPs9olQBiiOw7Mizv9GanspPz6wHgChok
 /AAnnHNEk8uSMgQsdJvJg5jhA/Bv4EW7Awu2kTM3M2LcQVUtPv7mw1A33l5p0bQh/7um
 MAN7MXskfNhNgqbOz5SA+kPqK2Mhs7QoYgL7g=
X-Google-DKIM-Signature: v=1; a=rsa-sha256; c=relaxed/relaxed;
 d=1e100.net; s=20230601; t=1721296579; x=1721901379;
 h=references:in-reply-to:cc:to:from:subject:message-id:date
 :x-gm-message-state:from:to:cc:subject:date:message-id:reply-to;
 bh=4UMrCUWBchWszvdBeewSJibZLiUmfxUxsngCOrM/Xqc=;
 b=SD38HOAv7S+jtPFMtL4m3Q/tDFCKnbgHPkEhlhP69xuKzVkE5n70I+K/HxUSSbJVc2
 WpGmeG1My5tlyfry+waIfCMl54Lrvz0WH4twsPAFCFk1Ccp2Gmu7L+CX79/vY3CWgcWZ
 aV4sxNf8V2esQqz1KWRprTdCEbSqSIAq5pi4+BcTqh9MiPnnL4CpdjH4J5IVzhr2eHb3
 ygYDEiYhiFD0TjXBdtxcV3W6RllZ/1EfpivM+twUVLm4yvwDESOXrl3M6A+W5kBIMKp1
 S+Q/MzcJ3NLjWw1bM6jqpN6gr/P7w4BgtcMUxHj9Lgi5a0SBpA0C9WmRfBti6vnMP2W0
 pllw==
X-Gm-Message-State: AOJu0YxCq58fCIKcZTEFD9fkCOXCOXVa7cArWeYLJXgdVGPWooeHUUUw
 pPjjiyGAXU1Q7nb8gfg6RagQbmlvy9XQquAadz/JDC/57FZu03E2QMBY8qkdBeBZA6Lpb2viU96
 s/0monm2pkvPCqPvIKW2TXeRxAz0JTiPz8CokAo/4fv+dVpRrqZV/gvO8
X-Google-Smtp-Source: AGHT+IEBLZdXdjWyKDDzcBjmoqoH+5IHYyH0kBlJBPAjhEUgP5l+CvIcmPkrA4lmP8MH9m4Re19dc8AeqTpF
X-Received: by 2002:a05:690c:2c86:b0:64a:b33a:d954 with SMTP id
 00721157ae682-666040ccc0cmr23605127b3.23.1721296578807; 
 Thu, 18 Jul 2024 02:56:18 -0700 (PDT)
Received: from postal.iol.unh.edu (postal.iol.unh.edu.
 [2606:4100:3880:1234::84]) by smtp-relay.gmail.com with ESMTPS id
 00721157ae682-666016ef6c8sm1357237b3.30.2024.07.18.02.56.18
 (version=TLS1_2 cipher=ECDHE-ECDSA-AES128-GCM-SHA256 bits=128/128);
 Thu, 18 Jul 2024 02:56:18 -0700 (PDT)
X-Relaying-Domain: iol.unh.edu
Date: Thu, 18 Jul 2024 02:56:18 -0700 (PDT)
Message-ID: <6698e6c2.0d0a0220.974b8.54ddSMTPIN_ADDED_MISSING@mx.google.com>
Received: from [172.21.0.6] (unknown [172.18.0.240])
 by postal.iol.unh.edu (Postfix) with ESMTP id 766D16052500;
 Thu, 18 Jul 2024 05:56:18 -0400 (EDT)
Subject: |SUCCESS| pw142484-142487 [PATCH] [4/4] net/gve: add ability to modi
From: dpdklab@iol.unh.edu
To: Test Report <test-report@dpdk.org>
Cc: dpdk-test-reports@iol.unh.edu
In-Reply-To: <20240717175619.3159026-5-joshwash@google.com>
References: <20240717175619.3159026-5-joshwash@google.com>
Content-Type: text/plain
X-BeenThere: test-report@dpdk.org
X-Mailman-Version: 2.1.29
Precedence: list
List-Id: automatic DPDK test reports <test-report.dpdk.org>
List-Unsubscribe: <https://mails.dpdk.org/options/test-report>,
 <mailto:test-report-request@dpdk.org?subject=unsubscribe>
List-Archive: <http://mails.dpdk.org/archives/test-report/>
List-Post: <mailto:test-report@dpdk.org>
List-Help: <mailto:test-report-request@dpdk.org?subject=help>
List-Subscribe: <https://mails.dpdk.org/listinfo/test-report>,
 <mailto:test-report-request@dpdk.org?subject=subscribe>
Errors-To: test-report-bounces@dpdk.org

Test-Label: iol-compile-arm64-testing
Test-Status: SUCCESS
http://dpdk.org/patch/142487

_Testing PASS_

Submitter: Joshua Washington <joshwash@google.com>
Date: Wednesday, July 17 2024 17:56:19 
DPDK git baseline: Repo:dpdk
  Branch: master
  CommitID:3317515e9377c13e458e31a64f8987a9d1f2eaf6

142484-142487 --> testing pass

Upstream job id: Generic-DPDK-Compile-Meson#275938

Test environment and result as below:

+------------------------------------+--------------------+
|            Environment             | dpdk_meson_compile |
+====================================+====================+
| RHEL9 (ARM)                        | PASS               |
+------------------------------------+--------------------+
| Ubuntu 20.04 ARM GCC Cross Compile | PASS               |
+------------------------------------+--------------------+
| Ubuntu 20.04 ARM SVE               | PASS               |
+------------------------------------+--------------------+
| Debian 12 with MUSDK               | PASS               |
+------------------------------------+--------------------+
| Fedora 37 (ARM)                    | PASS               |
+------------------------------------+--------------------+
| Fedora 38 (ARM)                    | PASS               |
+------------------------------------+--------------------+
| Fedora 38 (ARM Clang)              | PASS               |
+------------------------------------+--------------------+
| Fedora 39 (ARM)                    | PASS               |
+------------------------------------+--------------------+
| Fedora 39 (ARM Clang)              | PASS               |
+------------------------------------+--------------------+
| Fedora 40 (ARM)                    | PASS               |
+------------------------------------+--------------------+
| Fedora 40 (ARM Clang)              | PASS               |
+------------------------------------+--------------------+
| Ubuntu 20.04 (ARM)                 | PASS               |
+------------------------------------+--------------------+
| Ubuntu 22.04 (ARM)                 | PASS               |
+------------------------------------+--------------------+
| Ubuntu 24.04 (ARM)                 | PASS               |
+------------------------------------+--------------------+


RHEL9 (ARM)
	Kernel: Depends on container host
	Compiler: gcc 11.4.1

Ubuntu 20.04 ARM GCC Cross Compile
	Kernel: 5.4.0-167-generic
	Compiler: aarch64-linux-gnu-gcc (Ubuntu 9.4.0-1ubuntu1~20.04.2) 9.4.0

Ubuntu 20.04 ARM SVE
	Kernel: 5.4.0-167-generic
	Compiler: gcc (Ubuntu 10.5.0-1ubuntu1~20.04) 10.5.0

Debian 12 with MUSDK
	Kernel: Container Host Kernel
	Compiler: gcc 12.2.0

Fedora 37 (ARM)
	Kernel: Depends on container host
	Compiler: gcc 12.3.1

Fedora 38 (ARM)
	Kernel: Depends on container host
	Compiler: gcc 13.2.1

Fedora 38 (ARM Clang)
	Kernel: Depends on container host
	Compiler: clang 16.0.6

Fedora 39 (ARM)
	Kernel: Depends on container host
	Compiler: gcc 13.2.1

Fedora 39 (ARM Clang)
	Kernel: Depends on container host
	Compiler: clang 17.0.6

Fedora 40 (ARM)
	Kernel: Depends on container host
	Compiler: gcc 14.1.1

Fedora 40 (ARM Clang)
	Kernel: Depends on container host
	Compiler: clang 18.1.6

Ubuntu 20.04 (ARM)
	Kernel: Container Host Kernel
	Compiler: gcc 9.4.0

Ubuntu 22.04 (ARM)
	Kernel: Container Host Kernel
	Compiler: gcc 11.4.0

Ubuntu 24.04 (ARM)
	Kernel: 5.4.0-167-generic
	Compiler: gcc 13.2.0

To view detailed results, visit:
https://lab.dpdk.org/results/dashboard/patchsets/30544/

UNH-IOL DPDK Community Lab

To manage your email subscriptions, visit: 
https://lab.dpdk.org/results/dashboard/preferences/subscriptions/