From mboxrd@z Thu Jan  1 00:00:00 1970
Return-Path: <test-report-bounces@dpdk.org>
Received: from mails.dpdk.org (mails.dpdk.org [217.70.189.124])
	by inbox.dpdk.org (Postfix) with ESMTP id D7CAF45644
	for <public@inbox.dpdk.org>; Thu, 18 Jul 2024 13:17:11 +0200 (CEST)
Received: from mails.dpdk.org (localhost [127.0.0.1])
	by mails.dpdk.org (Postfix) with ESMTP id CCD35402D8;
	Thu, 18 Jul 2024 13:17:11 +0200 (CEST)
Received: from mail-ua1-f100.google.com (mail-ua1-f100.google.com
 [209.85.222.100])
 by mails.dpdk.org (Postfix) with ESMTP id AE6C2402A8
 for <test-report@dpdk.org>; Thu, 18 Jul 2024 13:17:10 +0200 (CEST)
Received: by mail-ua1-f100.google.com with SMTP id
 a1e0cc1a2514c-823423e3accso128454241.2
 for <test-report@dpdk.org>; Thu, 18 Jul 2024 04:17:10 -0700 (PDT)
DKIM-Signature: v=1; a=rsa-sha256; c=relaxed/relaxed;
 d=iol.unh.edu; s=unh-iol; t=1721301430; x=1721906230; darn=dpdk.org;
 h=references:in-reply-to:cc:to:from:subject:message-id:date:from:to
 :cc:subject:date:message-id:reply-to;
 bh=jGXGo1l2/BVg0FZXoUnX6nGB31ih7Yk9MCSm/QiLk+Q=;
 b=br8WQL+6NOcJ+8Sr78kRbwYuwDAmTPMtjZhb6ZAF5UlhFlhlNIdpSJ8fb0cW2ZfA3G
 XjKgoDEdjTM9NE2eHfdkYwzvhHpMdN5WVyi5WHPW/YliD28jWD1dHnRAVTyutx8Hugiz
 mjQzLjd/CncqZSTcD3Fd/xMREAUX/A7ZmtnkE=
X-Google-DKIM-Signature: v=1; a=rsa-sha256; c=relaxed/relaxed;
 d=1e100.net; s=20230601; t=1721301430; x=1721906230;
 h=references:in-reply-to:cc:to:from:subject:message-id:date
 :x-gm-message-state:from:to:cc:subject:date:message-id:reply-to;
 bh=jGXGo1l2/BVg0FZXoUnX6nGB31ih7Yk9MCSm/QiLk+Q=;
 b=cBI/lgwgL0cJUFHhm/lPx4TtWDDzywjbFDsaExEzTSQCp+CWizMwQx3a0XqjLrVJfd
 t8golUGaktYundOiNAwNEZpUanhYj0nKbzzkk+xP+fxDKgOcmiTKk+yzwRhZiB7if134
 NqbMgC38sOi6+dABxO29U78RpSkwVMSTpOvGTJmNVkLDz6oL03xbr/6lHU+2jA7xzvRA
 1TZ4g1INp9ISWD71Op/XwUKhWCsjDPIPANJISjAgaN1NDkIbC5ECv2lvs/qPEIptx6kG
 kYelk3bGarGGskL9qUzkjxhUMdyPfjsTcmI0Fy8n90DDPlEZqnpRp84BaYDqdfNLPUCl
 Cuag==
X-Gm-Message-State: AOJu0YzwRkH6ZtNfXkRREp6iF9hQu3JzDz4ljqyQ4L7iCrQZyy/jVmpz
 Xehvsbz4+AK+w+lJKb/22u7LTozKBcCAOpcaZ0bOfHUpJaSvx86hHG3keT5tm8hvWIQzCOr3mts
 Vg68AwkU64bJ9cIBXxLiDNd+aiVRO/DoTLbcp6654
X-Google-Smtp-Source: AGHT+IFF6oz1fm2GnMAV9qz/ea2MdORsLCGbJ6FcQFv517oUKpcF/4eNriM3YBSNduOCK7XFOqvwaUckx0Ao
X-Received: by 2002:a05:6122:3d06:b0:4f2:a973:8ae with SMTP id
 71dfb90a1353d-4f4df688689mr5875921e0c.5.1721301429896; 
 Thu, 18 Jul 2024 04:17:09 -0700 (PDT)
Received: from postal.iol.unh.edu (postal.iol.unh.edu. [132.177.123.84])
 by smtp-relay.gmail.com with ESMTPS id
 71dfb90a1353d-4f4ee9a244esm105575e0c.4.2024.07.18.04.17.09
 (version=TLS1_2 cipher=ECDHE-ECDSA-AES128-GCM-SHA256 bits=128/128);
 Thu, 18 Jul 2024 04:17:09 -0700 (PDT)
X-Relaying-Domain: iol.unh.edu
Date: Thu, 18 Jul 2024 04:17:09 -0700 (PDT)
Message-ID: <6698f9b5.050a0220.9b473.37ffSMTPIN_ADDED_MISSING@mx.google.com>
Received: from [172.21.0.7] (unknown [172.18.0.240])
 by postal.iol.unh.edu (Postfix) with ESMTP id 8EBEE6052500;
 Thu, 18 Jul 2024 07:17:08 -0400 (EDT)
Subject: |PENDING| pw142484-142487 [PATCH] [4/4] net/gve: add ability to modi
From: dpdklab@iol.unh.edu
To: Test Report <test-report@dpdk.org>
Cc: dpdk-test-reports@iol.unh.edu
In-Reply-To: <20240717175619.3159026-5-joshwash@google.com>
References: <20240717175619.3159026-5-joshwash@google.com>
Content-Type: text/plain
X-BeenThere: test-report@dpdk.org
X-Mailman-Version: 2.1.29
Precedence: list
List-Id: automatic DPDK test reports <test-report.dpdk.org>
List-Unsubscribe: <https://mails.dpdk.org/options/test-report>,
 <mailto:test-report-request@dpdk.org?subject=unsubscribe>
List-Archive: <http://mails.dpdk.org/archives/test-report/>
List-Post: <mailto:test-report@dpdk.org>
List-Help: <mailto:test-report-request@dpdk.org?subject=help>
List-Subscribe: <https://mails.dpdk.org/listinfo/test-report>,
 <mailto:test-report-request@dpdk.org?subject=subscribe>
Errors-To: test-report-bounces@dpdk.org

Test-Label: iol-unit-amd64-testing
Test-Status: PENDING
http://dpdk.org/patch/142487

_Testing pending_

Submitter: Joshua Washington <joshwash@google.com>
Date: Wednesday, July 17 2024 17:56:19 
DPDK git baseline: Repo:dpdk
  Branch: master
  CommitID:3317515e9377c13e458e31a64f8987a9d1f2eaf6

142484-142487 --> testing pending

Upstream job id: Generic-Unit-Test-DPDK#241318

Test environment and result as below:

+---------------------+----------------+
|     Environment     | dpdk_unit_test |
+=====================+================+
| Windows Server 2022 | PASS           |
+---------------------+----------------+
| Windows Server 2019 | PASS           |
+---------------------+----------------+
| CentOS Stream 8     | PASS           |
+---------------------+----------------+
| CentOS Stream 9     | PASS           |
+---------------------+----------------+
| Debian Bullseye     | PASS           |
+---------------------+----------------+
| Debian 12           | PASS           |
+---------------------+----------------+
| Fedora 37           | PASS           |
+---------------------+----------------+
| Fedora 38           | PASS           |
+---------------------+----------------+
| Fedora 39           | PASS           |
+---------------------+----------------+
| Fedora 38 (Clang)   | PASS           |
+---------------------+----------------+
| Fedora 39 (Clang)   | PASS           |
+---------------------+----------------+
| Fedora 40           | PASS           |
+---------------------+----------------+
| Fedora 40 (Clang)   | PEND           |
+---------------------+----------------+
| openSUSE Leap 15    | PASS           |
+---------------------+----------------+
| RHEL8               | PEND           |
+---------------------+----------------+
| RHEL9               | PEND           |
+---------------------+----------------+
| Ubuntu 20.04        | PEND           |
+---------------------+----------------+
| Ubuntu 22.04        | PEND           |
+---------------------+----------------+
| Ubuntu 24.04        | PEND           |
+---------------------+----------------+


Windows Server 2022
	Kernel: 10.0.20348.2031
	Compiler: clang 15.0.7, gcc 8.1.0 (MinGW), and MSVC VS 17.9

Windows Server 2019
	Kernel: 10.0.17763
	Compiler: clang 14.0 and gcc 8.1.0 (MinGW)

CentOS Stream 8
	Kernel: 5.4.0-167-generic
	Compiler: gcc 8.5.0 20210514

CentOS Stream 9
	Kernel: 5.4.0-167-generic
	Compiler: gcc 11.4.1 20230605

Debian Bullseye
	Kernel: 5.4.0-167-generic
	Compiler: gcc 10.2.1-6

Debian 12
	Kernel: Container Host Kernel
	Compiler: gcc 12.2.0

Fedora 37
	Kernel: Depends on container host system
	Compiler: gcc 12.3.1

Fedora 38
	Kernel: Depends on container host
	Compiler: gcc 13.2.1

Fedora 39
	Kernel: Depends on container host
	Compiler: gcc 13.2.1

Fedora 38 (Clang)
	Kernel: Depends on container host
	Compiler: clang 16.0.6

Fedora 39 (Clang)
	Kernel: Depends on container host
	Compiler: clang 17.0.6

Fedora 40
	Kernel: Depends on container host
	Compiler: gcc 14.1.1

Fedora 40 (Clang)
	Kernel: Depends on container host
	Compiler: clang 18.1.6

openSUSE Leap 15
	Kernel: 5.4.0-167-generic
	Compiler: gcc 7.5.0

RHEL8
	Kernel: 5.4.0-167-generic
	Compiler: gcc 8.5.0 20210514 (Red Hat 8.5.0-20)

RHEL9
	Kernel: Depends on container host
	Compiler: gcc 11.4.1

Ubuntu 20.04
	Kernel: 5.4.0-167-generic
	Compiler: gcc 9.4.0-1ubuntu1~20.04.1

Ubuntu 22.04
	Kernel: 5.4.0-167-generic
	Compiler: gcc 11.4.0

Ubuntu 24.04
	Kernel: 5.4.0-167-generic
	Compiler: gcc 13.2.0

To view detailed results, visit:
https://lab.dpdk.org/results/dashboard/patchsets/30544/

UNH-IOL DPDK Community Lab

To manage your email subscriptions, visit: 
https://lab.dpdk.org/results/dashboard/preferences/subscriptions/