From mboxrd@z Thu Jan  1 00:00:00 1970
Return-Path: <test-report-bounces@dpdk.org>
Received: from mails.dpdk.org (mails.dpdk.org [217.70.189.124])
	by inbox.dpdk.org (Postfix) with ESMTP id 7212445644
	for <public@inbox.dpdk.org>; Thu, 18 Jul 2024 13:23:13 +0200 (CEST)
Received: from mails.dpdk.org (localhost [127.0.0.1])
	by mails.dpdk.org (Postfix) with ESMTP id 6B1D9402D8;
	Thu, 18 Jul 2024 13:23:13 +0200 (CEST)
Received: from mail-qt1-f227.google.com (mail-qt1-f227.google.com
 [209.85.160.227])
 by mails.dpdk.org (Postfix) with ESMTP id D8402402A8
 for <test-report@dpdk.org>; Thu, 18 Jul 2024 13:23:03 +0200 (CEST)
Received: by mail-qt1-f227.google.com with SMTP id
 d75a77b69052e-4494d41090bso843321cf.3
 for <test-report@dpdk.org>; Thu, 18 Jul 2024 04:23:03 -0700 (PDT)
DKIM-Signature: v=1; a=rsa-sha256; c=relaxed/relaxed;
 d=iol.unh.edu; s=unh-iol; t=1721301783; x=1721906583; darn=dpdk.org;
 h=references:in-reply-to:cc:to:from:subject:message-id:date:from:to
 :cc:subject:date:message-id:reply-to;
 bh=gI6+XmOW9hqmROt5yt+Y0jiAUp6TFp7K8dgubBdolrc=;
 b=Sr5gqQQxhKh8iA0t8ZZv+fCkStOFNnX0aqFcuOLcirBf32VSnEkWqtdYsJ6NFnY07j
 eaarhxtpqrKHiouR78do61QhvrrHJm9trNkVObjfwa95zs7WViWWQPqxu/XnDchb7vmc
 TP7LuII1xoy640GBtXQjeb32fRySOsT0Y+JVg=
X-Google-DKIM-Signature: v=1; a=rsa-sha256; c=relaxed/relaxed;
 d=1e100.net; s=20230601; t=1721301783; x=1721906583;
 h=references:in-reply-to:cc:to:from:subject:message-id:date
 :x-gm-message-state:from:to:cc:subject:date:message-id:reply-to;
 bh=gI6+XmOW9hqmROt5yt+Y0jiAUp6TFp7K8dgubBdolrc=;
 b=e9niQ4jxwTJJY9hpabhMGVvwuwt0poJNRq5u2kg2g2QLdshC9iDL6O6ELGs5OqQukc
 R1PkTf/+7evWnu2SNOyFSVXcQVpzbArJrb8sZl9GrkcpK0BDHKFk0FEKrbxhbyKnW/5/
 U6f3du3ixJBd36stlNZ1j8J2uDWhzHVPvEPvYN9HFSECq7cKwTFkCAo7hLRzuUpEpItL
 uiNxRqMvuovr8C3izBDT+mMfyYBLXaqSmEwkwFNQh/+RqxYX02egswI/Rk8SbjOfh07T
 Cn9itYDG+FSfs4IfCab0X0uRtfd++SAJPs3OCkRQl5JwZhi2aQUj3IF8m3xZdgmcS7H3
 k4lQ==
X-Gm-Message-State: AOJu0YzW81dQH6iRbpGAvz8JnYvTO/90W4/XTWa7ZsggGbRoCn9DyK/N
 YykKkonkiZnEkI5Y0OVq5JhpBxo6GzqS+8huztYbNG4z8htMfPnItdnY7Pd/6Y2un8i97xoTH5b
 M+FAIkfmIELoMpHW3W+xkhC6SaWpy9fnJcy0Pc9dF
X-Google-Smtp-Source: AGHT+IEW1Dhjzyhi6wTq9Tned3JsvsxnovBrHKxfvurq85qO11osybZmpHPB5XV3JNNHAgaV3TaRd/xI+mL/
X-Received: by 2002:a05:622a:10:b0:446:573f:b34f with SMTP id
 d75a77b69052e-44f96a3cbdamr6459831cf.21.1721301783206; 
 Thu, 18 Jul 2024 04:23:03 -0700 (PDT)
Received: from postal.iol.unh.edu (postal.iol.unh.edu. [132.177.123.84])
 by smtp-relay.gmail.com with ESMTPS id
 d75a77b69052e-44f96a3acd1sm298791cf.16.2024.07.18.04.23.03
 (version=TLS1_2 cipher=ECDHE-ECDSA-AES128-GCM-SHA256 bits=128/128);
 Thu, 18 Jul 2024 04:23:03 -0700 (PDT)
X-Relaying-Domain: iol.unh.edu
Date: Thu, 18 Jul 2024 04:23:03 -0700 (PDT)
Message-ID: <6698fb17.c80a0220.9c755.0ef3SMTPIN_ADDED_MISSING@mx.google.com>
Received: from [172.21.0.8] (unknown [172.18.0.240])
 by postal.iol.unh.edu (Postfix) with ESMTP id E56536052500;
 Thu, 18 Jul 2024 07:23:02 -0400 (EDT)
Subject: |PENDING| pw142500-142501 [PATCH] [3/3] net/mlx5: fix RSS and queue 
From: dpdklab@iol.unh.edu
To: Test Report <test-report@dpdk.org>
Cc: dpdk-test-reports@iol.unh.edu
In-Reply-To: <20240718095717.290960-4-dsosnowski@nvidia.com>
References: <20240718095717.290960-4-dsosnowski@nvidia.com>
Content-Type: text/plain
X-BeenThere: test-report@dpdk.org
X-Mailman-Version: 2.1.29
Precedence: list
List-Id: automatic DPDK test reports <test-report.dpdk.org>
List-Unsubscribe: <https://mails.dpdk.org/options/test-report>,
 <mailto:test-report-request@dpdk.org?subject=unsubscribe>
List-Archive: <http://mails.dpdk.org/archives/test-report/>
List-Post: <mailto:test-report@dpdk.org>
List-Help: <mailto:test-report-request@dpdk.org?subject=help>
List-Subscribe: <https://mails.dpdk.org/listinfo/test-report>,
 <mailto:test-report-request@dpdk.org?subject=subscribe>
Errors-To: test-report-bounces@dpdk.org

Test-Label: iol-compile-amd64-testing
Test-Status: PENDING
http://dpdk.org/patch/142501

_Testing pending_

Submitter: Dariusz Sosnowski <dsosnowski@nvidia.com>
Date: Thursday, July 18 2024 09:57:17 
DPDK git baseline: Repo:dpdk
  Branch: master
  CommitID:0c31131307df0ce6c8d682dc5c967394196b24f7

142500-142501 --> testing pending

Upstream job id: Generic-VM-DPDK-Compile-Meson#28049

Test environment and result as below:

+---------------------+--------------------+----------------------+-------------------+
|     Environment     | dpdk_meson_compile | dpdk_mingw64_compile | dpdk_msvc_compile |
+=====================+====================+======================+===================+
| Windows Server 2019 | PASS               | PEND                 | SKIPPED           |
+---------------------+--------------------+----------------------+-------------------+
| Windows Server 2022 | PASS               | PEND                 | PEND              |
+---------------------+--------------------+----------------------+-------------------+
| FreeBSD 13.3        | PASS               | SKIPPED              | SKIPPED           |
+---------------------+--------------------+----------------------+-------------------+
| FreeBSD 14.1        | PASS               | SKIPPED              | SKIPPED           |
+---------------------+--------------------+----------------------+-------------------+


Windows Server 2019
	Kernel: 10.0.17763
	Compiler: clang 14.0 and gcc 8.1.0 (MinGW)

Windows Server 2022
	Kernel: 10.0.20348.2031
	Compiler: clang 15.0.7, gcc 8.1.0 (MinGW), and MSVC VS 17.9

FreeBSD 13.3
	Kernel: 13.3-RELEASE-p1
	Compiler: clang 17.0.6

FreeBSD 14.1
	Kernel: 14.1
	Compiler: clang 18.1.5

To view detailed results, visit:
https://lab.dpdk.org/results/dashboard/patchsets/30552/

UNH-IOL DPDK Community Lab

To manage your email subscriptions, visit: 
https://lab.dpdk.org/results/dashboard/preferences/subscriptions/