From mboxrd@z Thu Jan  1 00:00:00 1970
Return-Path: <test-report-bounces@dpdk.org>
Received: from mails.dpdk.org (mails.dpdk.org [217.70.189.124])
	by inbox.dpdk.org (Postfix) with ESMTP id C20D545644
	for <public@inbox.dpdk.org>; Thu, 18 Jul 2024 13:24:21 +0200 (CEST)
Received: from mails.dpdk.org (localhost [127.0.0.1])
	by mails.dpdk.org (Postfix) with ESMTP id B6912402D8;
	Thu, 18 Jul 2024 13:24:21 +0200 (CEST)
Received: from mail-pg1-f227.google.com (mail-pg1-f227.google.com
 [209.85.215.227])
 by mails.dpdk.org (Postfix) with ESMTP id 3911D402A8
 for <test-report@dpdk.org>; Thu, 18 Jul 2024 13:24:20 +0200 (CEST)
Received: by mail-pg1-f227.google.com with SMTP id
 41be03b00d2f7-793a3a79a83so454753a12.3
 for <test-report@dpdk.org>; Thu, 18 Jul 2024 04:24:20 -0700 (PDT)
DKIM-Signature: v=1; a=rsa-sha256; c=relaxed/relaxed;
 d=iol.unh.edu; s=unh-iol; t=1721301859; x=1721906659; darn=dpdk.org;
 h=references:in-reply-to:cc:to:from:subject:message-id:date:from:to
 :cc:subject:date:message-id:reply-to;
 bh=vyYDkDNlGc73CFqoA3qLNHIEBRkxe2w4X4Ccn3x9RBM=;
 b=J94r9EUwu6nla0UBt6mjtij1hChswQyuJLO8Y5NVtCVZ82ZFDVnfSqnBs6ym/HFiO0
 e7RcpFthO+BBDW2NxuNSbP+Qz8xuikUwkeaUosFXS3t5yxluU4OH2XddyOUeBy1Z3ZYE
 hI7mByV4Zia8K7lQkmvgpIiKOPSbsWYvNNPWA=
X-Google-DKIM-Signature: v=1; a=rsa-sha256; c=relaxed/relaxed;
 d=1e100.net; s=20230601; t=1721301859; x=1721906659;
 h=references:in-reply-to:cc:to:from:subject:message-id:date
 :x-gm-message-state:from:to:cc:subject:date:message-id:reply-to;
 bh=vyYDkDNlGc73CFqoA3qLNHIEBRkxe2w4X4Ccn3x9RBM=;
 b=hFmR/0mXCVLp6VVMIKvNQ2sS+oRBD9XmqEn0poXEdvV0LNA2rxe1MHOvSsnCIVcOLc
 JHp4Y/DSLDe0NLCVvTWfd6j1POPVxZZtnjC5OUKZ7V5Z0kQNo1Hh4iwKUGiFMdu6sgMq
 EH4NDWwqW2251seukRZs0yA0BcOrSKE5EaoQdlA4+6wjFvDJ9T86lliwpEXsUI0HpJhr
 JvmgsZfws8+K026eiZ0stbjVm5wsJgccfgkN1Mmza9uEwZkRYY+fEgFVsqJ/DEn6cXoX
 uqFNBq60q+XOaTneFi4tGwTAfjstK2dQJVBql38QO97TnXKQek23/DGgny8qUMpeTRJ8
 k0Dw==
X-Gm-Message-State: AOJu0Ywbh+mQVndUTzqMEos77zn5Edxhl5dlE64onfNOe4MEAqi3WCrj
 bMQgwnIOrni+uhlAtrh70z6vrK+h6Lsw5o7sYDy434N+7SntRYcp6oK+aEcgvf4/zSVh1IEVknT
 pKLusXUYWOTF0zUBDjFNlRJ3XU6xReZneSLNvyHyuRp4OThurA3WLumyO
X-Google-Smtp-Source: AGHT+IE9yyrtEcBjQ8VbFR/tAttCIg260eQ1DMPsSE6wuG0EiPJsUB7vhC8ixqdcjGQyHsTJHcwv5LOViCQU
X-Received: by 2002:a05:6a20:a121:b0:1bd:27b9:b63f with SMTP id
 adf61e73a8af0-1c3fdd6b456mr5881718637.37.1721301859290; 
 Thu, 18 Jul 2024 04:24:19 -0700 (PDT)
Received: from postal.iol.unh.edu (postal.iol.unh.edu.
 [2606:4100:3880:1234::84]) by smtp-relay.gmail.com with ESMTPS id
 98e67ed59e1d1-2cb772c8e90sm28291a91.3.2024.07.18.04.24.19
 (version=TLS1_2 cipher=ECDHE-ECDSA-AES128-GCM-SHA256 bits=128/128);
 Thu, 18 Jul 2024 04:24:19 -0700 (PDT)
X-Relaying-Domain: iol.unh.edu
Date: Thu, 18 Jul 2024 04:24:19 -0700 (PDT)
Message-ID: <6698fb63.170a0220.bbba.0e68SMTPIN_ADDED_MISSING@mx.google.com>
Received: from [172.21.0.8] (unknown [172.18.0.240])
 by postal.iol.unh.edu (Postfix) with ESMTP id 762B06052500;
 Thu, 18 Jul 2024 07:24:18 -0400 (EDT)
Subject: |PENDING| pw142484-142487 [PATCH] [4/4] net/gve: add ability to modi
From: dpdklab@iol.unh.edu
To: Test Report <test-report@dpdk.org>
Cc: dpdk-test-reports@iol.unh.edu
In-Reply-To: <20240717175619.3159026-5-joshwash@google.com>
References: <20240717175619.3159026-5-joshwash@google.com>
Content-Type: text/plain
X-BeenThere: test-report@dpdk.org
X-Mailman-Version: 2.1.29
Precedence: list
List-Id: automatic DPDK test reports <test-report.dpdk.org>
List-Unsubscribe: <https://mails.dpdk.org/options/test-report>,
 <mailto:test-report-request@dpdk.org?subject=unsubscribe>
List-Archive: <http://mails.dpdk.org/archives/test-report/>
List-Post: <mailto:test-report@dpdk.org>
List-Help: <mailto:test-report-request@dpdk.org?subject=help>
List-Subscribe: <https://mails.dpdk.org/listinfo/test-report>,
 <mailto:test-report-request@dpdk.org?subject=subscribe>
Errors-To: test-report-bounces@dpdk.org

Test-Label: iol-unit-amd64-testing
Test-Status: PENDING
http://dpdk.org/patch/142487

_Testing pending_

Submitter: Joshua Washington <joshwash@google.com>
Date: Wednesday, July 17 2024 17:56:19 
DPDK git baseline: Repo:dpdk
  Branch: master
  CommitID:3317515e9377c13e458e31a64f8987a9d1f2eaf6

142484-142487 --> testing pending

Upstream job id: Generic-Unit-Test-DPDK#241319

Test environment and result as below:

+---------------------+----------------+
|     Environment     | dpdk_unit_test |
+=====================+================+
| Windows Server 2022 | PASS           |
+---------------------+----------------+
| Windows Server 2019 | PASS           |
+---------------------+----------------+
| CentOS Stream 8     | PASS           |
+---------------------+----------------+
| CentOS Stream 9     | PASS           |
+---------------------+----------------+
| Debian Bullseye     | PASS           |
+---------------------+----------------+
| Debian 12           | PASS           |
+---------------------+----------------+
| Fedora 37           | PASS           |
+---------------------+----------------+
| Fedora 38           | PASS           |
+---------------------+----------------+
| Fedora 39           | PASS           |
+---------------------+----------------+
| Fedora 38 (Clang)   | PASS           |
+---------------------+----------------+
| Fedora 39 (Clang)   | PASS           |
+---------------------+----------------+
| Fedora 40           | PASS           |
+---------------------+----------------+
| Fedora 40 (Clang)   | PEND           |
+---------------------+----------------+
| openSUSE Leap 15    | PASS           |
+---------------------+----------------+
| RHEL8               | PASS           |
+---------------------+----------------+
| RHEL9               | PEND           |
+---------------------+----------------+
| Ubuntu 20.04        | PEND           |
+---------------------+----------------+
| Ubuntu 22.04        | PEND           |
+---------------------+----------------+
| Ubuntu 24.04        | PEND           |
+---------------------+----------------+


Windows Server 2022
	Kernel: 10.0.20348.2031
	Compiler: clang 15.0.7, gcc 8.1.0 (MinGW), and MSVC VS 17.9

Windows Server 2019
	Kernel: 10.0.17763
	Compiler: clang 14.0 and gcc 8.1.0 (MinGW)

CentOS Stream 8
	Kernel: 5.4.0-167-generic
	Compiler: gcc 8.5.0 20210514

CentOS Stream 9
	Kernel: 5.4.0-167-generic
	Compiler: gcc 11.4.1 20230605

Debian Bullseye
	Kernel: 5.4.0-167-generic
	Compiler: gcc 10.2.1-6

Debian 12
	Kernel: Container Host Kernel
	Compiler: gcc 12.2.0

Fedora 37
	Kernel: Depends on container host system
	Compiler: gcc 12.3.1

Fedora 38
	Kernel: Depends on container host
	Compiler: gcc 13.2.1

Fedora 39
	Kernel: Depends on container host
	Compiler: gcc 13.2.1

Fedora 38 (Clang)
	Kernel: Depends on container host
	Compiler: clang 16.0.6

Fedora 39 (Clang)
	Kernel: Depends on container host
	Compiler: clang 17.0.6

Fedora 40
	Kernel: Depends on container host
	Compiler: gcc 14.1.1

Fedora 40 (Clang)
	Kernel: Depends on container host
	Compiler: clang 18.1.6

openSUSE Leap 15
	Kernel: 5.4.0-167-generic
	Compiler: gcc 7.5.0

RHEL8
	Kernel: 5.4.0-167-generic
	Compiler: gcc 8.5.0 20210514 (Red Hat 8.5.0-20)

RHEL9
	Kernel: Depends on container host
	Compiler: gcc 11.4.1

Ubuntu 20.04
	Kernel: 5.4.0-167-generic
	Compiler: gcc 9.4.0-1ubuntu1~20.04.1

Ubuntu 22.04
	Kernel: 5.4.0-167-generic
	Compiler: gcc 11.4.0

Ubuntu 24.04
	Kernel: 5.4.0-167-generic
	Compiler: gcc 13.2.0

To view detailed results, visit:
https://lab.dpdk.org/results/dashboard/patchsets/30544/

UNH-IOL DPDK Community Lab

To manage your email subscriptions, visit: 
https://lab.dpdk.org/results/dashboard/preferences/subscriptions/