From mboxrd@z Thu Jan  1 00:00:00 1970
Return-Path: <test-report-bounces@dpdk.org>
Received: from mails.dpdk.org (mails.dpdk.org [217.70.189.124])
	by inbox.dpdk.org (Postfix) with ESMTP id 8A50945645
	for <public@inbox.dpdk.org>; Thu, 18 Jul 2024 14:32:46 +0200 (CEST)
Received: from mails.dpdk.org (localhost [127.0.0.1])
	by mails.dpdk.org (Postfix) with ESMTP id 87BAB402D8;
	Thu, 18 Jul 2024 14:32:46 +0200 (CEST)
Received: from mail-pf1-f226.google.com (mail-pf1-f226.google.com
 [209.85.210.226])
 by mails.dpdk.org (Postfix) with ESMTP id 50FF8402D5
 for <test-report@dpdk.org>; Thu, 18 Jul 2024 14:32:45 +0200 (CEST)
Received: by mail-pf1-f226.google.com with SMTP id
 d2e1a72fcca58-70b4267ccfcso538005b3a.3
 for <test-report@dpdk.org>; Thu, 18 Jul 2024 05:32:45 -0700 (PDT)
DKIM-Signature: v=1; a=rsa-sha256; c=relaxed/relaxed;
 d=iol.unh.edu; s=unh-iol; t=1721305964; x=1721910764; darn=dpdk.org;
 h=references:in-reply-to:cc:to:from:subject:message-id:date:from:to
 :cc:subject:date:message-id:reply-to;
 bh=tn2ctyZQ9G9rq040wf/ZyWGt3tahgYR0INyXUKd2Cl4=;
 b=W9j3EzvYVKcfzaLEmJgILct62V9QnHaxabjYu/kFgNO+HOAbUTJB3rUqD1FFpCnXtV
 QRseDo3yqwSjVbkynzlzgm4fHS2XnbNFSH36VKrQM9eRx1DRyV2eQFllwvEnBUhvaUEu
 ew/khKBpZ9VoEbtNh/kLF0V2V4hqwDWlOdqsE=
X-Google-DKIM-Signature: v=1; a=rsa-sha256; c=relaxed/relaxed;
 d=1e100.net; s=20230601; t=1721305964; x=1721910764;
 h=references:in-reply-to:cc:to:from:subject:message-id:date
 :x-gm-message-state:from:to:cc:subject:date:message-id:reply-to;
 bh=tn2ctyZQ9G9rq040wf/ZyWGt3tahgYR0INyXUKd2Cl4=;
 b=MZxlmP8vaQDqPMPfuiGItVsiQa7VWq2TvfP+laEtRByULEua3utSU5h+y0Z/d5cik9
 WWpsDu7FLt8FSKWVgBTePHFb+EcIWfuClSQjdpjF6AdA9On/tSCdL2f8NRm305Kusmlb
 HVrirz+kfkmPCJpu2lonElYEhFj8+Ke3gkorjtkVD6di4UKgRWGXE6WfQtt/pN+nAoV1
 G0Up+i8yIq0Yhd7kJDjZg7FKJVM2RVHvOAcf1d/O7W2pUmSE8vaQ8LR1Z/aAXrfC8OFD
 +B/PvCfiRMa0D06n/HUjQzN7xTo5/Ffb38VRlMSyextZsa8MAHL9JSLI9t6Orlj+LsBX
 ECiQ==
X-Gm-Message-State: AOJu0YxC+wAhSc+KmkAqR1QR1O9gINWRgV0P3gQUpIaPz1uofUj2AODV
 mLkdEWiLd2clbpG0GneW3b/VEsKSHKe1AQwrKn77KowCAUkhITbXro5zWdgIeHHwvtjh9keUBgj
 YylS1PijadaYpY8gSMT8869tk6cYXayinyVmnqaiV
X-Google-Smtp-Source: AGHT+IF0JC0LoXUVJ/BMabrhphWIbrVJuua7y/DBP4WsCbQFkUqY7R0fwKZU41ZD+/7zJFueHvDx8wmqkwM7
X-Received: by 2002:a05:6a21:32a9:b0:1c3:ba3d:3ec3 with SMTP id
 adf61e73a8af0-1c3fdd4c4a6mr5781004637.36.1721305964320; 
 Thu, 18 Jul 2024 05:32:44 -0700 (PDT)
Received: from postal.iol.unh.edu (postal.iol.unh.edu. [132.177.123.84])
 by smtp-relay.gmail.com with ESMTPS id
 d9443c01a7336-1fc0bb6f0a7sm3916215ad.19.2024.07.18.05.32.44
 (version=TLS1_2 cipher=ECDHE-ECDSA-AES128-GCM-SHA256 bits=128/128);
 Thu, 18 Jul 2024 05:32:44 -0700 (PDT)
X-Relaying-Domain: iol.unh.edu
Date: Thu, 18 Jul 2024 05:32:44 -0700 (PDT)
Message-ID: <66990b6c.170a0220.3cfca.2172SMTPIN_ADDED_MISSING@mx.google.com>
Received: from [172.21.0.7] (unknown [172.18.0.240])
 by postal.iol.unh.edu (Postfix) with ESMTP id 79E3C6052500;
 Thu, 18 Jul 2024 08:32:43 -0400 (EDT)
Subject: |PENDING| pw142500-142501 [PATCH] [3/3] net/mlx5: fix RSS and queue 
From: dpdklab@iol.unh.edu
To: Test Report <test-report@dpdk.org>
Cc: dpdk-test-reports@iol.unh.edu
In-Reply-To: <20240718095717.290960-4-dsosnowski@nvidia.com>
References: <20240718095717.290960-4-dsosnowski@nvidia.com>
Content-Type: text/plain
X-BeenThere: test-report@dpdk.org
X-Mailman-Version: 2.1.29
Precedence: list
List-Id: automatic DPDK test reports <test-report.dpdk.org>
List-Unsubscribe: <https://mails.dpdk.org/options/test-report>,
 <mailto:test-report-request@dpdk.org?subject=unsubscribe>
List-Archive: <http://mails.dpdk.org/archives/test-report/>
List-Post: <mailto:test-report@dpdk.org>
List-Help: <mailto:test-report-request@dpdk.org?subject=help>
List-Subscribe: <https://mails.dpdk.org/listinfo/test-report>,
 <mailto:test-report-request@dpdk.org?subject=subscribe>
Errors-To: test-report-bounces@dpdk.org

Test-Label: iol-unit-amd64-testing
Test-Status: PENDING
http://dpdk.org/patch/142501

_Testing pending_

Submitter: Dariusz Sosnowski <dsosnowski@nvidia.com>
Date: Thursday, July 18 2024 09:57:17 
DPDK git baseline: Repo:dpdk
  Branch: master
  CommitID:0c31131307df0ce6c8d682dc5c967394196b24f7

142500-142501 --> testing pending

Upstream job id: Generic-Unit-Test-DPDK#241378

Test environment and result as below:

+---------------------+----------------+
|     Environment     | dpdk_unit_test |
+=====================+================+
| CentOS Stream 8     | PASS           |
+---------------------+----------------+
| Windows Server 2022 | PASS           |
+---------------------+----------------+
| CentOS Stream 9     | PASS           |
+---------------------+----------------+
| Debian Bullseye     | PASS           |
+---------------------+----------------+
| Fedora 37           | PASS           |
+---------------------+----------------+
| Windows Server 2019 | PASS           |
+---------------------+----------------+
| Debian 12           | PASS           |
+---------------------+----------------+
| Fedora 38 (Clang)   | PEND           |
+---------------------+----------------+
| Fedora 38           | PASS           |
+---------------------+----------------+
| Fedora 39           | PASS           |
+---------------------+----------------+
| Fedora 39 (Clang)   | PEND           |
+---------------------+----------------+
| Fedora 40           | PEND           |
+---------------------+----------------+
| Fedora 40 (Clang)   | PEND           |
+---------------------+----------------+
| openSUSE Leap 15    | PEND           |
+---------------------+----------------+
| RHEL9               | PEND           |
+---------------------+----------------+
| RHEL8               | PEND           |
+---------------------+----------------+
| Ubuntu 22.04        | PEND           |
+---------------------+----------------+
| Ubuntu 20.04        | PEND           |
+---------------------+----------------+
| Ubuntu 24.04        | PEND           |
+---------------------+----------------+


CentOS Stream 8
	Kernel: 5.4.0-167-generic
	Compiler: gcc 8.5.0 20210514

Windows Server 2022
	Kernel: 10.0.20348.2031
	Compiler: clang 15.0.7, gcc 8.1.0 (MinGW), and MSVC VS 17.9

CentOS Stream 9
	Kernel: 5.4.0-167-generic
	Compiler: gcc 11.4.1 20230605

Debian Bullseye
	Kernel: 5.4.0-167-generic
	Compiler: gcc 10.2.1-6

Fedora 37
	Kernel: Depends on container host system
	Compiler: gcc 12.3.1

Windows Server 2019
	Kernel: 10.0.17763
	Compiler: clang 14.0 and gcc 8.1.0 (MinGW)

Debian 12
	Kernel: Container Host Kernel
	Compiler: gcc 12.2.0

Fedora 38 (Clang)
	Kernel: Depends on container host
	Compiler: clang 16.0.6

Fedora 38
	Kernel: Depends on container host
	Compiler: gcc 13.2.1

Fedora 39
	Kernel: Depends on container host
	Compiler: gcc 13.2.1

Fedora 39 (Clang)
	Kernel: Depends on container host
	Compiler: clang 17.0.6

Fedora 40
	Kernel: Depends on container host
	Compiler: gcc 14.1.1

Fedora 40 (Clang)
	Kernel: Depends on container host
	Compiler: clang 18.1.6

openSUSE Leap 15
	Kernel: 5.4.0-167-generic
	Compiler: gcc 7.5.0

RHEL9
	Kernel: Depends on container host
	Compiler: gcc 11.4.1

RHEL8
	Kernel: 5.4.0-167-generic
	Compiler: gcc 8.5.0 20210514 (Red Hat 8.5.0-20)

Ubuntu 22.04
	Kernel: 5.4.0-167-generic
	Compiler: gcc 11.4.0

Ubuntu 20.04
	Kernel: 5.4.0-167-generic
	Compiler: gcc 9.4.0-1ubuntu1~20.04.1

Ubuntu 24.04
	Kernel: 5.4.0-167-generic
	Compiler: gcc 13.2.0

To view detailed results, visit:
https://lab.dpdk.org/results/dashboard/patchsets/30552/

UNH-IOL DPDK Community Lab

To manage your email subscriptions, visit: 
https://lab.dpdk.org/results/dashboard/preferences/subscriptions/