From mboxrd@z Thu Jan  1 00:00:00 1970
Return-Path: <test-report-bounces@dpdk.org>
Received: from mails.dpdk.org (mails.dpdk.org [217.70.189.124])
	by inbox.dpdk.org (Postfix) with ESMTP id B56EB45648
	for <public@inbox.dpdk.org>; Thu, 18 Jul 2024 17:18:17 +0200 (CEST)
Received: from mails.dpdk.org (localhost [127.0.0.1])
	by mails.dpdk.org (Postfix) with ESMTP id B0C5940672;
	Thu, 18 Jul 2024 17:18:17 +0200 (CEST)
Received: from mail-pl1-f226.google.com (mail-pl1-f226.google.com
 [209.85.214.226])
 by mails.dpdk.org (Postfix) with ESMTP id 6C312402BE
 for <test-report@dpdk.org>; Thu, 18 Jul 2024 17:18:16 +0200 (CEST)
Received: by mail-pl1-f226.google.com with SMTP id
 d9443c01a7336-1fb1c69e936so6625805ad.3
 for <test-report@dpdk.org>; Thu, 18 Jul 2024 08:18:16 -0700 (PDT)
DKIM-Signature: v=1; a=rsa-sha256; c=relaxed/relaxed;
 d=iol.unh.edu; s=unh-iol; t=1721315895; x=1721920695; darn=dpdk.org;
 h=references:in-reply-to:cc:to:from:subject:message-id:date:from:to
 :cc:subject:date:message-id:reply-to;
 bh=Pjj15Mp+0gX9Kvcpwh7DjziQ6657/G/8PmTO11pbjYY=;
 b=jXGakVvUTLtMQJ1waK+7lFBxTPFQXWcIxYY7By0t5VvXsel6DBmrg0TiRSWLc1adfa
 Jy7Z5co31SfHZDccEspL+yyZGULEsBKe9lSVkFeSivH9cRn6gqj2vz+LjofMDvIAxbHq
 OEqwAdQhOB4bG3A5L2j+YKoW8Am5y82I2WAoA=
X-Google-DKIM-Signature: v=1; a=rsa-sha256; c=relaxed/relaxed;
 d=1e100.net; s=20230601; t=1721315895; x=1721920695;
 h=references:in-reply-to:cc:to:from:subject:message-id:date
 :x-gm-message-state:from:to:cc:subject:date:message-id:reply-to;
 bh=Pjj15Mp+0gX9Kvcpwh7DjziQ6657/G/8PmTO11pbjYY=;
 b=KZi1hjidS0LiXucrJSwpDrO3goCZrNVBQjnTSa7197udaA/zpDIjHHoH/suGHKDZfO
 b/md2jCQ7GBS5fubkuo6G7AVmBiHpdU3euosgmiR2Ef98fO52F/Qt4LOnDoMvigKTvRy
 uY6jK5tJ/DbC3apN5NBGVplRqiR0bB9q946z52ejx/qtCh7ZVWHWZ5edkoFxo5IIPFGc
 AoA/8c9dKtLqCLA4D9fFAcxqU8o9Xhm1ZCXC76b3JJhn6tZ1WjnqJPfpSujTgpnzs1FK
 oxqSHq/mAmfBSykXgkEg1QHHm8+d8+WlBamFviWYGdgoEnxvGe8o0YP8TXOPwDr/gfvw
 zkHA==
X-Gm-Message-State: AOJu0YzakW6oFgv5cuXl+E0Q4zyo3OUogElnfnColuY5mcax/inrqjpo
 Ji84cWoZ450DxDbMSl2JcV7YrDGaFZH22u4u48ij8Ygt1K+dpi9Qj9QBkbKeC9F76bT5RI/V/4R
 0//um7wofR2kjQTBkjNR7vlpWLOoJ/UVXAgm4xLpP4zC8O4St4fn8TJ3o
X-Google-Smtp-Source: AGHT+IHuqGpvcOP4T1XrTrcShxySmAmhZNSoZrgPQVGUj2JuCZziyXTys9PoDJLK4XhiJlh+8kYOw2dmmIdH
X-Received: by 2002:a17:902:ef45:b0:1fc:6de6:451c with SMTP id
 d9443c01a7336-1fc6de646c7mr8047135ad.46.1721315895264; 
 Thu, 18 Jul 2024 08:18:15 -0700 (PDT)
Received: from postal.iol.unh.edu (postal.iol.unh.edu.
 [2606:4100:3880:1234::84]) by smtp-relay.gmail.com with ESMTPS id
 d9443c01a7336-1fc6e947d90sm322255ad.135.2024.07.18.08.18.15
 (version=TLS1_2 cipher=ECDHE-ECDSA-AES128-GCM-SHA256 bits=128/128);
 Thu, 18 Jul 2024 08:18:15 -0700 (PDT)
X-Relaying-Domain: iol.unh.edu
Date: Thu, 18 Jul 2024 08:18:15 -0700 (PDT)
Message-ID: <66993237.170a0220.1957ac.1145SMTPIN_ADDED_MISSING@mx.google.com>
Received: from [172.21.0.6] (unknown [172.18.0.240])
 by postal.iol.unh.edu (Postfix) with ESMTP id 6E6D96052722;
 Thu, 18 Jul 2024 11:18:14 -0400 (EDT)
Subject: |PENDING| pw142503-142505 [PATCH] [v2,3/3] net/hns3: fix Rx packet w
From: dpdklab@iol.unh.edu
To: Test Report <test-report@dpdk.org>
Cc: dpdk-test-reports@iol.unh.edu
In-Reply-To: <20240718114806.577298-4-haijie1@huawei.com>
References: <20240718114806.577298-4-haijie1@huawei.com>
Content-Type: text/plain
X-BeenThere: test-report@dpdk.org
X-Mailman-Version: 2.1.29
Precedence: list
List-Id: automatic DPDK test reports <test-report.dpdk.org>
List-Unsubscribe: <https://mails.dpdk.org/options/test-report>,
 <mailto:test-report-request@dpdk.org?subject=unsubscribe>
List-Archive: <http://mails.dpdk.org/archives/test-report/>
List-Post: <mailto:test-report@dpdk.org>
List-Help: <mailto:test-report-request@dpdk.org?subject=help>
List-Subscribe: <https://mails.dpdk.org/listinfo/test-report>,
 <mailto:test-report-request@dpdk.org?subject=subscribe>
Errors-To: test-report-bounces@dpdk.org

Test-Label: iol-abi-testing
Test-Status: PENDING
http://dpdk.org/patch/142505

_Testing pending_

Submitter: Jie Hai <haijie1@huawei.com>
Date: Thursday, July 18 2024 11:48:05 
DPDK git baseline: Repo:dpdk
  Branch: master
  CommitID:3317515e9377c13e458e31a64f8987a9d1f2eaf6

142503-142505 --> testing pending

Upstream job id: Generic-DPDK-Compile-ABI#99341

Test environment and result as below:

+-------------------+----------+
|    Environment    | abi_test |
+===================+==========+
| CentOS Stream 8   | PASS     |
+-------------------+----------+
| CentOS Stream 9   | PASS     |
+-------------------+----------+
| Debian 12         | PASS     |
+-------------------+----------+
| Fedora 37         | PEND     |
+-------------------+----------+
| Fedora 39 (Clang) | PEND     |
+-------------------+----------+
| Fedora 39         | PEND     |
+-------------------+----------+
| Fedora 38 (Clang) | PASS     |
+-------------------+----------+
| Fedora 38         | PEND     |
+-------------------+----------+
| openSUSE Leap 15  | PEND     |
+-------------------+----------+
| RHEL8             | PEND     |
+-------------------+----------+
| Fedora 40         | PEND     |
+-------------------+----------+
| RHEL9             | PEND     |
+-------------------+----------+
| Fedora 40 (Clang) | PEND     |
+-------------------+----------+
| Ubuntu 22.04      | PEND     |
+-------------------+----------+
| Ubuntu 24.04      | PEND     |
+-------------------+----------+
| Debian Bullseye   | PEND     |
+-------------------+----------+


CentOS Stream 8
	Kernel: 5.4.0-167-generic
	Compiler: gcc 8.5.0 20210514

CentOS Stream 9
	Kernel: 5.4.0-167-generic
	Compiler: gcc 11.4.1 20230605

Debian 12
	Kernel: Container Host Kernel
	Compiler: gcc 12.2.0

Fedora 37
	Kernel: Depends on container host system
	Compiler: gcc 12.3.1

Fedora 39 (Clang)
	Kernel: Depends on container host
	Compiler: clang 17.0.6

Fedora 39
	Kernel: Depends on container host
	Compiler: gcc 13.2.1

Fedora 38 (Clang)
	Kernel: Depends on container host
	Compiler: clang 16.0.6

Fedora 38
	Kernel: Depends on container host
	Compiler: gcc 13.2.1

openSUSE Leap 15
	Kernel: 5.4.0-167-generic
	Compiler: gcc 7.5.0

RHEL8
	Kernel: 5.4.0-167-generic
	Compiler: gcc 8.5.0 20210514 (Red Hat 8.5.0-20)

Fedora 40
	Kernel: Depends on container host
	Compiler: gcc 14.1.1

RHEL9
	Kernel: Depends on container host
	Compiler: gcc 11.4.1

Fedora 40 (Clang)
	Kernel: Depends on container host
	Compiler: clang 18.1.6

Ubuntu 22.04
	Kernel: 5.4.0-167-generic
	Compiler: gcc 11.4.0

Ubuntu 24.04
	Kernel: 5.4.0-167-generic
	Compiler: gcc 13.2.0

Debian Bullseye
	Kernel: 5.4.0-167-generic
	Compiler: gcc 10.2.1-6

To view detailed results, visit:
https://lab.dpdk.org/results/dashboard/patchsets/30553/

UNH-IOL DPDK Community Lab

To manage your email subscriptions, visit: 
https://lab.dpdk.org/results/dashboard/preferences/subscriptions/