From mboxrd@z Thu Jan  1 00:00:00 1970
Return-Path: <test-report-bounces@dpdk.org>
Received: from mails.dpdk.org (mails.dpdk.org [217.70.189.124])
	by inbox.dpdk.org (Postfix) with ESMTP id DB78D45648
	for <public@inbox.dpdk.org>; Thu, 18 Jul 2024 17:18:36 +0200 (CEST)
Received: from mails.dpdk.org (localhost [127.0.0.1])
	by mails.dpdk.org (Postfix) with ESMTP id D7D6B40672;
	Thu, 18 Jul 2024 17:18:36 +0200 (CEST)
Received: from mail-oa1-f97.google.com (mail-oa1-f97.google.com
 [209.85.160.97]) by mails.dpdk.org (Postfix) with ESMTP id 5D924402BE
 for <test-report@dpdk.org>; Thu, 18 Jul 2024 17:18:35 +0200 (CEST)
Received: by mail-oa1-f97.google.com with SMTP id
 586e51a60fabf-25e1610e359so364908fac.1
 for <test-report@dpdk.org>; Thu, 18 Jul 2024 08:18:35 -0700 (PDT)
DKIM-Signature: v=1; a=rsa-sha256; c=relaxed/relaxed;
 d=iol.unh.edu; s=unh-iol; t=1721315914; x=1721920714; darn=dpdk.org;
 h=references:in-reply-to:cc:to:from:subject:message-id:date:from:to
 :cc:subject:date:message-id:reply-to;
 bh=DYm6j5dU0+hNRUPYZ7LU2wJeWpmQhF5uD0sNxbE7FCs=;
 b=QqS7v4h/OHBCB0T66Qhr3XUcTNyOceq516k4HrJxa9u/kjiYy2d8iye+f+H3tV9V59
 K4BKeDpDtxbM8CPLZ+IUlAsbHFfo0xsbF0kRXtHXUxK7Ch5Ewi4jqobWiZeyEUNTZOc+
 fCF+BChefokKLPWuIDEqXlsPhK5VFLZJnWqIM=
X-Google-DKIM-Signature: v=1; a=rsa-sha256; c=relaxed/relaxed;
 d=1e100.net; s=20230601; t=1721315914; x=1721920714;
 h=references:in-reply-to:cc:to:from:subject:message-id:date
 :x-gm-message-state:from:to:cc:subject:date:message-id:reply-to;
 bh=DYm6j5dU0+hNRUPYZ7LU2wJeWpmQhF5uD0sNxbE7FCs=;
 b=giy+iEVrcie+ERAFbkihwUzm/U8gLoXY56ChWxNMMYPnZbK0QVVpdeg7F1gSGmmp42
 9FYW29XTeBH3cffdcEiW5Ixjb4Mc2Fyk9MEEXCr6dlr9dvMUCYITp4mio+emo9d1wvZv
 VU9Hs2gveBAQsw4jeBA/+g56G3HKSN5yqtcc4IYEa7kvjPRneRRZ4gLCt1TkeCFD+6sv
 I0ajY1cMo5mV3a8rsN8lgNx+yUCiJiE+/kDvLY5DwyJOpKtM+v062bTGlJSAt4GoKusV
 SBHKmJbGPctX/8mdUvZcwdeh0IMCmuFuIRgD88K5z1e2sRRUD59Xfh9ZOW2NqVjgCgJf
 4psw==
X-Gm-Message-State: AOJu0YzCO7XdCTpxyjDaqzBLjuIxpx0or7dzPJ+fdeam13jkkXbi9QnB
 OKxTs8zLveyWLYpXFnttE8gkuA0pqUlW9KMpBS0CrfF4oM6/oeUyymCSeHsv0yMm3Z2dp+M0VoW
 m10dU8SwwtJc8dhysPzY8ShMjpefq/c14W50/ctJ+I5N3skSZc7d8oRsY
X-Google-Smtp-Source: AGHT+IFgT/KreV7oHxHtoL8QsITODJlWnbUM3TXjnjvnHM4aRxjwRh/9Znih2Yd18/44U3gYMbLZAIIyD4Eu
X-Received: by 2002:a05:6871:442:b0:254:c617:a9a0 with SMTP id
 586e51a60fabf-260d927e182mr3737667fac.50.1721315914482; 
 Thu, 18 Jul 2024 08:18:34 -0700 (PDT)
Received: from postal.iol.unh.edu (postal.iol.unh.edu.
 [2606:4100:3880:1234::84]) by smtp-relay.gmail.com with ESMTPS id
 586e51a60fabf-260ee57a3e2sm177844fac.7.2024.07.18.08.18.34
 (version=TLS1_2 cipher=ECDHE-ECDSA-AES128-GCM-SHA256 bits=128/128);
 Thu, 18 Jul 2024 08:18:34 -0700 (PDT)
X-Relaying-Domain: iol.unh.edu
Date: Thu, 18 Jul 2024 08:18:34 -0700 (PDT)
Message-ID: <6699324a.050a0220.54ebe.6a7fSMTPIN_ADDED_MISSING@mx.google.com>
Received: from [172.21.0.6] (unknown [172.18.0.240])
 by postal.iol.unh.edu (Postfix) with ESMTP id EFBE96052722;
 Thu, 18 Jul 2024 11:18:33 -0400 (EDT)
Subject: |PENDING| pw142503-142505 [PATCH] [v2,3/3] net/hns3: fix Rx packet w
From: dpdklab@iol.unh.edu
To: Test Report <test-report@dpdk.org>
Cc: dpdk-test-reports@iol.unh.edu
In-Reply-To: <20240718114806.577298-4-haijie1@huawei.com>
References: <20240718114806.577298-4-haijie1@huawei.com>
Content-Type: text/plain
X-BeenThere: test-report@dpdk.org
X-Mailman-Version: 2.1.29
Precedence: list
List-Id: automatic DPDK test reports <test-report.dpdk.org>
List-Unsubscribe: <https://mails.dpdk.org/options/test-report>,
 <mailto:test-report-request@dpdk.org?subject=unsubscribe>
List-Archive: <http://mails.dpdk.org/archives/test-report/>
List-Post: <mailto:test-report@dpdk.org>
List-Help: <mailto:test-report-request@dpdk.org?subject=help>
List-Subscribe: <https://mails.dpdk.org/listinfo/test-report>,
 <mailto:test-report-request@dpdk.org?subject=subscribe>
Errors-To: test-report-bounces@dpdk.org

Test-Label: iol-abi-testing
Test-Status: PENDING
http://dpdk.org/patch/142505

_Testing pending_

Submitter: Jie Hai <haijie1@huawei.com>
Date: Thursday, July 18 2024 11:48:05 
DPDK git baseline: Repo:dpdk
  Branch: master
  CommitID:3317515e9377c13e458e31a64f8987a9d1f2eaf6

142503-142505 --> testing pending

Upstream job id: Generic-DPDK-Compile-ABI#99340

Test environment and result as below:

+-------------------+----------+
|    Environment    | abi_test |
+===================+==========+
| CentOS Stream 8   | PASS     |
+-------------------+----------+
| CentOS Stream 9   | PASS     |
+-------------------+----------+
| Debian 12         | PASS     |
+-------------------+----------+
| Fedora 37         | PEND     |
+-------------------+----------+
| Fedora 39 (Clang) | PEND     |
+-------------------+----------+
| Fedora 39         | PEND     |
+-------------------+----------+
| Fedora 38 (Clang) | PASS     |
+-------------------+----------+
| Fedora 38         | PEND     |
+-------------------+----------+
| openSUSE Leap 15  | PEND     |
+-------------------+----------+
| RHEL8             | PEND     |
+-------------------+----------+
| Fedora 40         | PEND     |
+-------------------+----------+
| RHEL9             | PEND     |
+-------------------+----------+
| Fedora 40 (Clang) | PEND     |
+-------------------+----------+
| Ubuntu 22.04      | PEND     |
+-------------------+----------+
| Ubuntu 24.04      | PEND     |
+-------------------+----------+
| Debian Bullseye   | PEND     |
+-------------------+----------+


CentOS Stream 8
	Kernel: 5.4.0-167-generic
	Compiler: gcc 8.5.0 20210514

CentOS Stream 9
	Kernel: 5.4.0-167-generic
	Compiler: gcc 11.4.1 20230605

Debian 12
	Kernel: Container Host Kernel
	Compiler: gcc 12.2.0

Fedora 37
	Kernel: Depends on container host system
	Compiler: gcc 12.3.1

Fedora 39 (Clang)
	Kernel: Depends on container host
	Compiler: clang 17.0.6

Fedora 39
	Kernel: Depends on container host
	Compiler: gcc 13.2.1

Fedora 38 (Clang)
	Kernel: Depends on container host
	Compiler: clang 16.0.6

Fedora 38
	Kernel: Depends on container host
	Compiler: gcc 13.2.1

openSUSE Leap 15
	Kernel: 5.4.0-167-generic
	Compiler: gcc 7.5.0

RHEL8
	Kernel: 5.4.0-167-generic
	Compiler: gcc 8.5.0 20210514 (Red Hat 8.5.0-20)

Fedora 40
	Kernel: Depends on container host
	Compiler: gcc 14.1.1

RHEL9
	Kernel: Depends on container host
	Compiler: gcc 11.4.1

Fedora 40 (Clang)
	Kernel: Depends on container host
	Compiler: clang 18.1.6

Ubuntu 22.04
	Kernel: 5.4.0-167-generic
	Compiler: gcc 11.4.0

Ubuntu 24.04
	Kernel: 5.4.0-167-generic
	Compiler: gcc 13.2.0

Debian Bullseye
	Kernel: 5.4.0-167-generic
	Compiler: gcc 10.2.1-6

To view detailed results, visit:
https://lab.dpdk.org/results/dashboard/patchsets/30553/

UNH-IOL DPDK Community Lab

To manage your email subscriptions, visit: 
https://lab.dpdk.org/results/dashboard/preferences/subscriptions/