From mboxrd@z Thu Jan  1 00:00:00 1970
Return-Path: <test-report-bounces@dpdk.org>
Received: from mails.dpdk.org (mails.dpdk.org [217.70.189.124])
	by inbox.dpdk.org (Postfix) with ESMTP id 102B545648
	for <public@inbox.dpdk.org>; Thu, 18 Jul 2024 17:19:13 +0200 (CEST)
Received: from mails.dpdk.org (localhost [127.0.0.1])
	by mails.dpdk.org (Postfix) with ESMTP id 094FD40672;
	Thu, 18 Jul 2024 17:19:13 +0200 (CEST)
Received: from mail-yb1-f228.google.com (mail-yb1-f228.google.com
 [209.85.219.228])
 by mails.dpdk.org (Postfix) with ESMTP id 86D84402BE
 for <test-report@dpdk.org>; Thu, 18 Jul 2024 17:19:11 +0200 (CEST)
Received: by mail-yb1-f228.google.com with SMTP id
 3f1490d57ef6-e0354459844so884847276.3
 for <test-report@dpdk.org>; Thu, 18 Jul 2024 08:19:11 -0700 (PDT)
DKIM-Signature: v=1; a=rsa-sha256; c=relaxed/relaxed;
 d=iol.unh.edu; s=unh-iol; t=1721315951; x=1721920751; darn=dpdk.org;
 h=references:in-reply-to:cc:to:from:subject:message-id:date:from:to
 :cc:subject:date:message-id:reply-to;
 bh=pvFIEMqldgf4nwlN7RYE/HO1yKUMMBmF9DlF/SuBZtA=;
 b=FqsZR0fJcFxPI8RI92s/GepLis1x3S2T2YoPasHDV6SMJhbAA9ehxVmmejzy5OT5zX
 t5LJNW0M7s6tp3EfaqBQHtEygMnNOkjo617Pj75eqmQFcDioCkisMkLHv9KC1apDPd6S
 yUzoSpYHTZkRDH7579Uwdfy4jIfMxnpdEE67o=
X-Google-DKIM-Signature: v=1; a=rsa-sha256; c=relaxed/relaxed;
 d=1e100.net; s=20230601; t=1721315951; x=1721920751;
 h=references:in-reply-to:cc:to:from:subject:message-id:date
 :x-gm-message-state:from:to:cc:subject:date:message-id:reply-to;
 bh=pvFIEMqldgf4nwlN7RYE/HO1yKUMMBmF9DlF/SuBZtA=;
 b=qUIG3sprBGGCZB66HSd6Fy25MBxTwwxPKwXnp8QU9OAXARLFX20B5ZjkF69sWAmC/3
 GXZWtKD6T4AviMn679ZeKOF8gBNWEW8nVSnbX8S9oPeC9JalhcgvAlg5fVfPJAGAl3Yd
 06vc4VZhJ6yb8TSYer6hrtXK/HZbty5s8sF+bd+0SGWDay16qY7wfp9Egt8r8XAiqrNB
 2JHFOvAsrRRHTcweOPxoKph4f38c5eB/3bKJagQyfB2GonMgjvfJPF0jQwsld9tkPRLT
 6Ws47PvL3S00hhvdUGRINTA/HNL2ebSRWl+10FSuK11DGqPt0Hy4j2Ih+LWolvQaw+/6
 YGKQ==
X-Gm-Message-State: AOJu0YwuEuuQqy93CsmISllkO97HUDaybxAkbItkQCt7ZzlQ7My7Ztiu
 O8LV2OJHYhxy1zJs41vPc6llsr8u9tyrV8kpEkksFVktPpHmCglITLhq945u4gwa9kVj6RXwI8T
 qdebI99tTDNND2u0dzhSBKughd5Xd6XGKrmNSE11sWQKxl3P7VOkaYQLq
X-Google-Smtp-Source: AGHT+IH3g9TLKvz/Bl4PPVGqqsBb6MRVACFNFh7tlShMlMfPMeh77Ro7jQ6sNtI7bzh+lroGT63FwwjUN27z
X-Received: by 2002:a05:6902:91e:b0:e05:e103:1ccb with SMTP id
 3f1490d57ef6-e05ed7c4571mr5982098276.55.1721315942417; 
 Thu, 18 Jul 2024 08:19:02 -0700 (PDT)
Received: from postal.iol.unh.edu (postal.iol.unh.edu.
 [2606:4100:3880:1234::84]) by smtp-relay.gmail.com with ESMTPS id
 6a1803df08f44-6b79c547eedsm1337136d6.39.2024.07.18.08.19.02
 (version=TLS1_2 cipher=ECDHE-ECDSA-AES128-GCM-SHA256 bits=128/128);
 Thu, 18 Jul 2024 08:19:02 -0700 (PDT)
X-Relaying-Domain: iol.unh.edu
Date: Thu, 18 Jul 2024 08:19:02 -0700 (PDT)
Message-ID: <66993266.050a0220.49886.49e4SMTPIN_ADDED_MISSING@mx.google.com>
Received: from [172.21.0.7] (unknown [172.18.0.240])
 by postal.iol.unh.edu (Postfix) with ESMTP id 2232A6052723;
 Thu, 18 Jul 2024 11:19:02 -0400 (EDT)
Subject: |PENDING| pw142503-142505 [PATCH] [v2,3/3] net/hns3: fix Rx packet w
From: dpdklab@iol.unh.edu
To: Test Report <test-report@dpdk.org>
Cc: dpdk-test-reports@iol.unh.edu
In-Reply-To: <20240718114806.577298-4-haijie1@huawei.com>
References: <20240718114806.577298-4-haijie1@huawei.com>
Content-Type: text/plain
X-BeenThere: test-report@dpdk.org
X-Mailman-Version: 2.1.29
Precedence: list
List-Id: automatic DPDK test reports <test-report.dpdk.org>
List-Unsubscribe: <https://mails.dpdk.org/options/test-report>,
 <mailto:test-report-request@dpdk.org?subject=unsubscribe>
List-Archive: <http://mails.dpdk.org/archives/test-report/>
List-Post: <mailto:test-report@dpdk.org>
List-Help: <mailto:test-report-request@dpdk.org?subject=help>
List-Subscribe: <https://mails.dpdk.org/listinfo/test-report>,
 <mailto:test-report-request@dpdk.org?subject=subscribe>
Errors-To: test-report-bounces@dpdk.org

Test-Label: iol-abi-testing
Test-Status: PENDING
http://dpdk.org/patch/142505

_Testing pending_

Submitter: Jie Hai <haijie1@huawei.com>
Date: Thursday, July 18 2024 11:48:05 
DPDK git baseline: Repo:dpdk
  Branch: master
  CommitID:3317515e9377c13e458e31a64f8987a9d1f2eaf6

142503-142505 --> testing pending

Upstream job id: Generic-DPDK-Compile-ABI#99345

Test environment and result as below:

+-------------------+----------+
|    Environment    | abi_test |
+===================+==========+
| CentOS Stream 8   | PASS     |
+-------------------+----------+
| CentOS Stream 9   | PASS     |
+-------------------+----------+
| Debian 12         | PASS     |
+-------------------+----------+
| Fedora 37         | PEND     |
+-------------------+----------+
| Fedora 39 (Clang) | PEND     |
+-------------------+----------+
| Fedora 39         | PEND     |
+-------------------+----------+
| Fedora 38 (Clang) | PASS     |
+-------------------+----------+
| Fedora 38         | PEND     |
+-------------------+----------+
| openSUSE Leap 15  | PEND     |
+-------------------+----------+
| RHEL8             | PEND     |
+-------------------+----------+
| Fedora 40         | PEND     |
+-------------------+----------+
| RHEL9             | PEND     |
+-------------------+----------+
| Fedora 40 (Clang) | PEND     |
+-------------------+----------+
| Ubuntu 22.04      | PEND     |
+-------------------+----------+
| Ubuntu 24.04      | PEND     |
+-------------------+----------+
| Debian Bullseye   | PEND     |
+-------------------+----------+


CentOS Stream 8
	Kernel: 5.4.0-167-generic
	Compiler: gcc 8.5.0 20210514

CentOS Stream 9
	Kernel: 5.4.0-167-generic
	Compiler: gcc 11.4.1 20230605

Debian 12
	Kernel: Container Host Kernel
	Compiler: gcc 12.2.0

Fedora 37
	Kernel: Depends on container host system
	Compiler: gcc 12.3.1

Fedora 39 (Clang)
	Kernel: Depends on container host
	Compiler: clang 17.0.6

Fedora 39
	Kernel: Depends on container host
	Compiler: gcc 13.2.1

Fedora 38 (Clang)
	Kernel: Depends on container host
	Compiler: clang 16.0.6

Fedora 38
	Kernel: Depends on container host
	Compiler: gcc 13.2.1

openSUSE Leap 15
	Kernel: 5.4.0-167-generic
	Compiler: gcc 7.5.0

RHEL8
	Kernel: 5.4.0-167-generic
	Compiler: gcc 8.5.0 20210514 (Red Hat 8.5.0-20)

Fedora 40
	Kernel: Depends on container host
	Compiler: gcc 14.1.1

RHEL9
	Kernel: Depends on container host
	Compiler: gcc 11.4.1

Fedora 40 (Clang)
	Kernel: Depends on container host
	Compiler: clang 18.1.6

Ubuntu 22.04
	Kernel: 5.4.0-167-generic
	Compiler: gcc 11.4.0

Ubuntu 24.04
	Kernel: 5.4.0-167-generic
	Compiler: gcc 13.2.0

Debian Bullseye
	Kernel: 5.4.0-167-generic
	Compiler: gcc 10.2.1-6

To view detailed results, visit:
https://lab.dpdk.org/results/dashboard/patchsets/30553/

UNH-IOL DPDK Community Lab

To manage your email subscriptions, visit: 
https://lab.dpdk.org/results/dashboard/preferences/subscriptions/