From mboxrd@z Thu Jan  1 00:00:00 1970
Return-Path: <test-report-bounces@dpdk.org>
Received: from mails.dpdk.org (mails.dpdk.org [217.70.189.124])
	by inbox.dpdk.org (Postfix) with ESMTP id 34D6B45648
	for <public@inbox.dpdk.org>; Thu, 18 Jul 2024 17:19:25 +0200 (CEST)
Received: from mails.dpdk.org (localhost [127.0.0.1])
	by mails.dpdk.org (Postfix) with ESMTP id 3039642EF1;
	Thu, 18 Jul 2024 17:19:25 +0200 (CEST)
Received: from mail-pl1-f225.google.com (mail-pl1-f225.google.com
 [209.85.214.225])
 by mails.dpdk.org (Postfix) with ESMTP id 416BD402BE
 for <test-report@dpdk.org>; Thu, 18 Jul 2024 17:19:24 +0200 (CEST)
Received: by mail-pl1-f225.google.com with SMTP id
 d9443c01a7336-1fb8781ef1bso8872005ad.3
 for <test-report@dpdk.org>; Thu, 18 Jul 2024 08:19:24 -0700 (PDT)
DKIM-Signature: v=1; a=rsa-sha256; c=relaxed/relaxed;
 d=iol.unh.edu; s=unh-iol; t=1721315963; x=1721920763; darn=dpdk.org;
 h=references:in-reply-to:cc:to:from:subject:message-id:date:from:to
 :cc:subject:date:message-id:reply-to;
 bh=9ojwAnPNcejxYmT5560E1DJDJvGlsB8yVSUTli+og9Q=;
 b=fc4hYAgFbZQINKfc7v4kO1BsGWdKsKTRJnBR8ZXcqcnFoUMH6ZVnCaf+CabVwjlnoA
 VuZd80/ECsxte6Y83HaM1aJcLvpMMMBWB2OPoUKSQ92vP0SuZe+bopnS2TmksYHoy0zQ
 MmYhqI5aa2FGiPmHs8/x8VDsORyZUr3Ql1YHs=
X-Google-DKIM-Signature: v=1; a=rsa-sha256; c=relaxed/relaxed;
 d=1e100.net; s=20230601; t=1721315963; x=1721920763;
 h=references:in-reply-to:cc:to:from:subject:message-id:date
 :x-gm-message-state:from:to:cc:subject:date:message-id:reply-to;
 bh=9ojwAnPNcejxYmT5560E1DJDJvGlsB8yVSUTli+og9Q=;
 b=VoX78w1SzMKrY7ONP/xUEyvNqzpVFfZEhVsXPzjajS8YatrWitqQMfVGc/6D0xvINx
 XBWhbEdMaTS4vRADmP65/5XR01m4/40Z4RlpTRbuIohpqjyfYnzBUpO3we3I5JnbZEvk
 QqZAu2NLhsCdxNcHl2dPlPVIX4EhgOdpsTPhHdvx7zjBXcWmPPr/55byx5ki5nPcUKUP
 LS/9CsI855aeAMgSJAxfpQ8A9cPeFoVjvj0DC73AuWie4vOBirCuVIKPoTGFCdjgCzCf
 9rTbm9HGkww/UKVlddZ0AHTRqaoJs+VyrquGgVtxfWKksklK8bGt7XaqX6d+pE82J2YL
 iGdA==
X-Gm-Message-State: AOJu0YwsjLHnflSsZ4w8A6Rvmvf3Qjke7NOZwqDc73wBDnqbvVcVAK5i
 smuVRGEmpwHLEaADkxvKzUXEQgN9dTeYHK8a3Z5xEGTUQAme7MlnXwmQENf2/ZXiYnkBRVlUAL9
 5eYNnfWGBSmC24zhJIete9EEMuqA+dP5sFmbSquLwpcXJC2FAqLPWJc9N
X-Google-Smtp-Source: AGHT+IF1j7VzeGwxHsjPBYahSZU02zG/Il+dQ5miBaMad+SAlglkIHVLzaLco+FPNRVlyrCnQ0OGathOFxAS
X-Received: by 2002:a17:903:1206:b0:1fb:8e25:e631 with SMTP id
 d9443c01a7336-1fc4e1356d8mr44137485ad.8.1721315963224; 
 Thu, 18 Jul 2024 08:19:23 -0700 (PDT)
Received: from postal.iol.unh.edu (postal.iol.unh.edu.
 [2606:4100:3880:1234::84]) by smtp-relay.gmail.com with ESMTPS id
 d9443c01a7336-1fc575f538fsm1579345ad.77.2024.07.18.08.19.23
 (version=TLS1_2 cipher=ECDHE-ECDSA-AES128-GCM-SHA256 bits=128/128);
 Thu, 18 Jul 2024 08:19:23 -0700 (PDT)
X-Relaying-Domain: iol.unh.edu
Date: Thu, 18 Jul 2024 08:19:23 -0700 (PDT)
Message-ID: <6699327b.170a0220.7613d.5a9cSMTPIN_ADDED_MISSING@mx.google.com>
Received: from [172.21.0.7] (unknown [172.18.0.240])
 by postal.iol.unh.edu (Postfix) with ESMTP id 4C31B6052722;
 Thu, 18 Jul 2024 11:19:22 -0400 (EDT)
Subject: |PENDING| pw142503-142505 [PATCH] [v2,3/3] net/hns3: fix Rx packet w
From: dpdklab@iol.unh.edu
To: Test Report <test-report@dpdk.org>
Cc: dpdk-test-reports@iol.unh.edu
In-Reply-To: <20240718114806.577298-4-haijie1@huawei.com>
References: <20240718114806.577298-4-haijie1@huawei.com>
Content-Type: text/plain
X-BeenThere: test-report@dpdk.org
X-Mailman-Version: 2.1.29
Precedence: list
List-Id: automatic DPDK test reports <test-report.dpdk.org>
List-Unsubscribe: <https://mails.dpdk.org/options/test-report>,
 <mailto:test-report-request@dpdk.org?subject=unsubscribe>
List-Archive: <http://mails.dpdk.org/archives/test-report/>
List-Post: <mailto:test-report@dpdk.org>
List-Help: <mailto:test-report-request@dpdk.org?subject=help>
List-Subscribe: <https://mails.dpdk.org/listinfo/test-report>,
 <mailto:test-report-request@dpdk.org?subject=subscribe>
Errors-To: test-report-bounces@dpdk.org

Test-Label: iol-compile-amd64-testing
Test-Status: PENDING
http://dpdk.org/patch/142505

_Testing pending_

Submitter: Jie Hai <haijie1@huawei.com>
Date: Thursday, July 18 2024 11:48:05 
DPDK git baseline: Repo:dpdk
  Branch: master
  CommitID:3317515e9377c13e458e31a64f8987a9d1f2eaf6

142503-142505 --> testing pending

Upstream job id: Generic-VM-DPDK-Compile-Meson#28053

Test environment and result as below:

+---------------------+--------------------+----------------------+-------------------+
|     Environment     | dpdk_meson_compile | dpdk_mingw64_compile | dpdk_msvc_compile |
+=====================+====================+======================+===================+
| FreeBSD 13.3        | PASS               | SKIPPED              | SKIPPED           |
+---------------------+--------------------+----------------------+-------------------+
| Windows Server 2019 | PASS               | PEND                 | SKIPPED           |
+---------------------+--------------------+----------------------+-------------------+
| FreeBSD 14.1        | PASS               | SKIPPED              | SKIPPED           |
+---------------------+--------------------+----------------------+-------------------+
| Windows Server 2022 | PEND               | PASS                 | PEND              |
+---------------------+--------------------+----------------------+-------------------+


FreeBSD 13.3
	Kernel: 13.3-RELEASE-p1
	Compiler: clang 17.0.6

Windows Server 2019
	Kernel: 10.0.17763
	Compiler: clang 14.0 and gcc 8.1.0 (MinGW)

FreeBSD 14.1
	Kernel: 14.1
	Compiler: clang 18.1.5

Windows Server 2022
	Kernel: 10.0.20348.2031
	Compiler: clang 15.0.7, gcc 8.1.0 (MinGW), and MSVC VS 17.9

To view detailed results, visit:
https://lab.dpdk.org/results/dashboard/patchsets/30553/

UNH-IOL DPDK Community Lab

To manage your email subscriptions, visit: 
https://lab.dpdk.org/results/dashboard/preferences/subscriptions/